Workbook

Sheet Anmeldung
A2: Taekwondo Verein Tangun Brandis e.V.
A3: Verantwortlich: | B3: Thomas und Susann Berndt
B4: tangun-brandis@gmx.de
A8: 1. Partheland-Cup – Vereins-Anmeldeformular
Z9: Ja | AA9: Nein
A10: Verein | D10: Ansprechpartner/in | G10: Telefon | Y10: Zusammenfassung Anmeldung | Z10: Wert
A11: E-Mail | G11: Datum | H11: =TODAY() -> 46278 | Y11: Anzahl Starter/innen | Z11: =COUNTIF(Table_1[Nachname],"<>") -> 0
Y12: Status OK | Z12: =COUNTIF(Table_1[Status],"OK") -> 0
Y13: Status Disziplin fehlt | Z13: =COUNTIF(Table_1[Status],"Disziplin fehlt") -> 0
A14: Graue Felder müssen nicht befüllt werden! | Y14: Status Partner fehlt | Z14: =COUNTIF(Table_1[Status],"Partner fehlt") -> 0
Y15: Starter/innen mit Einzel, Paar oder Team | Z15: =COUNTIF(Table_1[Status],"OK")+COUNTIF(Table_1[Status],"Partner fehlt") -> 0
Y16: Turniertagsprüfung | Z16: siehe Blatt Turniertag-Prüfung
A17: Status | B17: Nr. | C17: Verein | D17: Nachname | E17: Vorname | F17: Geburtsdatum | G17: Altersklasse | H17: Geschlecht | I17: Graduierung | J17: Leistungsklasse | K17: Poomsae Einzel | L17: Poomsae Paar | M17: Paar: Partner/in | N17: Poomsae Team | O17: Team: Starter/in 2 | P17: Team: Starter/in 3 | Q17: Poomsae Family | R17: Family: Mitglied 2 | S17: Family: Mitglied 3 | T17: Family-Leistungsklasse | U17: Einschritt- kampf | V17: Einschrittkampf: Partner/in | W17: Bruchtest | X17: Speed-Kicking | Y17: Startgebühr | AB17: Startgebühr
A18: =IF(Table_1[[#This Row],[Nachname]]="","",IF(AND(Table_1[[#This Row],[Poomsae Einzel]]<>"Ja",Table_1[[#This Row],[Poomsae Paar]]<>"Ja",Table_1[[#This Row],[Poomsae Team]]<>"Ja"),"Disziplin fehlt",IF(OR(AND(Table_1[[#This Row],[Poomsae Paar]]="Ja",Table_1[[#This Row],[Paar: Partner/in]]=""),AND(Table_1[[#This Row],[Poomsae Team]]="Ja",OR(Table_1[[#This Row],[Team: Starter/in 2]]="",Table_1[[#This Row],[Team: Starter/in 3]]="")),AND(Table_1[[#This Row],[Poomsae Family]]="Ja",Table_1[[#This Row],[Family: Mitglied 2]]=""),AND(Table_1[[#This Row],[Einschritt- kampf]]="Ja",Table_1[[#This Row],[Einschrittkampf: Partner/in]]="")),"Partner fehlt","OK"))) | B18: 1 | C18: =IF(D18="","",$B$10) | G18: =IF(F18="","",IF(YEAR(F18)>=2019,"Klasse bis 7 Jahre / JG bis 2019",IF(YEAR(F18)>=2015,"Klasse 8-11 Jahre / JG 2018-2015",IF(YEAR(F18)>=2012,"Klasse 12-14 Jahre / JG 2014-2012",IF(YEAR(F18)>=2009,"Klasse 15-17 Jahre / JG 2011-2009",IF(YEAR(F18)>=1986,"Klasse 18-40 Jahre / JG 2008-1986","Klasse ab 41 Jahre / JG ab 1985")))))) | J18: =IF(OR(D18="",I18=""),"",IF(OR(I18="10. Kup",I18="9. Kup",I18="8. Kup"),"LK4",IF(OR(I18="7. Kup",I18="6. Kup",I18="5. Kup"),"LK3",IF(OR(I18="4. Kup",I18="3. Kup",I18="2. Kup"),"LK2","LK1")))) | T18: {=IF(Q18<>"Ja","",IF(R18="","",CHOOSE(MAX(IF(OR(I18="10. Kup",I18="9. Kup",I18="8. Kup"),4,IF(OR(I18="7. Kup",I18="6. Kup",I18="5. Kup"),3,IF(OR(I18="4. Kup",I18="3. Kup",I18="2. Kup"),2,IF(I18<>"",1,0)))),IF(OR(IF(IFERROR(VALUE(LEFT(R18,FIND(":",R18)-1)),0)=0,"",INDEX($I$18:$I$47,IFERROR(VALUE(LEFT(R18,FIND(":",R18)-1)),0)))="10. Kup",IF(IFERROR(VALUE(LEFT(R18,FIND(":",R18)-1)),0)=0,"",INDEX($I$18:$I$47,IFERROR(VALUE(LEFT(R18,FIND(":",R18)-1)),0)))="9. Kup",IF(IFERROR(VALUE(LEFT(R18,FIND(":",R18)-1)),0)=0,"",INDEX($I$18:$I$47,IFERROR(VALUE(LEFT(R18,FIND(":",R18)-1)),0)))="8. Kup"),4,IF(OR(IF(IFERROR(VALUE(LEFT(R18,FIND(":",R18)-1)),0)=0,"",INDEX($I$18:$I$47,IFERROR(VALUE(LEFT(R18,FIND(":",R18)-1)),0)))="7. Kup",IF(IFERROR(VALUE(LEFT(R18,FIND(":",R18)-1)),0)=0,"",INDEX($I$18:$I$47,IFERROR(VALUE(LEFT(R18,FIND(":",R18)-1)),0)))="6. Kup",IF(IFERROR(VALUE(LEFT(R18,FIND(":",R18)-1)),0)=0,"",INDEX($I$18:$I$47,IFERROR(VALUE(LEFT(R18,FIND(":",R18)-1)),0)))="5. Kup"),3,IF(OR(IF(IFERROR(VALUE(LEFT(R18,FIND(":",R18)-1)),0)=0,"",INDEX($I$18:$I$47,IFERROR(VALUE(LEFT(R18,FIND(":",R18)-1)),0)))="4. Kup",IF(IFERROR(VALUE(LEFT(R18,FIND(":",R18)-1)),0)=0,"",INDEX($I$18:$I$47,IFERROR(VALUE(LEFT(R18,FIND(":",R18)-1)),0)))="3. Kup",IF(IFERROR(VALUE(LEFT(R18,FIND(":",R18)-1)),0)=0,"",INDEX($I$18:$I$47,IFERROR(VALUE(LEFT(R18,FIND(":",R18)-1)),0)))="2. Kup"),2,IF(IF(IFERROR(VALUE(LEFT(R18,FIND(":",R18)-1)),0)=0,"",INDEX($I$18:$I$47,IFERROR(VALUE(LEFT(R18,FIND(":",R18)-1)),0)))<>"",1,0)))),IF(OR(IF(IFERROR(VALUE(LEFT(S18,FIND(":",S18)-1)),0)=0,"",INDEX($I$18:$I$47,IFERROR(VALUE(LEFT(S18,FIND(":",S18)-1)),0)))="10. Kup",IF(IFERROR(VALUE(LEFT(S18,FIND(":",S18)-1)),0)=0,"",INDEX($I$18:$I$47,IFERROR(VALUE(LEFT(S18,FIND(":",S18)-1)),0)))="9. Kup",IF(IFERROR(VALUE(LEFT(S18,FIND(":",S18)-1)),0)=0,"",INDEX($I$18:$I$47,IFERROR(VALUE(LEFT(S18,FIND(":",S18)-1)),0)))="8. Kup"),4,IF(OR(IF(IFERROR(VALUE(LEFT(S18,FIND(":",S18)-1)),0)=0,"",INDEX($I$18:$I$47,IFERROR(VALUE(LEFT(S18,FIND(":",S18)-1)),0)))="7. Kup",IF(IFERROR(VALUE(LEFT(S18,FIND(":",S18)-1)),0)=0,"",INDEX($I$18:$I$47,IFERROR(VALUE(LEFT(S18,FIND(":",S18)-1)),0)))="6. Kup",IF(IFERROR(VALUE(LEFT(S18,FIND(":",S18)-1)),0)=0,"",INDEX($I$18:$I$47,IFERROR(VALUE(LEFT(S18,FIND(":",S18)-1)),0)))="5. Kup"),3,IF(OR(IF(IFERROR(VALUE(LEFT(S18,FIND(":",S18)-1)),0)=0,"",INDEX($I$18:$I$47,IFERROR(VALUE(LEFT(S18,FIND(":",S18)-1)),0)))="4. Kup",IF(IFERROR(VALUE(LEFT(S18,FIND(":",S18)-1)),0)=0,"",INDEX($I$18:$I$47,IFERROR(VALUE(LEFT(S18,FIND(":",S18)-1)),0)))="3. Kup",IF(IFERROR(VALUE(LEFT(S18,FIND(":",S18)-1)),0)=0,"",INDEX($I$18:$I$47,IFERROR(VALUE(LEFT(S18,FIND(":",S18)-1)),0)))="2. Kup"),2,IF(IF(IFERROR(VALUE(LEFT(S18,FIND(":",S18)-1)),0)=0,"",INDEX($I$18:$I$47,IFERROR(VALUE(LEFT(S18,FIND(":",S18)-1)),0)))<>"",1,0))))),"LK1","LK2","LK3","LK4")))} | Y18: =IF(D18="","",25) | AB18: =IF(ISTEXT(D18),25,"")
A19: =IF(Table_1[[#This Row],[Nachname]]="","",IF(AND(Table_1[[#This Row],[Poomsae Einzel]]<>"Ja",Table_1[[#This Row],[Poomsae Paar]]<>"Ja",Table_1[[#This Row],[Poomsae Team]]<>"Ja"),"Disziplin fehlt",IF(OR(AND(Table_1[[#This Row],[Poomsae Paar]]="Ja",Table_1[[#This Row],[Paar: Partner/in]]=""),AND(Table_1[[#This Row],[Poomsae Team]]="Ja",OR(Table_1[[#This Row],[Team: Starter/in 2]]="",Table_1[[#This Row],[Team: Starter/in 3]]="")),AND(Table_1[[#This Row],[Poomsae Family]]="Ja",Table_1[[#This Row],[Family: Mitglied 2]]=""),AND(Table_1[[#This Row],[Einschritt- kampf]]="Ja",Table_1[[#This Row],[Einschrittkampf: Partner/in]]="")),"Partner fehlt","OK"))) | B19: 2 | C19: =IF(D19="","",$B$10) | G19: =IF(F19="","",IF(YEAR(F19)>=2019,"Klasse bis 7 Jahre / JG bis 2019",IF(YEAR(F19)>=2015,"Klasse 8-11 Jahre / JG 2018-2015",IF(YEAR(F19)>=2012,"Klasse 12-14 Jahre / JG 2014-2012",IF(YEAR(F19)>=2009,"Klasse 15-17 Jahre / JG 2011-2009",IF(YEAR(F19)>=1986,"Klasse 18-40 Jahre / JG 2008-1986","Klasse ab 41 Jahre / JG ab 1985")))))) | J19: =IF(OR(D19="",I19=""),"",IF(OR(I19="10. Kup",I19="9. Kup",I19="8. Kup"),"LK4",IF(OR(I19="7. Kup",I19="6. Kup",I19="5. Kup"),"LK3",IF(OR(I19="4. Kup",I19="3. Kup",I19="2. Kup"),"LK2","LK1")))) | T19: {=IF(Q19<>"Ja","",IF(R19="","",CHOOSE(MAX(IF(OR(I19="10. Kup",I19="9. Kup",I19="8. Kup"),4,IF(OR(I19="7. Kup",I19="6. Kup",I19="5. Kup"),3,IF(OR(I19="4. Kup",I19="3. Kup",I19="2. Kup"),2,IF(I19<>"",1,0)))),IF(OR(IF(IFERROR(VALUE(LEFT(R19,FIND(":",R19)-1)),0)=0,"",INDEX($I$18:$I$47,IFERROR(VALUE(LEFT(R19,FIND(":",R19)-1)),0)))="10. Kup",IF(IFERROR(VALUE(LEFT(R19,FIND(":",R19)-1)),0)=0,"",INDEX($I$18:$I$47,IFERROR(VALUE(LEFT(R19,FIND(":",R19)-1)),0)))="9. Kup",IF(IFERROR(VALUE(LEFT(R19,FIND(":",R19)-1)),0)=0,"",INDEX($I$18:$I$47,IFERROR(VALUE(LEFT(R19,FIND(":",R19)-1)),0)))="8. Kup"),4,IF(OR(IF(IFERROR(VALUE(LEFT(R19,FIND(":",R19)-1)),0)=0,"",INDEX($I$18:$I$47,IFERROR(VALUE(LEFT(R19,FIND(":",R19)-1)),0)))="7. Kup",IF(IFERROR(VALUE(LEFT(R19,FIND(":",R19)-1)),0)=0,"",INDEX($I$18:$I$47,IFERROR(VALUE(LEFT(R19,FIND(":",R19)-1)),0)))="6. Kup",IF(IFERROR(VALUE(LEFT(R19,FIND(":",R19)-1)),0)=0,"",INDEX($I$18:$I$47,IFERROR(VALUE(LEFT(R19,FIND(":",R19)-1)),0)))="5. Kup"),3,IF(OR(IF(IFERROR(VALUE(LEFT(R19,FIND(":",R19)-1)),0)=0,"",INDEX($I$18:$I$47,IFERROR(VALUE(LEFT(R19,FIND(":",R19)-1)),0)))="4. Kup",IF(IFERROR(VALUE(LEFT(R19,FIND(":",R19)-1)),0)=0,"",INDEX($I$18:$I$47,IFERROR(VALUE(LEFT(R19,FIND(":",R19)-1)),0)))="3. Kup",IF(IFERROR(VALUE(LEFT(R19,FIND(":",R19)-1)),0)=0,"",INDEX($I$18:$I$47,IFERROR(VALUE(LEFT(R19,FIND(":",R19)-1)),0)))="2. Kup"),2,IF(IF(IFERROR(VALUE(LEFT(R19,FIND(":",R19)-1)),0)=0,"",INDEX($I$18:$I$47,IFERROR(VALUE(LEFT(R19,FIND(":",R19)-1)),0)))<>"",1,0)))),IF(OR(IF(IFERROR(VALUE(LEFT(S19,FIND(":",S19)-1)),0)=0,"",INDEX($I$18:$I$47,IFERROR(VALUE(LEFT(S19,FIND(":",S19)-1)),0)))="10. Kup",IF(IFERROR(VALUE(LEFT(S19,FIND(":",S19)-1)),0)=0,"",INDEX($I$18:$I$47,IFERROR(VALUE(LEFT(S19,FIND(":",S19)-1)),0)))="9. Kup",IF(IFERROR(VALUE(LEFT(S19,FIND(":",S19)-1)),0)=0,"",INDEX($I$18:$I$47,IFERROR(VALUE(LEFT(S19,FIND(":",S19)-1)),0)))="8. Kup"),4,IF(OR(IF(IFERROR(VALUE(LEFT(S19,FIND(":",S19)-1)),0)=0,"",INDEX($I$18:$I$47,IFERROR(VALUE(LEFT(S19,FIND(":",S19)-1)),0)))="7. Kup",IF(IFERROR(VALUE(LEFT(S19,FIND(":",S19)-1)),0)=0,"",INDEX($I$18:$I$47,IFERROR(VALUE(LEFT(S19,FIND(":",S19)-1)),0)))="6. Kup",IF(IFERROR(VALUE(LEFT(S19,FIND(":",S19)-1)),0)=0,"",INDEX($I$18:$I$47,IFERROR(VALUE(LEFT(S19,FIND(":",S19)-1)),0)))="5. Kup"),3,IF(OR(IF(IFERROR(VALUE(LEFT(S19,FIND(":",S19)-1)),0)=0,"",INDEX($I$18:$I$47,IFERROR(VALUE(LEFT(S19,FIND(":",S19)-1)),0)))="4. Kup",IF(IFERROR(VALUE(LEFT(S19,FIND(":",S19)-1)),0)=0,"",INDEX($I$18:$I$47,IFERROR(VALUE(LEFT(S19,FIND(":",S19)-1)),0)))="3. Kup",IF(IFERROR(VALUE(LEFT(S19,FIND(":",S19)-1)),0)=0,"",INDEX($I$18:$I$47,IFERROR(VALUE(LEFT(S19,FIND(":",S19)-1)),0)))="2. Kup"),2,IF(IF(IFERROR(VALUE(LEFT(S19,FIND(":",S19)-1)),0)=0,"",INDEX($I$18:$I$47,IFERROR(VALUE(LEFT(S19,FIND(":",S19)-1)),0)))<>"",1,0))))),"LK1","LK2","LK3","LK4")))} | Y19: =IF(D19="","",25) | AB19: =IF(ISTEXT(D19),25,"")
A20: =IF(Table_1[[#This Row],[Nachname]]="","",IF(AND(Table_1[[#This Row],[Poomsae Einzel]]<>"Ja",Table_1[[#This Row],[Poomsae Paar]]<>"Ja",Table_1[[#This Row],[Poomsae Team]]<>"Ja"),"Disziplin fehlt",IF(OR(AND(Table_1[[#This Row],[Poomsae Paar]]="Ja",Table_1[[#This Row],[Paar: Partner/in]]=""),AND(Table_1[[#This Row],[Poomsae Team]]="Ja",OR(Table_1[[#This Row],[Team: Starter/in 2]]="",Table_1[[#This Row],[Team: Starter/in 3]]="")),AND(Table_1[[#This Row],[Poomsae Family]]="Ja",Table_1[[#This Row],[Family: Mitglied 2]]=""),AND(Table_1[[#This Row],[Einschritt- kampf]]="Ja",Table_1[[#This Row],[Einschrittkampf: Partner/in]]="")),"Partner fehlt","OK"))) | B20: 3 | C20: =IF(D20="","",$B$10) | G20: =IF(F20="","",IF(YEAR(F20)>=2019,"Klasse bis 7 Jahre / JG bis 2019",IF(YEAR(F20)>=2015,"Klasse 8-11 Jahre / JG 2018-2015",IF(YEAR(F20)>=2012,"Klasse 12-14 Jahre / JG 2014-2012",IF(YEAR(F20)>=2009,"Klasse 15-17 Jahre / JG 2011-2009",IF(YEAR(F20)>=1986,"Klasse 18-40 Jahre / JG 2008-1986","Klasse ab 41 Jahre / JG ab 1985")))))) | J20: =IF(OR(D20="",I20=""),"",IF(OR(I20="10. Kup",I20="9. Kup",I20="8. Kup"),"LK4",IF(OR(I20="7. Kup",I20="6. Kup",I20="5. Kup"),"LK3",IF(OR(I20="4. Kup",I20="3. Kup",I20="2. Kup"),"LK2","LK1")))) | T20: {=IF(Q20<>"Ja","",IF(R20="","",CHOOSE(MAX(IF(OR(I20="10. Kup",I20="9. Kup",I20="8. Kup"),4,IF(OR(I20="7. Kup",I20="6. Kup",I20="5. Kup"),3,IF(OR(I20="4. Kup",I20="3. Kup",I20="2. Kup"),2,IF(I20<>"",1,0)))),IF(OR(IF(IFERROR(VALUE(LEFT(R20,FIND(":",R20)-1)),0)=0,"",INDEX($I$18:$I$47,IFERROR(VALUE(LEFT(R20,FIND(":",R20)-1)),0)))="10. Kup",IF(IFERROR(VALUE(LEFT(R20,FIND(":",R20)-1)),0)=0,"",INDEX($I$18:$I$47,IFERROR(VALUE(LEFT(R20,FIND(":",R20)-1)),0)))="9. Kup",IF(IFERROR(VALUE(LEFT(R20,FIND(":",R20)-1)),0)=0,"",INDEX($I$18:$I$47,IFERROR(VALUE(LEFT(R20,FIND(":",R20)-1)),0)))="8. Kup"),4,IF(OR(IF(IFERROR(VALUE(LEFT(R20,FIND(":",R20)-1)),0)=0,"",INDEX($I$18:$I$47,IFERROR(VALUE(LEFT(R20,FIND(":",R20)-1)),0)))="7. Kup",IF(IFERROR(VALUE(LEFT(R20,FIND(":",R20)-1)),0)=0,"",INDEX($I$18:$I$47,IFERROR(VALUE(LEFT(R20,FIND(":",R20)-1)),0)))="6. Kup",IF(IFERROR(VALUE(LEFT(R20,FIND(":",R20)-1)),0)=0,"",INDEX($I$18:$I$47,IFERROR(VALUE(LEFT(R20,FIND(":",R20)-1)),0)))="5. Kup"),3,IF(OR(IF(IFERROR(VALUE(LEFT(R20,FIND(":",R20)-1)),0)=0,"",INDEX($I$18:$I$47,IFERROR(VALUE(LEFT(R20,FIND(":",R20)-1)),0)))="4. Kup",IF(IFERROR(VALUE(LEFT(R20,FIND(":",R20)-1)),0)=0,"",INDEX($I$18:$I$47,IFERROR(VALUE(LEFT(R20,FIND(":",R20)-1)),0)))="3. Kup",IF(IFERROR(VALUE(LEFT(R20,FIND(":",R20)-1)),0)=0,"",INDEX($I$18:$I$47,IFERROR(VALUE(LEFT(R20,FIND(":",R20)-1)),0)))="2. Kup"),2,IF(IF(IFERROR(VALUE(LEFT(R20,FIND(":",R20)-1)),0)=0,"",INDEX($I$18:$I$47,IFERROR(VALUE(LEFT(R20,FIND(":",R20)-1)),0)))<>"",1,0)))),IF(OR(IF(IFERROR(VALUE(LEFT(S20,FIND(":",S20)-1)),0)=0,"",INDEX($I$18:$I$47,IFERROR(VALUE(LEFT(S20,FIND(":",S20)-1)),0)))="10. Kup",IF(IFERROR(VALUE(LEFT(S20,FIND(":",S20)-1)),0)=0,"",INDEX($I$18:$I$47,IFERROR(VALUE(LEFT(S20,FIND(":",S20)-1)),0)))="9. Kup",IF(IFERROR(VALUE(LEFT(S20,FIND(":",S20)-1)),0)=0,"",INDEX($I$18:$I$47,IFERROR(VALUE(LEFT(S20,FIND(":",S20)-1)),0)))="8. Kup"),4,IF(OR(IF(IFERROR(VALUE(LEFT(S20,FIND(":",S20)-1)),0)=0,"",INDEX($I$18:$I$47,IFERROR(VALUE(LEFT(S20,FIND(":",S20)-1)),0)))="7. Kup",IF(IFERROR(VALUE(LEFT(S20,FIND(":",S20)-1)),0)=0,"",INDEX($I$18:$I$47,IFERROR(VALUE(LEFT(S20,FIND(":",S20)-1)),0)))="6. Kup",IF(IFERROR(VALUE(LEFT(S20,FIND(":",S20)-1)),0)=0,"",INDEX($I$18:$I$47,IFERROR(VALUE(LEFT(S20,FIND(":",S20)-1)),0)))="5. Kup"),3,IF(OR(IF(IFERROR(VALUE(LEFT(S20,FIND(":",S20)-1)),0)=0,"",INDEX($I$18:$I$47,IFERROR(VALUE(LEFT(S20,FIND(":",S20)-1)),0)))="4. Kup",IF(IFERROR(VALUE(LEFT(S20,FIND(":",S20)-1)),0)=0,"",INDEX($I$18:$I$47,IFERROR(VALUE(LEFT(S20,FIND(":",S20)-1)),0)))="3. Kup",IF(IFERROR(VALUE(LEFT(S20,FIND(":",S20)-1)),0)=0,"",INDEX($I$18:$I$47,IFERROR(VALUE(LEFT(S20,FIND(":",S20)-1)),0)))="2. Kup"),2,IF(IF(IFERROR(VALUE(LEFT(S20,FIND(":",S20)-1)),0)=0,"",INDEX($I$18:$I$47,IFERROR(VALUE(LEFT(S20,FIND(":",S20)-1)),0)))<>"",1,0))))),"LK1","LK2","LK3","LK4")))} | Y20: =IF(D20="","",25) | AB20: =IF(ISTEXT(D20),25,"")
A21: =IF(Table_1[[#This Row],[Nachname]]="","",IF(AND(Table_1[[#This Row],[Poomsae Einzel]]<>"Ja",Table_1[[#This Row],[Poomsae Paar]]<>"Ja",Table_1[[#This Row],[Poomsae Team]]<>"Ja"),"Disziplin fehlt",IF(OR(AND(Table_1[[#This Row],[Poomsae Paar]]="Ja",Table_1[[#This Row],[Paar: Partner/in]]=""),AND(Table_1[[#This Row],[Poomsae Team]]="Ja",OR(Table_1[[#This Row],[Team: Starter/in 2]]="",Table_1[[#This Row],[Team: Starter/in 3]]="")),AND(Table_1[[#This Row],[Poomsae Family]]="Ja",Table_1[[#This Row],[Family: Mitglied 2]]=""),AND(Table_1[[#This Row],[Einschritt- kampf]]="Ja",Table_1[[#This Row],[Einschrittkampf: Partner/in]]="")),"Partner fehlt","OK"))) | B21: 4 | C21: =IF(D21="","",$B$10) | G21: =IF(F21="","",IF(YEAR(F21)>=2019,"Klasse bis 7 Jahre / JG bis 2019",IF(YEAR(F21)>=2015,"Klasse 8-11 Jahre / JG 2018-2015",IF(YEAR(F21)>=2012,"Klasse 12-14 Jahre / JG 2014-2012",IF(YEAR(F21)>=2009,"Klasse 15-17 Jahre / JG 2011-2009",IF(YEAR(F21)>=1986,"Klasse 18-40 Jahre / JG 2008-1986","Klasse ab 41 Jahre / JG ab 1985")))))) | J21: =IF(OR(D21="",I21=""),"",IF(OR(I21="10. Kup",I21="9. Kup",I21="8. Kup"),"LK4",IF(OR(I21="7. Kup",I21="6. Kup",I21="5. Kup"),"LK3",IF(OR(I21="4. Kup",I21="3. Kup",I21="2. Kup"),"LK2","LK1")))) | T21: {=IF(Q21<>"Ja","",IF(R21="","",CHOOSE(MAX(IF(OR(I21="10. Kup",I21="9. Kup",I21="8. Kup"),4,IF(OR(I21="7. Kup",I21="6. Kup",I21="5. Kup"),3,IF(OR(I21="4. Kup",I21="3. Kup",I21="2. Kup"),2,IF(I21<>"",1,0)))),IF(OR(IF(IFERROR(VALUE(LEFT(R21,FIND(":",R21)-1)),0)=0,"",INDEX($I$18:$I$47,IFERROR(VALUE(LEFT(R21,FIND(":",R21)-1)),0)))="10. Kup",IF(IFERROR(VALUE(LEFT(R21,FIND(":",R21)-1)),0)=0,"",INDEX($I$18:$I$47,IFERROR(VALUE(LEFT(R21,FIND(":",R21)-1)),0)))="9. Kup",IF(IFERROR(VALUE(LEFT(R21,FIND(":",R21)-1)),0)=0,"",INDEX($I$18:$I$47,IFERROR(VALUE(LEFT(R21,FIND(":",R21)-1)),0)))="8. Kup"),4,IF(OR(IF(IFERROR(VALUE(LEFT(R21,FIND(":",R21)-1)),0)=0,"",INDEX($I$18:$I$47,IFERROR(VALUE(LEFT(R21,FIND(":",R21)-1)),0)))="7. Kup",IF(IFERROR(VALUE(LEFT(R21,FIND(":",R21)-1)),0)=0,"",INDEX($I$18:$I$47,IFERROR(VALUE(LEFT(R21,FIND(":",R21)-1)),0)))="6. Kup",IF(IFERROR(VALUE(LEFT(R21,FIND(":",R21)-1)),0)=0,"",INDEX($I$18:$I$47,IFERROR(VALUE(LEFT(R21,FIND(":",R21)-1)),0)))="5. Kup"),3,IF(OR(IF(IFERROR(VALUE(LEFT(R21,FIND(":",R21)-1)),0)=0,"",INDEX($I$18:$I$47,IFERROR(VALUE(LEFT(R21,FIND(":",R21)-1)),0)))="4. Kup",IF(IFERROR(VALUE(LEFT(R21,FIND(":",R21)-1)),0)=0,"",INDEX($I$18:$I$47,IFERROR(VALUE(LEFT(R21,FIND(":",R21)-1)),0)))="3. Kup",IF(IFERROR(VALUE(LEFT(R21,FIND(":",R21)-1)),0)=0,"",INDEX($I$18:$I$47,IFERROR(VALUE(LEFT(R21,FIND(":",R21)-1)),0)))="2. Kup"),2,IF(IF(IFERROR(VALUE(LEFT(R21,FIND(":",R21)-1)),0)=0,"",INDEX($I$18:$I$47,IFERROR(VALUE(LEFT(R21,FIND(":",R21)-1)),0)))<>"",1,0)))),IF(OR(IF(IFERROR(VALUE(LEFT(S21,FIND(":",S21)-1)),0)=0,"",INDEX($I$18:$I$47,IFERROR(VALUE(LEFT(S21,FIND(":",S21)-1)),0)))="10. Kup",IF(IFERROR(VALUE(LEFT(S21,FIND(":",S21)-1)),0)=0,"",INDEX($I$18:$I$47,IFERROR(VALUE(LEFT(S21,FIND(":",S21)-1)),0)))="9. Kup",IF(IFERROR(VALUE(LEFT(S21,FIND(":",S21)-1)),0)=0,"",INDEX($I$18:$I$47,IFERROR(VALUE(LEFT(S21,FIND(":",S21)-1)),0)))="8. Kup"),4,IF(OR(IF(IFERROR(VALUE(LEFT(S21,FIND(":",S21)-1)),0)=0,"",INDEX($I$18:$I$47,IFERROR(VALUE(LEFT(S21,FIND(":",S21)-1)),0)))="7. Kup",IF(IFERROR(VALUE(LEFT(S21,FIND(":",S21)-1)),0)=0,"",INDEX($I$18:$I$47,IFERROR(VALUE(LEFT(S21,FIND(":",S21)-1)),0)))="6. Kup",IF(IFERROR(VALUE(LEFT(S21,FIND(":",S21)-1)),0)=0,"",INDEX($I$18:$I$47,IFERROR(VALUE(LEFT(S21,FIND(":",S21)-1)),0)))="5. Kup"),3,IF(OR(IF(IFERROR(VALUE(LEFT(S21,FIND(":",S21)-1)),0)=0,"",INDEX($I$18:$I$47,IFERROR(VALUE(LEFT(S21,FIND(":",S21)-1)),0)))="4. Kup",IF(IFERROR(VALUE(LEFT(S21,FIND(":",S21)-1)),0)=0,"",INDEX($I$18:$I$47,IFERROR(VALUE(LEFT(S21,FIND(":",S21)-1)),0)))="3. Kup",IF(IFERROR(VALUE(LEFT(S21,FIND(":",S21)-1)),0)=0,"",INDEX($I$18:$I$47,IFERROR(VALUE(LEFT(S21,FIND(":",S21)-1)),0)))="2. Kup"),2,IF(IF(IFERROR(VALUE(LEFT(S21,FIND(":",S21)-1)),0)=0,"",INDEX($I$18:$I$47,IFERROR(VALUE(LEFT(S21,FIND(":",S21)-1)),0)))<>"",1,0))))),"LK1","LK2","LK3","LK4")))} | Y21: =IF(D21="","",25) | AB21: =IF(ISTEXT(D21),25,"")
A22: =IF(Table_1[[#This Row],[Nachname]]="","",IF(AND(Table_1[[#This Row],[Poomsae Einzel]]<>"Ja",Table_1[[#This Row],[Poomsae Paar]]<>"Ja",Table_1[[#This Row],[Poomsae Team]]<>"Ja"),"Disziplin fehlt",IF(OR(AND(Table_1[[#This Row],[Poomsae Paar]]="Ja",Table_1[[#This Row],[Paar: Partner/in]]=""),AND(Table_1[[#This Row],[Poomsae Team]]="Ja",OR(Table_1[[#This Row],[Team: Starter/in 2]]="",Table_1[[#This Row],[Team: Starter/in 3]]="")),AND(Table_1[[#This Row],[Poomsae Family]]="Ja",Table_1[[#This Row],[Family: Mitglied 2]]=""),AND(Table_1[[#This Row],[Einschritt- kampf]]="Ja",Table_1[[#This Row],[Einschrittkampf: Partner/in]]="")),"Partner fehlt","OK"))) | B22: 5 | C22: =IF(D22="","",$B$10) | G22: =IF(F22="","",IF(YEAR(F22)>=2019,"Klasse bis 7 Jahre / JG bis 2019",IF(YEAR(F22)>=2015,"Klasse 8-11 Jahre / JG 2018-2015",IF(YEAR(F22)>=2012,"Klasse 12-14 Jahre / JG 2014-2012",IF(YEAR(F22)>=2009,"Klasse 15-17 Jahre / JG 2011-2009",IF(YEAR(F22)>=1986,"Klasse 18-40 Jahre / JG 2008-1986","Klasse ab 41 Jahre / JG ab 1985")))))) | J22: =IF(OR(D22="",I22=""),"",IF(OR(I22="10. Kup",I22="9. Kup",I22="8. Kup"),"LK4",IF(OR(I22="7. Kup",I22="6. Kup",I22="5. Kup"),"LK3",IF(OR(I22="4. Kup",I22="3. Kup",I22="2. Kup"),"LK2","LK1")))) | T22: {=IF(Q22<>"Ja","",IF(R22="","",CHOOSE(MAX(IF(OR(I22="10. Kup",I22="9. Kup",I22="8. Kup"),4,IF(OR(I22="7. Kup",I22="6. Kup",I22="5. Kup"),3,IF(OR(I22="4. Kup",I22="3. Kup",I22="2. Kup"),2,IF(I22<>"",1,0)))),IF(OR(IF(IFERROR(VALUE(LEFT(R22,FIND(":",R22)-1)),0)=0,"",INDEX($I$18:$I$47,IFERROR(VALUE(LEFT(R22,FIND(":",R22)-1)),0)))="10. Kup",IF(IFERROR(VALUE(LEFT(R22,FIND(":",R22)-1)),0)=0,"",INDEX($I$18:$I$47,IFERROR(VALUE(LEFT(R22,FIND(":",R22)-1)),0)))="9. Kup",IF(IFERROR(VALUE(LEFT(R22,FIND(":",R22)-1)),0)=0,"",INDEX($I$18:$I$47,IFERROR(VALUE(LEFT(R22,FIND(":",R22)-1)),0)))="8. Kup"),4,IF(OR(IF(IFERROR(VALUE(LEFT(R22,FIND(":",R22)-1)),0)=0,"",INDEX($I$18:$I$47,IFERROR(VALUE(LEFT(R22,FIND(":",R22)-1)),0)))="7. Kup",IF(IFERROR(VALUE(LEFT(R22,FIND(":",R22)-1)),0)=0,"",INDEX($I$18:$I$47,IFERROR(VALUE(LEFT(R22,FIND(":",R22)-1)),0)))="6. Kup",IF(IFERROR(VALUE(LEFT(R22,FIND(":",R22)-1)),0)=0,"",INDEX($I$18:$I$47,IFERROR(VALUE(LEFT(R22,FIND(":",R22)-1)),0)))="5. Kup"),3,IF(OR(IF(IFERROR(VALUE(LEFT(R22,FIND(":",R22)-1)),0)=0,"",INDEX($I$18:$I$47,IFERROR(VALUE(LEFT(R22,FIND(":",R22)-1)),0)))="4. Kup",IF(IFERROR(VALUE(LEFT(R22,FIND(":",R22)-1)),0)=0,"",INDEX($I$18:$I$47,IFERROR(VALUE(LEFT(R22,FIND(":",R22)-1)),0)))="3. Kup",IF(IFERROR(VALUE(LEFT(R22,FIND(":",R22)-1)),0)=0,"",INDEX($I$18:$I$47,IFERROR(VALUE(LEFT(R22,FIND(":",R22)-1)),0)))="2. Kup"),2,IF(IF(IFERROR(VALUE(LEFT(R22,FIND(":",R22)-1)),0)=0,"",INDEX($I$18:$I$47,IFERROR(VALUE(LEFT(R22,FIND(":",R22)-1)),0)))<>"",1,0)))),IF(OR(IF(IFERROR(VALUE(LEFT(S22,FIND(":",S22)-1)),0)=0,"",INDEX($I$18:$I$47,IFERROR(VALUE(LEFT(S22,FIND(":",S22)-1)),0)))="10. Kup",IF(IFERROR(VALUE(LEFT(S22,FIND(":",S22)-1)),0)=0,"",INDEX($I$18:$I$47,IFERROR(VALUE(LEFT(S22,FIND(":",S22)-1)),0)))="9. Kup",IF(IFERROR(VALUE(LEFT(S22,FIND(":",S22)-1)),0)=0,"",INDEX($I$18:$I$47,IFERROR(VALUE(LEFT(S22,FIND(":",S22)-1)),0)))="8. Kup"),4,IF(OR(IF(IFERROR(VALUE(LEFT(S22,FIND(":",S22)-1)),0)=0,"",INDEX($I$18:$I$47,IFERROR(VALUE(LEFT(S22,FIND(":",S22)-1)),0)))="7. Kup",IF(IFERROR(VALUE(LEFT(S22,FIND(":",S22)-1)),0)=0,"",INDEX($I$18:$I$47,IFERROR(VALUE(LEFT(S22,FIND(":",S22)-1)),0)))="6. Kup",IF(IFERROR(VALUE(LEFT(S22,FIND(":",S22)-1)),0)=0,"",INDEX($I$18:$I$47,IFERROR(VALUE(LEFT(S22,FIND(":",S22)-1)),0)))="5. Kup"),3,IF(OR(IF(IFERROR(VALUE(LEFT(S22,FIND(":",S22)-1)),0)=0,"",INDEX($I$18:$I$47,IFERROR(VALUE(LEFT(S22,FIND(":",S22)-1)),0)))="4. Kup",IF(IFERROR(VALUE(LEFT(S22,FIND(":",S22)-1)),0)=0,"",INDEX($I$18:$I$47,IFERROR(VALUE(LEFT(S22,FIND(":",S22)-1)),0)))="3. Kup",IF(IFERROR(VALUE(LEFT(S22,FIND(":",S22)-1)),0)=0,"",INDEX($I$18:$I$47,IFERROR(VALUE(LEFT(S22,FIND(":",S22)-1)),0)))="2. Kup"),2,IF(IF(IFERROR(VALUE(LEFT(S22,FIND(":",S22)-1)),0)=0,"",INDEX($I$18:$I$47,IFERROR(VALUE(LEFT(S22,FIND(":",S22)-1)),0)))<>"",1,0))))),"LK1","LK2","LK3","LK4")))} | Y22: =IF(D22="","",25) | AB22: =IF(ISTEXT(D22),25,"")
A23: =IF(Table_1[[#This Row],[Nachname]]="","",IF(AND(Table_1[[#This Row],[Poomsae Einzel]]<>"Ja",Table_1[[#This Row],[Poomsae Paar]]<>"Ja",Table_1[[#This Row],[Poomsae Team]]<>"Ja"),"Disziplin fehlt",IF(OR(AND(Table_1[[#This Row],[Poomsae Paar]]="Ja",Table_1[[#This Row],[Paar: Partner/in]]=""),AND(Table_1[[#This Row],[Poomsae Team]]="Ja",OR(Table_1[[#This Row],[Team: Starter/in 2]]="",Table_1[[#This Row],[Team: Starter/in 3]]="")),AND(Table_1[[#This Row],[Poomsae Family]]="Ja",Table_1[[#This Row],[Family: Mitglied 2]]=""),AND(Table_1[[#This Row],[Einschritt- kampf]]="Ja",Table_1[[#This Row],[Einschrittkampf: Partner/in]]="")),"Partner fehlt","OK"))) | B23: 6 | C23: =IF(D23="","",$B$10) | G23: =IF(F23="","",IF(YEAR(F23)>=2019,"Klasse bis 7 Jahre / JG bis 2019",IF(YEAR(F23)>=2015,"Klasse 8-11 Jahre / JG 2018-2015",IF(YEAR(F23)>=2012,"Klasse 12-14 Jahre / JG 2014-2012",IF(YEAR(F23)>=2009,"Klasse 15-17 Jahre / JG 2011-2009",IF(YEAR(F23)>=1986,"Klasse 18-40 Jahre / JG 2008-1986","Klasse ab 41 Jahre / JG ab 1985")))))) | J23: =IF(OR(D23="",I23=""),"",IF(OR(I23="10. Kup",I23="9. Kup",I23="8. Kup"),"LK4",IF(OR(I23="7. Kup",I23="6. Kup",I23="5. Kup"),"LK3",IF(OR(I23="4. Kup",I23="3. Kup",I23="2. Kup"),"LK2","LK1")))) | T23: {=IF(Q23<>"Ja","",IF(R23="","",CHOOSE(MAX(IF(OR(I23="10. Kup",I23="9. Kup",I23="8. Kup"),4,IF(OR(I23="7. Kup",I23="6. Kup",I23="5. Kup"),3,IF(OR(I23="4. Kup",I23="3. Kup",I23="2. Kup"),2,IF(I23<>"",1,0)))),IF(OR(IF(IFERROR(VALUE(LEFT(R23,FIND(":",R23)-1)),0)=0,"",INDEX($I$18:$I$47,IFERROR(VALUE(LEFT(R23,FIND(":",R23)-1)),0)))="10. Kup",IF(IFERROR(VALUE(LEFT(R23,FIND(":",R23)-1)),0)=0,"",INDEX($I$18:$I$47,IFERROR(VALUE(LEFT(R23,FIND(":",R23)-1)),0)))="9. Kup",IF(IFERROR(VALUE(LEFT(R23,FIND(":",R23)-1)),0)=0,"",INDEX($I$18:$I$47,IFERROR(VALUE(LEFT(R23,FIND(":",R23)-1)),0)))="8. Kup"),4,IF(OR(IF(IFERROR(VALUE(LEFT(R23,FIND(":",R23)-1)),0)=0,"",INDEX($I$18:$I$47,IFERROR(VALUE(LEFT(R23,FIND(":",R23)-1)),0)))="7. Kup",IF(IFERROR(VALUE(LEFT(R23,FIND(":",R23)-1)),0)=0,"",INDEX($I$18:$I$47,IFERROR(VALUE(LEFT(R23,FIND(":",R23)-1)),0)))="6. Kup",IF(IFERROR(VALUE(LEFT(R23,FIND(":",R23)-1)),0)=0,"",INDEX($I$18:$I$47,IFERROR(VALUE(LEFT(R23,FIND(":",R23)-1)),0)))="5. Kup"),3,IF(OR(IF(IFERROR(VALUE(LEFT(R23,FIND(":",R23)-1)),0)=0,"",INDEX($I$18:$I$47,IFERROR(VALUE(LEFT(R23,FIND(":",R23)-1)),0)))="4. Kup",IF(IFERROR(VALUE(LEFT(R23,FIND(":",R23)-1)),0)=0,"",INDEX($I$18:$I$47,IFERROR(VALUE(LEFT(R23,FIND(":",R23)-1)),0)))="3. Kup",IF(IFERROR(VALUE(LEFT(R23,FIND(":",R23)-1)),0)=0,"",INDEX($I$18:$I$47,IFERROR(VALUE(LEFT(R23,FIND(":",R23)-1)),0)))="2. Kup"),2,IF(IF(IFERROR(VALUE(LEFT(R23,FIND(":",R23)-1)),0)=0,"",INDEX($I$18:$I$47,IFERROR(VALUE(LEFT(R23,FIND(":",R23)-1)),0)))<>"",1,0)))),IF(OR(IF(IFERROR(VALUE(LEFT(S23,FIND(":",S23)-1)),0)=0,"",INDEX($I$18:$I$47,IFERROR(VALUE(LEFT(S23,FIND(":",S23)-1)),0)))="10. Kup",IF(IFERROR(VALUE(LEFT(S23,FIND(":",S23)-1)),0)=0,"",INDEX($I$18:$I$47,IFERROR(VALUE(LEFT(S23,FIND(":",S23)-1)),0)))="9. Kup",IF(IFERROR(VALUE(LEFT(S23,FIND(":",S23)-1)),0)=0,"",INDEX($I$18:$I$47,IFERROR(VALUE(LEFT(S23,FIND(":",S23)-1)),0)))="8. Kup"),4,IF(OR(IF(IFERROR(VALUE(LEFT(S23,FIND(":",S23)-1)),0)=0,"",INDEX($I$18:$I$47,IFERROR(VALUE(LEFT(S23,FIND(":",S23)-1)),0)))="7. Kup",IF(IFERROR(VALUE(LEFT(S23,FIND(":",S23)-1)),0)=0,"",INDEX($I$18:$I$47,IFERROR(VALUE(LEFT(S23,FIND(":",S23)-1)),0)))="6. Kup",IF(IFERROR(VALUE(LEFT(S23,FIND(":",S23)-1)),0)=0,"",INDEX($I$18:$I$47,IFERROR(VALUE(LEFT(S23,FIND(":",S23)-1)),0)))="5. Kup"),3,IF(OR(IF(IFERROR(VALUE(LEFT(S23,FIND(":",S23)-1)),0)=0,"",INDEX($I$18:$I$47,IFERROR(VALUE(LEFT(S23,FIND(":",S23)-1)),0)))="4. Kup",IF(IFERROR(VALUE(LEFT(S23,FIND(":",S23)-1)),0)=0,"",INDEX($I$18:$I$47,IFERROR(VALUE(LEFT(S23,FIND(":",S23)-1)),0)))="3. Kup",IF(IFERROR(VALUE(LEFT(S23,FIND(":",S23)-1)),0)=0,"",INDEX($I$18:$I$47,IFERROR(VALUE(LEFT(S23,FIND(":",S23)-1)),0)))="2. Kup"),2,IF(IF(IFERROR(VALUE(LEFT(S23,FIND(":",S23)-1)),0)=0,"",INDEX($I$18:$I$47,IFERROR(VALUE(LEFT(S23,FIND(":",S23)-1)),0)))<>"",1,0))))),"LK1","LK2","LK3","LK4")))} | Y23: =IF(D23="","",25) | AB23: =IF(ISTEXT(D23),25,"")
A24: =IF(Table_1[[#This Row],[Nachname]]="","",IF(AND(Table_1[[#This Row],[Poomsae Einzel]]<>"Ja",Table_1[[#This Row],[Poomsae Paar]]<>"Ja",Table_1[[#This Row],[Poomsae Team]]<>"Ja"),"Disziplin fehlt",IF(OR(AND(Table_1[[#This Row],[Poomsae Paar]]="Ja",Table_1[[#This Row],[Paar: Partner/in]]=""),AND(Table_1[[#This Row],[Poomsae Team]]="Ja",OR(Table_1[[#This Row],[Team: Starter/in 2]]="",Table_1[[#This Row],[Team: Starter/in 3]]="")),AND(Table_1[[#This Row],[Poomsae Family]]="Ja",Table_1[[#This Row],[Family: Mitglied 2]]=""),AND(Table_1[[#This Row],[Einschritt- kampf]]="Ja",Table_1[[#This Row],[Einschrittkampf: Partner/in]]="")),"Partner fehlt","OK"))) | B24: 7 | C24: =IF(D24="","",$B$10) | G24: =IF(F24="","",IF(YEAR(F24)>=2019,"Klasse bis 7 Jahre / JG bis 2019",IF(YEAR(F24)>=2015,"Klasse 8-11 Jahre / JG 2018-2015",IF(YEAR(F24)>=2012,"Klasse 12-14 Jahre / JG 2014-2012",IF(YEAR(F24)>=2009,"Klasse 15-17 Jahre / JG 2011-2009",IF(YEAR(F24)>=1986,"Klasse 18-40 Jahre / JG 2008-1986","Klasse ab 41 Jahre / JG ab 1985")))))) | J24: =IF(OR(D24="",I24=""),"",IF(OR(I24="10. Kup",I24="9. Kup",I24="8. Kup"),"LK4",IF(OR(I24="7. Kup",I24="6. Kup",I24="5. Kup"),"LK3",IF(OR(I24="4. Kup",I24="3. Kup",I24="2. Kup"),"LK2","LK1")))) | T24: {=IF(Q24<>"Ja","",IF(R24="","",CHOOSE(MAX(IF(OR(I24="10. Kup",I24="9. Kup",I24="8. Kup"),4,IF(OR(I24="7. Kup",I24="6. Kup",I24="5. Kup"),3,IF(OR(I24="4. Kup",I24="3. Kup",I24="2. Kup"),2,IF(I24<>"",1,0)))),IF(OR(IF(IFERROR(VALUE(LEFT(R24,FIND(":",R24)-1)),0)=0,"",INDEX($I$18:$I$47,IFERROR(VALUE(LEFT(R24,FIND(":",R24)-1)),0)))="10. Kup",IF(IFERROR(VALUE(LEFT(R24,FIND(":",R24)-1)),0)=0,"",INDEX($I$18:$I$47,IFERROR(VALUE(LEFT(R24,FIND(":",R24)-1)),0)))="9. Kup",IF(IFERROR(VALUE(LEFT(R24,FIND(":",R24)-1)),0)=0,"",INDEX($I$18:$I$47,IFERROR(VALUE(LEFT(R24,FIND(":",R24)-1)),0)))="8. Kup"),4,IF(OR(IF(IFERROR(VALUE(LEFT(R24,FIND(":",R24)-1)),0)=0,"",INDEX($I$18:$I$47,IFERROR(VALUE(LEFT(R24,FIND(":",R24)-1)),0)))="7. Kup",IF(IFERROR(VALUE(LEFT(R24,FIND(":",R24)-1)),0)=0,"",INDEX($I$18:$I$47,IFERROR(VALUE(LEFT(R24,FIND(":",R24)-1)),0)))="6. Kup",IF(IFERROR(VALUE(LEFT(R24,FIND(":",R24)-1)),0)=0,"",INDEX($I$18:$I$47,IFERROR(VALUE(LEFT(R24,FIND(":",R24)-1)),0)))="5. Kup"),3,IF(OR(IF(IFERROR(VALUE(LEFT(R24,FIND(":",R24)-1)),0)=0,"",INDEX($I$18:$I$47,IFERROR(VALUE(LEFT(R24,FIND(":",R24)-1)),0)))="4. Kup",IF(IFERROR(VALUE(LEFT(R24,FIND(":",R24)-1)),0)=0,"",INDEX($I$18:$I$47,IFERROR(VALUE(LEFT(R24,FIND(":",R24)-1)),0)))="3. Kup",IF(IFERROR(VALUE(LEFT(R24,FIND(":",R24)-1)),0)=0,"",INDEX($I$18:$I$47,IFERROR(VALUE(LEFT(R24,FIND(":",R24)-1)),0)))="2. Kup"),2,IF(IF(IFERROR(VALUE(LEFT(R24,FIND(":",R24)-1)),0)=0,"",INDEX($I$18:$I$47,IFERROR(VALUE(LEFT(R24,FIND(":",R24)-1)),0)))<>"",1,0)))),IF(OR(IF(IFERROR(VALUE(LEFT(S24,FIND(":",S24)-1)),0)=0,"",INDEX($I$18:$I$47,IFERROR(VALUE(LEFT(S24,FIND(":",S24)-1)),0)))="10. Kup",IF(IFERROR(VALUE(LEFT(S24,FIND(":",S24)-1)),0)=0,"",INDEX($I$18:$I$47,IFERROR(VALUE(LEFT(S24,FIND(":",S24)-1)),0)))="9. Kup",IF(IFERROR(VALUE(LEFT(S24,FIND(":",S24)-1)),0)=0,"",INDEX($I$18:$I$47,IFERROR(VALUE(LEFT(S24,FIND(":",S24)-1)),0)))="8. Kup"),4,IF(OR(IF(IFERROR(VALUE(LEFT(S24,FIND(":",S24)-1)),0)=0,"",INDEX($I$18:$I$47,IFERROR(VALUE(LEFT(S24,FIND(":",S24)-1)),0)))="7. Kup",IF(IFERROR(VALUE(LEFT(S24,FIND(":",S24)-1)),0)=0,"",INDEX($I$18:$I$47,IFERROR(VALUE(LEFT(S24,FIND(":",S24)-1)),0)))="6. Kup",IF(IFERROR(VALUE(LEFT(S24,FIND(":",S24)-1)),0)=0,"",INDEX($I$18:$I$47,IFERROR(VALUE(LEFT(S24,FIND(":",S24)-1)),0)))="5. Kup"),3,IF(OR(IF(IFERROR(VALUE(LEFT(S24,FIND(":",S24)-1)),0)=0,"",INDEX($I$18:$I$47,IFERROR(VALUE(LEFT(S24,FIND(":",S24)-1)),0)))="4. Kup",IF(IFERROR(VALUE(LEFT(S24,FIND(":",S24)-1)),0)=0,"",INDEX($I$18:$I$47,IFERROR(VALUE(LEFT(S24,FIND(":",S24)-1)),0)))="3. Kup",IF(IFERROR(VALUE(LEFT(S24,FIND(":",S24)-1)),0)=0,"",INDEX($I$18:$I$47,IFERROR(VALUE(LEFT(S24,FIND(":",S24)-1)),0)))="2. Kup"),2,IF(IF(IFERROR(VALUE(LEFT(S24,FIND(":",S24)-1)),0)=0,"",INDEX($I$18:$I$47,IFERROR(VALUE(LEFT(S24,FIND(":",S24)-1)),0)))<>"",1,0))))),"LK1","LK2","LK3","LK4")))} | Y24: =IF(D24="","",25) | AB24: =IF(ISTEXT(D24),25,"")
A25: =IF(Table_1[[#This Row],[Nachname]]="","",IF(AND(Table_1[[#This Row],[Poomsae Einzel]]<>"Ja",Table_1[[#This Row],[Poomsae Paar]]<>"Ja",Table_1[[#This Row],[Poomsae Team]]<>"Ja"),"Disziplin fehlt",IF(OR(AND(Table_1[[#This Row],[Poomsae Paar]]="Ja",Table_1[[#This Row],[Paar: Partner/in]]=""),AND(Table_1[[#This Row],[Poomsae Team]]="Ja",OR(Table_1[[#This Row],[Team: Starter/in 2]]="",Table_1[[#This Row],[Team: Starter/in 3]]="")),AND(Table_1[[#This Row],[Poomsae Family]]="Ja",Table_1[[#This Row],[Family: Mitglied 2]]=""),AND(Table_1[[#This Row],[Einschritt- kampf]]="Ja",Table_1[[#This Row],[Einschrittkampf: Partner/in]]="")),"Partner fehlt","OK"))) | B25: 8 | C25: =IF(D25="","",$B$10) | G25: =IF(F25="","",IF(YEAR(F25)>=2019,"Klasse bis 7 Jahre / JG bis 2019",IF(YEAR(F25)>=2015,"Klasse 8-11 Jahre / JG 2018-2015",IF(YEAR(F25)>=2012,"Klasse 12-14 Jahre / JG 2014-2012",IF(YEAR(F25)>=2009,"Klasse 15-17 Jahre / JG 2011-2009",IF(YEAR(F25)>=1986,"Klasse 18-40 Jahre / JG 2008-1986","Klasse ab 41 Jahre / JG ab 1985")))))) | J25: =IF(OR(D25="",I25=""),"",IF(OR(I25="10. Kup",I25="9. Kup",I25="8. Kup"),"LK4",IF(OR(I25="7. Kup",I25="6. Kup",I25="5. Kup"),"LK3",IF(OR(I25="4. Kup",I25="3. Kup",I25="2. Kup"),"LK2","LK1")))) | T25: {=IF(Q25<>"Ja","",IF(R25="","",CHOOSE(MAX(IF(OR(I25="10. Kup",I25="9. Kup",I25="8. Kup"),4,IF(OR(I25="7. Kup",I25="6. Kup",I25="5. Kup"),3,IF(OR(I25="4. Kup",I25="3. Kup",I25="2. Kup"),2,IF(I25<>"",1,0)))),IF(OR(IF(IFERROR(VALUE(LEFT(R25,FIND(":",R25)-1)),0)=0,"",INDEX($I$18:$I$47,IFERROR(VALUE(LEFT(R25,FIND(":",R25)-1)),0)))="10. Kup",IF(IFERROR(VALUE(LEFT(R25,FIND(":",R25)-1)),0)=0,"",INDEX($I$18:$I$47,IFERROR(VALUE(LEFT(R25,FIND(":",R25)-1)),0)))="9. Kup",IF(IFERROR(VALUE(LEFT(R25,FIND(":",R25)-1)),0)=0,"",INDEX($I$18:$I$47,IFERROR(VALUE(LEFT(R25,FIND(":",R25)-1)),0)))="8. Kup"),4,IF(OR(IF(IFERROR(VALUE(LEFT(R25,FIND(":",R25)-1)),0)=0,"",INDEX($I$18:$I$47,IFERROR(VALUE(LEFT(R25,FIND(":",R25)-1)),0)))="7. Kup",IF(IFERROR(VALUE(LEFT(R25,FIND(":",R25)-1)),0)=0,"",INDEX($I$18:$I$47,IFERROR(VALUE(LEFT(R25,FIND(":",R25)-1)),0)))="6. Kup",IF(IFERROR(VALUE(LEFT(R25,FIND(":",R25)-1)),0)=0,"",INDEX($I$18:$I$47,IFERROR(VALUE(LEFT(R25,FIND(":",R25)-1)),0)))="5. Kup"),3,IF(OR(IF(IFERROR(VALUE(LEFT(R25,FIND(":",R25)-1)),0)=0,"",INDEX($I$18:$I$47,IFERROR(VALUE(LEFT(R25,FIND(":",R25)-1)),0)))="4. Kup",IF(IFERROR(VALUE(LEFT(R25,FIND(":",R25)-1)),0)=0,"",INDEX($I$18:$I$47,IFERROR(VALUE(LEFT(R25,FIND(":",R25)-1)),0)))="3. Kup",IF(IFERROR(VALUE(LEFT(R25,FIND(":",R25)-1)),0)=0,"",INDEX($I$18:$I$47,IFERROR(VALUE(LEFT(R25,FIND(":",R25)-1)),0)))="2. Kup"),2,IF(IF(IFERROR(VALUE(LEFT(R25,FIND(":",R25)-1)),0)=0,"",INDEX($I$18:$I$47,IFERROR(VALUE(LEFT(R25,FIND(":",R25)-1)),0)))<>"",1,0)))),IF(OR(IF(IFERROR(VALUE(LEFT(S25,FIND(":",S25)-1)),0)=0,"",INDEX($I$18:$I$47,IFERROR(VALUE(LEFT(S25,FIND(":",S25)-1)),0)))="10. Kup",IF(IFERROR(VALUE(LEFT(S25,FIND(":",S25)-1)),0)=0,"",INDEX($I$18:$I$47,IFERROR(VALUE(LEFT(S25,FIND(":",S25)-1)),0)))="9. Kup",IF(IFERROR(VALUE(LEFT(S25,FIND(":",S25)-1)),0)=0,"",INDEX($I$18:$I$47,IFERROR(VALUE(LEFT(S25,FIND(":",S25)-1)),0)))="8. Kup"),4,IF(OR(IF(IFERROR(VALUE(LEFT(S25,FIND(":",S25)-1)),0)=0,"",INDEX($I$18:$I$47,IFERROR(VALUE(LEFT(S25,FIND(":",S25)-1)),0)))="7. Kup",IF(IFERROR(VALUE(LEFT(S25,FIND(":",S25)-1)),0)=0,"",INDEX($I$18:$I$47,IFERROR(VALUE(LEFT(S25,FIND(":",S25)-1)),0)))="6. Kup",IF(IFERROR(VALUE(LEFT(S25,FIND(":",S25)-1)),0)=0,"",INDEX($I$18:$I$47,IFERROR(VALUE(LEFT(S25,FIND(":",S25)-1)),0)))="5. Kup"),3,IF(OR(IF(IFERROR(VALUE(LEFT(S25,FIND(":",S25)-1)),0)=0,"",INDEX($I$18:$I$47,IFERROR(VALUE(LEFT(S25,FIND(":",S25)-1)),0)))="4. Kup",IF(IFERROR(VALUE(LEFT(S25,FIND(":",S25)-1)),0)=0,"",INDEX($I$18:$I$47,IFERROR(VALUE(LEFT(S25,FIND(":",S25)-1)),0)))="3. Kup",IF(IFERROR(VALUE(LEFT(S25,FIND(":",S25)-1)),0)=0,"",INDEX($I$18:$I$47,IFERROR(VALUE(LEFT(S25,FIND(":",S25)-1)),0)))="2. Kup"),2,IF(IF(IFERROR(VALUE(LEFT(S25,FIND(":",S25)-1)),0)=0,"",INDEX($I$18:$I$47,IFERROR(VALUE(LEFT(S25,FIND(":",S25)-1)),0)))<>"",1,0))))),"LK1","LK2","LK3","LK4")))} | Y25: =IF(D25="","",25) | AB25: =IF(ISTEXT(D25),25,"")
A26: =IF(Table_1[[#This Row],[Nachname]]="","",IF(AND(Table_1[[#This Row],[Poomsae Einzel]]<>"Ja",Table_1[[#This Row],[Poomsae Paar]]<>"Ja",Table_1[[#This Row],[Poomsae Team]]<>"Ja"),"Disziplin fehlt",IF(OR(AND(Table_1[[#This Row],[Poomsae Paar]]="Ja",Table_1[[#This Row],[Paar: Partner/in]]=""),AND(Table_1[[#This Row],[Poomsae Team]]="Ja",OR(Table_1[[#This Row],[Team: Starter/in 2]]="",Table_1[[#This Row],[Team: Starter/in 3]]="")),AND(Table_1[[#This Row],[Poomsae Family]]="Ja",Table_1[[#This Row],[Family: Mitglied 2]]=""),AND(Table_1[[#This Row],[Einschritt- kampf]]="Ja",Table_1[[#This Row],[Einschrittkampf: Partner/in]]="")),"Partner fehlt","OK"))) | B26: 9 | C26: =IF(D26="","",$B$10) | G26: =IF(F26="","",IF(YEAR(F26)>=2019,"Klasse bis 7 Jahre / JG bis 2019",IF(YEAR(F26)>=2015,"Klasse 8-11 Jahre / JG 2018-2015",IF(YEAR(F26)>=2012,"Klasse 12-14 Jahre / JG 2014-2012",IF(YEAR(F26)>=2009,"Klasse 15-17 Jahre / JG 2011-2009",IF(YEAR(F26)>=1986,"Klasse 18-40 Jahre / JG 2008-1986","Klasse ab 41 Jahre / JG ab 1985")))))) | J26: =IF(OR(D26="",I26=""),"",IF(OR(I26="10. Kup",I26="9. Kup",I26="8. Kup"),"LK4",IF(OR(I26="7. Kup",I26="6. Kup",I26="5. Kup"),"LK3",IF(OR(I26="4. Kup",I26="3. Kup",I26="2. Kup"),"LK2","LK1")))) | T26: {=IF(Q26<>"Ja","",IF(R26="","",CHOOSE(MAX(IF(OR(I26="10. Kup",I26="9. Kup",I26="8. Kup"),4,IF(OR(I26="7. Kup",I26="6. Kup",I26="5. Kup"),3,IF(OR(I26="4. Kup",I26="3. Kup",I26="2. Kup"),2,IF(I26<>"",1,0)))),IF(OR(IF(IFERROR(VALUE(LEFT(R26,FIND(":",R26)-1)),0)=0,"",INDEX($I$18:$I$47,IFERROR(VALUE(LEFT(R26,FIND(":",R26)-1)),0)))="10. Kup",IF(IFERROR(VALUE(LEFT(R26,FIND(":",R26)-1)),0)=0,"",INDEX($I$18:$I$47,IFERROR(VALUE(LEFT(R26,FIND(":",R26)-1)),0)))="9. Kup",IF(IFERROR(VALUE(LEFT(R26,FIND(":",R26)-1)),0)=0,"",INDEX($I$18:$I$47,IFERROR(VALUE(LEFT(R26,FIND(":",R26)-1)),0)))="8. Kup"),4,IF(OR(IF(IFERROR(VALUE(LEFT(R26,FIND(":",R26)-1)),0)=0,"",INDEX($I$18:$I$47,IFERROR(VALUE(LEFT(R26,FIND(":",R26)-1)),0)))="7. Kup",IF(IFERROR(VALUE(LEFT(R26,FIND(":",R26)-1)),0)=0,"",INDEX($I$18:$I$47,IFERROR(VALUE(LEFT(R26,FIND(":",R26)-1)),0)))="6. Kup",IF(IFERROR(VALUE(LEFT(R26,FIND(":",R26)-1)),0)=0,"",INDEX($I$18:$I$47,IFERROR(VALUE(LEFT(R26,FIND(":",R26)-1)),0)))="5. Kup"),3,IF(OR(IF(IFERROR(VALUE(LEFT(R26,FIND(":",R26)-1)),0)=0,"",INDEX($I$18:$I$47,IFERROR(VALUE(LEFT(R26,FIND(":",R26)-1)),0)))="4. Kup",IF(IFERROR(VALUE(LEFT(R26,FIND(":",R26)-1)),0)=0,"",INDEX($I$18:$I$47,IFERROR(VALUE(LEFT(R26,FIND(":",R26)-1)),0)))="3. Kup",IF(IFERROR(VALUE(LEFT(R26,FIND(":",R26)-1)),0)=0,"",INDEX($I$18:$I$47,IFERROR(VALUE(LEFT(R26,FIND(":",R26)-1)),0)))="2. Kup"),2,IF(IF(IFERROR(VALUE(LEFT(R26,FIND(":",R26)-1)),0)=0,"",INDEX($I$18:$I$47,IFERROR(VALUE(LEFT(R26,FIND(":",R26)-1)),0)))<>"",1,0)))),IF(OR(IF(IFERROR(VALUE(LEFT(S26,FIND(":",S26)-1)),0)=0,"",INDEX($I$18:$I$47,IFERROR(VALUE(LEFT(S26,FIND(":",S26)-1)),0)))="10. Kup",IF(IFERROR(VALUE(LEFT(S26,FIND(":",S26)-1)),0)=0,"",INDEX($I$18:$I$47,IFERROR(VALUE(LEFT(S26,FIND(":",S26)-1)),0)))="9. Kup",IF(IFERROR(VALUE(LEFT(S26,FIND(":",S26)-1)),0)=0,"",INDEX($I$18:$I$47,IFERROR(VALUE(LEFT(S26,FIND(":",S26)-1)),0)))="8. Kup"),4,IF(OR(IF(IFERROR(VALUE(LEFT(S26,FIND(":",S26)-1)),0)=0,"",INDEX($I$18:$I$47,IFERROR(VALUE(LEFT(S26,FIND(":",S26)-1)),0)))="7. Kup",IF(IFERROR(VALUE(LEFT(S26,FIND(":",S26)-1)),0)=0,"",INDEX($I$18:$I$47,IFERROR(VALUE(LEFT(S26,FIND(":",S26)-1)),0)))="6. Kup",IF(IFERROR(VALUE(LEFT(S26,FIND(":",S26)-1)),0)=0,"",INDEX($I$18:$I$47,IFERROR(VALUE(LEFT(S26,FIND(":",S26)-1)),0)))="5. Kup"),3,IF(OR(IF(IFERROR(VALUE(LEFT(S26,FIND(":",S26)-1)),0)=0,"",INDEX($I$18:$I$47,IFERROR(VALUE(LEFT(S26,FIND(":",S26)-1)),0)))="4. Kup",IF(IFERROR(VALUE(LEFT(S26,FIND(":",S26)-1)),0)=0,"",INDEX($I$18:$I$47,IFERROR(VALUE(LEFT(S26,FIND(":",S26)-1)),0)))="3. Kup",IF(IFERROR(VALUE(LEFT(S26,FIND(":",S26)-1)),0)=0,"",INDEX($I$18:$I$47,IFERROR(VALUE(LEFT(S26,FIND(":",S26)-1)),0)))="2. Kup"),2,IF(IF(IFERROR(VALUE(LEFT(S26,FIND(":",S26)-1)),0)=0,"",INDEX($I$18:$I$47,IFERROR(VALUE(LEFT(S26,FIND(":",S26)-1)),0)))<>"",1,0))))),"LK1","LK2","LK3","LK4")))} | Y26: =IF(D26="","",25) | AB26: =IF(ISTEXT(D26),25,"")
A27: =IF(Table_1[[#This Row],[Nachname]]="","",IF(AND(Table_1[[#This Row],[Poomsae Einzel]]<>"Ja",Table_1[[#This Row],[Poomsae Paar]]<>"Ja",Table_1[[#This Row],[Poomsae Team]]<>"Ja"),"Disziplin fehlt",IF(OR(AND(Table_1[[#This Row],[Poomsae Paar]]="Ja",Table_1[[#This Row],[Paar: Partner/in]]=""),AND(Table_1[[#This Row],[Poomsae Team]]="Ja",OR(Table_1[[#This Row],[Team: Starter/in 2]]="",Table_1[[#This Row],[Team: Starter/in 3]]="")),AND(Table_1[[#This Row],[Poomsae Family]]="Ja",Table_1[[#This Row],[Family: Mitglied 2]]=""),AND(Table_1[[#This Row],[Einschritt- kampf]]="Ja",Table_1[[#This Row],[Einschrittkampf: Partner/in]]="")),"Partner fehlt","OK"))) | B27: 10 | C27: =IF(D27="","",$B$10) | G27: =IF(F27="","",IF(YEAR(F27)>=2019,"Klasse bis 7 Jahre / JG bis 2019",IF(YEAR(F27)>=2015,"Klasse 8-11 Jahre / JG 2018-2015",IF(YEAR(F27)>=2012,"Klasse 12-14 Jahre / JG 2014-2012",IF(YEAR(F27)>=2009,"Klasse 15-17 Jahre / JG 2011-2009",IF(YEAR(F27)>=1986,"Klasse 18-40 Jahre / JG 2008-1986","Klasse ab 41 Jahre / JG ab 1985")))))) | J27: =IF(OR(D27="",I27=""),"",IF(OR(I27="10. Kup",I27="9. Kup",I27="8. Kup"),"LK4",IF(OR(I27="7. Kup",I27="6. Kup",I27="5. Kup"),"LK3",IF(OR(I27="4. Kup",I27="3. Kup",I27="2. Kup"),"LK2","LK1")))) | T27: {=IF(Q27<>"Ja","",IF(R27="","",CHOOSE(MAX(IF(OR(I27="10. Kup",I27="9. Kup",I27="8. Kup"),4,IF(OR(I27="7. Kup",I27="6. Kup",I27="5. Kup"),3,IF(OR(I27="4. Kup",I27="3. Kup",I27="2. Kup"),2,IF(I27<>"",1,0)))),IF(OR(IF(IFERROR(VALUE(LEFT(R27,FIND(":",R27)-1)),0)=0,"",INDEX($I$18:$I$47,IFERROR(VALUE(LEFT(R27,FIND(":",R27)-1)),0)))="10. Kup",IF(IFERROR(VALUE(LEFT(R27,FIND(":",R27)-1)),0)=0,"",INDEX($I$18:$I$47,IFERROR(VALUE(LEFT(R27,FIND(":",R27)-1)),0)))="9. Kup",IF(IFERROR(VALUE(LEFT(R27,FIND(":",R27)-1)),0)=0,"",INDEX($I$18:$I$47,IFERROR(VALUE(LEFT(R27,FIND(":",R27)-1)),0)))="8. Kup"),4,IF(OR(IF(IFERROR(VALUE(LEFT(R27,FIND(":",R27)-1)),0)=0,"",INDEX($I$18:$I$47,IFERROR(VALUE(LEFT(R27,FIND(":",R27)-1)),0)))="7. Kup",IF(IFERROR(VALUE(LEFT(R27,FIND(":",R27)-1)),0)=0,"",INDEX($I$18:$I$47,IFERROR(VALUE(LEFT(R27,FIND(":",R27)-1)),0)))="6. Kup",IF(IFERROR(VALUE(LEFT(R27,FIND(":",R27)-1)),0)=0,"",INDEX($I$18:$I$47,IFERROR(VALUE(LEFT(R27,FIND(":",R27)-1)),0)))="5. Kup"),3,IF(OR(IF(IFERROR(VALUE(LEFT(R27,FIND(":",R27)-1)),0)=0,"",INDEX($I$18:$I$47,IFERROR(VALUE(LEFT(R27,FIND(":",R27)-1)),0)))="4. Kup",IF(IFERROR(VALUE(LEFT(R27,FIND(":",R27)-1)),0)=0,"",INDEX($I$18:$I$47,IFERROR(VALUE(LEFT(R27,FIND(":",R27)-1)),0)))="3. Kup",IF(IFERROR(VALUE(LEFT(R27,FIND(":",R27)-1)),0)=0,"",INDEX($I$18:$I$47,IFERROR(VALUE(LEFT(R27,FIND(":",R27)-1)),0)))="2. Kup"),2,IF(IF(IFERROR(VALUE(LEFT(R27,FIND(":",R27)-1)),0)=0,"",INDEX($I$18:$I$47,IFERROR(VALUE(LEFT(R27,FIND(":",R27)-1)),0)))<>"",1,0)))),IF(OR(IF(IFERROR(VALUE(LEFT(S27,FIND(":",S27)-1)),0)=0,"",INDEX($I$18:$I$47,IFERROR(VALUE(LEFT(S27,FIND(":",S27)-1)),0)))="10. Kup",IF(IFERROR(VALUE(LEFT(S27,FIND(":",S27)-1)),0)=0,"",INDEX($I$18:$I$47,IFERROR(VALUE(LEFT(S27,FIND(":",S27)-1)),0)))="9. Kup",IF(IFERROR(VALUE(LEFT(S27,FIND(":",S27)-1)),0)=0,"",INDEX($I$18:$I$47,IFERROR(VALUE(LEFT(S27,FIND(":",S27)-1)),0)))="8. Kup"),4,IF(OR(IF(IFERROR(VALUE(LEFT(S27,FIND(":",S27)-1)),0)=0,"",INDEX($I$18:$I$47,IFERROR(VALUE(LEFT(S27,FIND(":",S27)-1)),0)))="7. Kup",IF(IFERROR(VALUE(LEFT(S27,FIND(":",S27)-1)),0)=0,"",INDEX($I$18:$I$47,IFERROR(VALUE(LEFT(S27,FIND(":",S27)-1)),0)))="6. Kup",IF(IFERROR(VALUE(LEFT(S27,FIND(":",S27)-1)),0)=0,"",INDEX($I$18:$I$47,IFERROR(VALUE(LEFT(S27,FIND(":",S27)-1)),0)))="5. Kup"),3,IF(OR(IF(IFERROR(VALUE(LEFT(S27,FIND(":",S27)-1)),0)=0,"",INDEX($I$18:$I$47,IFERROR(VALUE(LEFT(S27,FIND(":",S27)-1)),0)))="4. Kup",IF(IFERROR(VALUE(LEFT(S27,FIND(":",S27)-1)),0)=0,"",INDEX($I$18:$I$47,IFERROR(VALUE(LEFT(S27,FIND(":",S27)-1)),0)))="3. Kup",IF(IFERROR(VALUE(LEFT(S27,FIND(":",S27)-1)),0)=0,"",INDEX($I$18:$I$47,IFERROR(VALUE(LEFT(S27,FIND(":",S27)-1)),0)))="2. Kup"),2,IF(IF(IFERROR(VALUE(LEFT(S27,FIND(":",S27)-1)),0)=0,"",INDEX($I$18:$I$47,IFERROR(VALUE(LEFT(S27,FIND(":",S27)-1)),0)))<>"",1,0))))),"LK1","LK2","LK3","LK4")))} | Y27: =IF(D27="","",25) | AB27: =IF(ISTEXT(D27),25,"")
A28: =IF(Table_1[[#This Row],[Nachname]]="","",IF(AND(Table_1[[#This Row],[Poomsae Einzel]]<>"Ja",Table_1[[#This Row],[Poomsae Paar]]<>"Ja",Table_1[[#This Row],[Poomsae Team]]<>"Ja"),"Disziplin fehlt",IF(OR(AND(Table_1[[#This Row],[Poomsae Paar]]="Ja",Table_1[[#This Row],[Paar: Partner/in]]=""),AND(Table_1[[#This Row],[Poomsae Team]]="Ja",OR(Table_1[[#This Row],[Team: Starter/in 2]]="",Table_1[[#This Row],[Team: Starter/in 3]]="")),AND(Table_1[[#This Row],[Poomsae Family]]="Ja",Table_1[[#This Row],[Family: Mitglied 2]]=""),AND(Table_1[[#This Row],[Einschritt- kampf]]="Ja",Table_1[[#This Row],[Einschrittkampf: Partner/in]]="")),"Partner fehlt","OK"))) | B28: 11 | C28: =IF(D28="","",$B$10) | G28: =IF(F28="","",IF(YEAR(F28)>=2019,"Klasse bis 7 Jahre / JG bis 2019",IF(YEAR(F28)>=2015,"Klasse 8-11 Jahre / JG 2018-2015",IF(YEAR(F28)>=2012,"Klasse 12-14 Jahre / JG 2014-2012",IF(YEAR(F28)>=2009,"Klasse 15-17 Jahre / JG 2011-2009",IF(YEAR(F28)>=1986,"Klasse 18-40 Jahre / JG 2008-1986","Klasse ab 41 Jahre / JG ab 1985")))))) | J28: =IF(OR(D28="",I28=""),"",IF(OR(I28="10. Kup",I28="9. Kup",I28="8. Kup"),"LK4",IF(OR(I28="7. Kup",I28="6. Kup",I28="5. Kup"),"LK3",IF(OR(I28="4. Kup",I28="3. Kup",I28="2. Kup"),"LK2","LK1")))) | T28: {=IF(Q28<>"Ja","",IF(R28="","",CHOOSE(MAX(IF(OR(I28="10. Kup",I28="9. Kup",I28="8. Kup"),4,IF(OR(I28="7. Kup",I28="6. Kup",I28="5. Kup"),3,IF(OR(I28="4. Kup",I28="3. Kup",I28="2. Kup"),2,IF(I28<>"",1,0)))),IF(OR(IF(IFERROR(VALUE(LEFT(R28,FIND(":",R28)-1)),0)=0,"",INDEX($I$18:$I$47,IFERROR(VALUE(LEFT(R28,FIND(":",R28)-1)),0)))="10. Kup",IF(IFERROR(VALUE(LEFT(R28,FIND(":",R28)-1)),0)=0,"",INDEX($I$18:$I$47,IFERROR(VALUE(LEFT(R28,FIND(":",R28)-1)),0)))="9. Kup",IF(IFERROR(VALUE(LEFT(R28,FIND(":",R28)-1)),0)=0,"",INDEX($I$18:$I$47,IFERROR(VALUE(LEFT(R28,FIND(":",R28)-1)),0)))="8. Kup"),4,IF(OR(IF(IFERROR(VALUE(LEFT(R28,FIND(":",R28)-1)),0)=0,"",INDEX($I$18:$I$47,IFERROR(VALUE(LEFT(R28,FIND(":",R28)-1)),0)))="7. Kup",IF(IFERROR(VALUE(LEFT(R28,FIND(":",R28)-1)),0)=0,"",INDEX($I$18:$I$47,IFERROR(VALUE(LEFT(R28,FIND(":",R28)-1)),0)))="6. Kup",IF(IFERROR(VALUE(LEFT(R28,FIND(":",R28)-1)),0)=0,"",INDEX($I$18:$I$47,IFERROR(VALUE(LEFT(R28,FIND(":",R28)-1)),0)))="5. Kup"),3,IF(OR(IF(IFERROR(VALUE(LEFT(R28,FIND(":",R28)-1)),0)=0,"",INDEX($I$18:$I$47,IFERROR(VALUE(LEFT(R28,FIND(":",R28)-1)),0)))="4. Kup",IF(IFERROR(VALUE(LEFT(R28,FIND(":",R28)-1)),0)=0,"",INDEX($I$18:$I$47,IFERROR(VALUE(LEFT(R28,FIND(":",R28)-1)),0)))="3. Kup",IF(IFERROR(VALUE(LEFT(R28,FIND(":",R28)-1)),0)=0,"",INDEX($I$18:$I$47,IFERROR(VALUE(LEFT(R28,FIND(":",R28)-1)),0)))="2. Kup"),2,IF(IF(IFERROR(VALUE(LEFT(R28,FIND(":",R28)-1)),0)=0,"",INDEX($I$18:$I$47,IFERROR(VALUE(LEFT(R28,FIND(":",R28)-1)),0)))<>"",1,0)))),IF(OR(IF(IFERROR(VALUE(LEFT(S28,FIND(":",S28)-1)),0)=0,"",INDEX($I$18:$I$47,IFERROR(VALUE(LEFT(S28,FIND(":",S28)-1)),0)))="10. Kup",IF(IFERROR(VALUE(LEFT(S28,FIND(":",S28)-1)),0)=0,"",INDEX($I$18:$I$47,IFERROR(VALUE(LEFT(S28,FIND(":",S28)-1)),0)))="9. Kup",IF(IFERROR(VALUE(LEFT(S28,FIND(":",S28)-1)),0)=0,"",INDEX($I$18:$I$47,IFERROR(VALUE(LEFT(S28,FIND(":",S28)-1)),0)))="8. Kup"),4,IF(OR(IF(IFERROR(VALUE(LEFT(S28,FIND(":",S28)-1)),0)=0,"",INDEX($I$18:$I$47,IFERROR(VALUE(LEFT(S28,FIND(":",S28)-1)),0)))="7. Kup",IF(IFERROR(VALUE(LEFT(S28,FIND(":",S28)-1)),0)=0,"",INDEX($I$18:$I$47,IFERROR(VALUE(LEFT(S28,FIND(":",S28)-1)),0)))="6. Kup",IF(IFERROR(VALUE(LEFT(S28,FIND(":",S28)-1)),0)=0,"",INDEX($I$18:$I$47,IFERROR(VALUE(LEFT(S28,FIND(":",S28)-1)),0)))="5. Kup"),3,IF(OR(IF(IFERROR(VALUE(LEFT(S28,FIND(":",S28)-1)),0)=0,"",INDEX($I$18:$I$47,IFERROR(VALUE(LEFT(S28,FIND(":",S28)-1)),0)))="4. Kup",IF(IFERROR(VALUE(LEFT(S28,FIND(":",S28)-1)),0)=0,"",INDEX($I$18:$I$47,IFERROR(VALUE(LEFT(S28,FIND(":",S28)-1)),0)))="3. Kup",IF(IFERROR(VALUE(LEFT(S28,FIND(":",S28)-1)),0)=0,"",INDEX($I$18:$I$47,IFERROR(VALUE(LEFT(S28,FIND(":",S28)-1)),0)))="2. Kup"),2,IF(IF(IFERROR(VALUE(LEFT(S28,FIND(":",S28)-1)),0)=0,"",INDEX($I$18:$I$47,IFERROR(VALUE(LEFT(S28,FIND(":",S28)-1)),0)))<>"",1,0))))),"LK1","LK2","LK3","LK4")))} | Y28: =IF(D28="","",25) | AB28: =IF(ISTEXT(D28),25,"")
A29: =IF(Table_1[[#This Row],[Nachname]]="","",IF(AND(Table_1[[#This Row],[Poomsae Einzel]]<>"Ja",Table_1[[#This Row],[Poomsae Paar]]<>"Ja",Table_1[[#This Row],[Poomsae Team]]<>"Ja"),"Disziplin fehlt",IF(OR(AND(Table_1[[#This Row],[Poomsae Paar]]="Ja",Table_1[[#This Row],[Paar: Partner/in]]=""),AND(Table_1[[#This Row],[Poomsae Team]]="Ja",OR(Table_1[[#This Row],[Team: Starter/in 2]]="",Table_1[[#This Row],[Team: Starter/in 3]]="")),AND(Table_1[[#This Row],[Poomsae Family]]="Ja",Table_1[[#This Row],[Family: Mitglied 2]]=""),AND(Table_1[[#This Row],[Einschritt- kampf]]="Ja",Table_1[[#This Row],[Einschrittkampf: Partner/in]]="")),"Partner fehlt","OK"))) | B29: 12 | C29: =IF(D29="","",$B$10) | G29: =IF(F29="","",IF(YEAR(F29)>=2019,"Klasse bis 7 Jahre / JG bis 2019",IF(YEAR(F29)>=2015,"Klasse 8-11 Jahre / JG 2018-2015",IF(YEAR(F29)>=2012,"Klasse 12-14 Jahre / JG 2014-2012",IF(YEAR(F29)>=2009,"Klasse 15-17 Jahre / JG 2011-2009",IF(YEAR(F29)>=1986,"Klasse 18-40 Jahre / JG 2008-1986","Klasse ab 41 Jahre / JG ab 1985")))))) | J29: =IF(OR(D29="",I29=""),"",IF(OR(I29="10. Kup",I29="9. Kup",I29="8. Kup"),"LK4",IF(OR(I29="7. Kup",I29="6. Kup",I29="5. Kup"),"LK3",IF(OR(I29="4. Kup",I29="3. Kup",I29="2. Kup"),"LK2","LK1")))) | T29: {=IF(Q29<>"Ja","",IF(R29="","",CHOOSE(MAX(IF(OR(I29="10. Kup",I29="9. Kup",I29="8. Kup"),4,IF(OR(I29="7. Kup",I29="6. Kup",I29="5. Kup"),3,IF(OR(I29="4. Kup",I29="3. Kup",I29="2. Kup"),2,IF(I29<>"",1,0)))),IF(OR(IF(IFERROR(VALUE(LEFT(R29,FIND(":",R29)-1)),0)=0,"",INDEX($I$18:$I$47,IFERROR(VALUE(LEFT(R29,FIND(":",R29)-1)),0)))="10. Kup",IF(IFERROR(VALUE(LEFT(R29,FIND(":",R29)-1)),0)=0,"",INDEX($I$18:$I$47,IFERROR(VALUE(LEFT(R29,FIND(":",R29)-1)),0)))="9. Kup",IF(IFERROR(VALUE(LEFT(R29,FIND(":",R29)-1)),0)=0,"",INDEX($I$18:$I$47,IFERROR(VALUE(LEFT(R29,FIND(":",R29)-1)),0)))="8. Kup"),4,IF(OR(IF(IFERROR(VALUE(LEFT(R29,FIND(":",R29)-1)),0)=0,"",INDEX($I$18:$I$47,IFERROR(VALUE(LEFT(R29,FIND(":",R29)-1)),0)))="7. Kup",IF(IFERROR(VALUE(LEFT(R29,FIND(":",R29)-1)),0)=0,"",INDEX($I$18:$I$47,IFERROR(VALUE(LEFT(R29,FIND(":",R29)-1)),0)))="6. Kup",IF(IFERROR(VALUE(LEFT(R29,FIND(":",R29)-1)),0)=0,"",INDEX($I$18:$I$47,IFERROR(VALUE(LEFT(R29,FIND(":",R29)-1)),0)))="5. Kup"),3,IF(OR(IF(IFERROR(VALUE(LEFT(R29,FIND(":",R29)-1)),0)=0,"",INDEX($I$18:$I$47,IFERROR(VALUE(LEFT(R29,FIND(":",R29)-1)),0)))="4. Kup",IF(IFERROR(VALUE(LEFT(R29,FIND(":",R29)-1)),0)=0,"",INDEX($I$18:$I$47,IFERROR(VALUE(LEFT(R29,FIND(":",R29)-1)),0)))="3. Kup",IF(IFERROR(VALUE(LEFT(R29,FIND(":",R29)-1)),0)=0,"",INDEX($I$18:$I$47,IFERROR(VALUE(LEFT(R29,FIND(":",R29)-1)),0)))="2. Kup"),2,IF(IF(IFERROR(VALUE(LEFT(R29,FIND(":",R29)-1)),0)=0,"",INDEX($I$18:$I$47,IFERROR(VALUE(LEFT(R29,FIND(":",R29)-1)),0)))<>"",1,0)))),IF(OR(IF(IFERROR(VALUE(LEFT(S29,FIND(":",S29)-1)),0)=0,"",INDEX($I$18:$I$47,IFERROR(VALUE(LEFT(S29,FIND(":",S29)-1)),0)))="10. Kup",IF(IFERROR(VALUE(LEFT(S29,FIND(":",S29)-1)),0)=0,"",INDEX($I$18:$I$47,IFERROR(VALUE(LEFT(S29,FIND(":",S29)-1)),0)))="9. Kup",IF(IFERROR(VALUE(LEFT(S29,FIND(":",S29)-1)),0)=0,"",INDEX($I$18:$I$47,IFERROR(VALUE(LEFT(S29,FIND(":",S29)-1)),0)))="8. Kup"),4,IF(OR(IF(IFERROR(VALUE(LEFT(S29,FIND(":",S29)-1)),0)=0,"",INDEX($I$18:$I$47,IFERROR(VALUE(LEFT(S29,FIND(":",S29)-1)),0)))="7. Kup",IF(IFERROR(VALUE(LEFT(S29,FIND(":",S29)-1)),0)=0,"",INDEX($I$18:$I$47,IFERROR(VALUE(LEFT(S29,FIND(":",S29)-1)),0)))="6. Kup",IF(IFERROR(VALUE(LEFT(S29,FIND(":",S29)-1)),0)=0,"",INDEX($I$18:$I$47,IFERROR(VALUE(LEFT(S29,FIND(":",S29)-1)),0)))="5. Kup"),3,IF(OR(IF(IFERROR(VALUE(LEFT(S29,FIND(":",S29)-1)),0)=0,"",INDEX($I$18:$I$47,IFERROR(VALUE(LEFT(S29,FIND(":",S29)-1)),0)))="4. Kup",IF(IFERROR(VALUE(LEFT(S29,FIND(":",S29)-1)),0)=0,"",INDEX($I$18:$I$47,IFERROR(VALUE(LEFT(S29,FIND(":",S29)-1)),0)))="3. Kup",IF(IFERROR(VALUE(LEFT(S29,FIND(":",S29)-1)),0)=0,"",INDEX($I$18:$I$47,IFERROR(VALUE(LEFT(S29,FIND(":",S29)-1)),0)))="2. Kup"),2,IF(IF(IFERROR(VALUE(LEFT(S29,FIND(":",S29)-1)),0)=0,"",INDEX($I$18:$I$47,IFERROR(VALUE(LEFT(S29,FIND(":",S29)-1)),0)))<>"",1,0))))),"LK1","LK2","LK3","LK4")))} | Y29: =IF(D29="","",25) | AB29: =IF(ISTEXT(D29),25,"")
... A47: =IF(Table_1[[#This Row],[Nachname]]="","",IF(AND(Table_1[[#This Row],[Poomsae Einzel]]<>"Ja",Table_1[[#This Row],[Poomsae Paar]]<>"Ja",Table_1[[#This Row],[Poomsae Team]]<>"Ja"),"Disziplin fehlt",IF(OR(AND(Table_1[[#This Row],[Poomsae Paar]]="Ja",Table_1[[#This Row],[Paar: Partner/in]]=""),AND(Table_1[[#This Row],[Poomsae Team]]="Ja",OR(Table_1[[#This Row],[Team: Starter/in 2]]="",Table_1[[#This Row],[Team: Starter/in 3]]="")),AND(Table_1[[#This Row],[Poomsae Family]]="Ja",Table_1[[#This Row],[Family: Mitglied 2]]=""),AND(Table_1[[#This Row],[Einschritt- kampf]]="Ja",Table_1[[#This Row],[Einschrittkampf: Partner/in]]="")),"Partner fehlt","OK"))) | B47: 30 | C47: =IF(D47="","",$B$10) | G47: =IF(F47="","",IF(YEAR(F47)>=2019,"Klasse bis 7 Jahre / JG bis 2019",IF(YEAR(F47)>=2015,"Klasse 8-11 Jahre / JG 2018-2015",IF(YEAR(F47)>=2012,"Klasse 12-14 Jahre / JG 2014-2012",IF(YEAR(F47)>=2009,"Klasse 15-17 Jahre / JG 2011-2009",IF(YEAR(F47)>=1986,"Klasse 18-40 Jahre / JG 2008-1986","Klasse ab 41 Jahre / JG ab 1985")))))) | J47: =IF(OR(D47="",I47=""),"",IF(OR(I47="10. Kup",I47="9. Kup",I47="8. Kup"),"LK4",IF(OR(I47="7. Kup",I47="6. Kup",I47="5. Kup"),"LK3",IF(OR(I47="4. Kup",I47="3. Kup",I47="2. Kup"),"LK2","LK1")))) | T47: {=IF(Q47<>"Ja","",IF(R47="","",CHOOSE(MAX(IF(OR(I47="10. Kup",I47="9. Kup",I47="8. Kup"),4,IF(OR(I47="7. Kup",I47="6. Kup",I47="5. Kup"),3,IF(OR(I47="4. Kup",I47="3. Kup",I47="2. Kup"),2,IF(I47<>"",1,0)))),IF(OR(IF(IFERROR(VALUE(LEFT(R47,FIND(":",R47)-1)),0)=0,"",INDEX($I$18:$I$47,IFERROR(VALUE(LEFT(R47,FIND(":",R47)-1)),0)))="10. Kup",IF(IFERROR(VALUE(LEFT(R47,FIND(":",R47)-1)),0)=0,"",INDEX($I$18:$I$47,IFERROR(VALUE(LEFT(R47,FIND(":",R47)-1)),0)))="9. Kup",IF(IFERROR(VALUE(LEFT(R47,FIND(":",R47)-1)),0)=0,"",INDEX($I$18:$I$47,IFERROR(VALUE(LEFT(R47,FIND(":",R47)-1)),0)))="8. Kup"),4,IF(OR(IF(IFERROR(VALUE(LEFT(R47,FIND(":",R47)-1)),0)=0,"",INDEX($I$18:$I$47,IFERROR(VALUE(LEFT(R47,FIND(":",R47)-1)),0)))="7. Kup",IF(IFERROR(VALUE(LEFT(R47,FIND(":",R47)-1)),0)=0,"",INDEX($I$18:$I$47,IFERROR(VALUE(LEFT(R47,FIND(":",R47)-1)),0)))="6. Kup",IF(IFERROR(VALUE(LEFT(R47,FIND(":",R47)-1)),0)=0,"",INDEX($I$18:$I$47,IFERROR(VALUE(LEFT(R47,FIND(":",R47)-1)),0)))="5. Kup"),3,IF(OR(IF(IFERROR(VALUE(LEFT(R47,FIND(":",R47)-1)),0)=0,"",INDEX($I$18:$I$47,IFERROR(VALUE(LEFT(R47,FIND(":",R47)-1)),0)))="4. Kup",IF(IFERROR(VALUE(LEFT(R47,FIND(":",R47)-1)),0)=0,"",INDEX($I$18:$I$47,IFERROR(VALUE(LEFT(R47,FIND(":",R47)-1)),0)))="3. Kup",IF(IFERROR(VALUE(LEFT(R47,FIND(":",R47)-1)),0)=0,"",INDEX($I$18:$I$47,IFERROR(VALUE(LEFT(R47,FIND(":",R47)-1)),0)))="2. Kup"),2,IF(IF(IFERROR(VALUE(LEFT(R47,FIND(":",R47)-1)),0)=0,"",INDEX($I$18:$I$47,IFERROR(VALUE(LEFT(R47,FIND(":",R47)-1)),0)))<>"",1,0)))),IF(OR(IF(IFERROR(VALUE(LEFT(S47,FIND(":",S47)-1)),0)=0,"",INDEX($I$18:$I$47,IFERROR(VALUE(LEFT(S47,FIND(":",S47)-1)),0)))="10. Kup",IF(IFERROR(VALUE(LEFT(S47,FIND(":",S47)-1)),0)=0,"",INDEX($I$18:$I$47,IFERROR(VALUE(LEFT(S47,FIND(":",S47)-1)),0)))="9. Kup",IF(IFERROR(VALUE(LEFT(S47,FIND(":",S47)-1)),0)=0,"",INDEX($I$18:$I$47,IFERROR(VALUE(LEFT(S47,FIND(":",S47)-1)),0)))="8. Kup"),4,IF(OR(IF(IFERROR(VALUE(LEFT(S47,FIND(":",S47)-1)),0)=0,"",INDEX($I$18:$I$47,IFERROR(VALUE(LEFT(S47,FIND(":",S47)-1)),0)))="7. Kup",IF(IFERROR(VALUE(LEFT(S47,FIND(":",S47)-1)),0)=0,"",INDEX($I$18:$I$47,IFERROR(VALUE(LEFT(S47,FIND(":",S47)-1)),0)))="6. Kup",IF(IFERROR(VALUE(LEFT(S47,FIND(":",S47)-1)),0)=0,"",INDEX($I$18:$I$47,IFERROR(VALUE(LEFT(S47,FIND(":",S47)-1)),0)))="5. Kup"),3,IF(OR(IF(IFERROR(VALUE(LEFT(S47,FIND(":",S47)-1)),0)=0,"",INDEX($I$18:$I$47,IFERROR(VALUE(LEFT(S47,FIND(":",S47)-1)),0)))="4. Kup",IF(IFERROR(VALUE(LEFT(S47,FIND(":",S47)-1)),0)=0,"",INDEX($I$18:$I$47,IFERROR(VALUE(LEFT(S47,FIND(":",S47)-1)),0)))="3. Kup",IF(IFERROR(VALUE(LEFT(S47,FIND(":",S47)-1)),0)=0,"",INDEX($I$18:$I$47,IFERROR(VALUE(LEFT(S47,FIND(":",S47)-1)),0)))="2. Kup"),2,IF(IF(IFERROR(VALUE(LEFT(S47,FIND(":",S47)-1)),0)=0,"",INDEX($I$18:$I$47,IFERROR(VALUE(LEFT(S47,FIND(":",S47)-1)),0)))<>"",1,0))))),"LK1","LK2","LK3","LK4")))} | Y47: =IF(D47="","",25) | AB47: =IF(ISTEXT(D47),25,"")
AB48: =SUM(AB18:AB47) -> 0

Sheet Listen
A1: Altersklasse Poomsae Einzel | B1: Von JG | C1: Bis JG | D1: Hinweis | F1: Leistungsklasse | G1: Graduierung laut Ausschreibung | I1: Disziplin | K1: Geschlecht | M1: Ja/Nein | O1: Disziplin | P1: Kurzregel | R1: Graduierung | T1: Disziplin | U1: Graduierung/LK laut PDF | V1: Umsetzung | X1: Bruchtest-Altersregel | Y1: Umsetzung
A2: Klasse bis 7 Jahre / JG bis 2019 | B2: 2019 | C2: 9999 | F2: LK4 | G2: 10.-8. Kup | I2: Poomsae Einzel | K2: weiblich | M2: Ja | O2: Poomsae Einzel/Paar/Team/Family | P2: Formenpool frei wählbar; Family nur mit mindestens 2 Generationen und maximal 3 Personen | R2: 10. Kup | T2: Poomsae Einzel/Paar/Team | U2: ab 1. Kup; 4.-2. Kup; 7.-5. Kup; 10.-8. Kup | V2: LK1/LK2/LK3/LK4; sechs Altersklassen nach Jahrgang | X2: Teilnehmende müssen am Turniertag das 16. Lebensjahr erreicht haben. | Y2: In der Anmeldung ist „Ja“ bei Bruchtest nur auswählbar, wenn das Geburtsdatum mindestens 16 Jahre vor dem Wettkampfdatum 14.11.2026 liegt.
A3: Klasse 8-11 Jahre / JG 2018-2015 | B3: 2015 | C3: 2018 | F3: LK3 | G3: 7.-5. Kup | I3: Poomsae Paar | K3: männlich | M3: Nein | O3: Einschrittkampf | P3: 90 Sekunden; mindestens 6 Abfolgen pro Paar; maximal 3 Kontertechniken; Partnerwahl geschlechtsunabhängig | R3: 9. Kup | T3: Poomsae Family | U3: mindestens 2 Generationen; maximal 3 Personen; Formenpool nach niedrigster Graduierung | V3: Family-LK und Family-Startklasse nach niedrigster Leistungsklasse; Generationenregel manuell prüfen | X3: Exakte Prüfung | Y3: Die Prüfung erfolgt automatisch und taggenau anhand von Geburtsdatum und Turnierdatum.
A4: Klasse 12-14 Jahre / JG 2014-2012 | B4: 2012 | C4: 2014 | F4: LK2 | G4: 4.-2. Kup | I4: Poomsae Team | K4: divers | O4: Bruchtest | P4: Mindestalter 16 Jahre; ein Bruchtest; Brettstärke je Altersklasse | R4: 8. Kup | T4: Einschrittkampf | U4: sechs Altersklassen; ab 1. Kup, 4.-2., 7.-5., 10.-8. Kup | V4: Partnerauswahl gleiche Alters- und Leistungsklasse
A5: Klasse 15-17 Jahre / JG 2011-2009 | B5: 2009 | C5: 2011 | F5: LK1 | G5: ab 1. Kup | I5: Poomsae Family | O5: Speed-Kicking | P5: 30 Sekunden Paldung Chagi; Fuß zwischen den Kicks absetzen; Mindesthöhe eigener Gürtel, ab Ü50 Oberschenkel | R5: 7. Kup | T5: Bruchtest | U5: Mindestalter 16; Klassen 16-17, 18-40, ab 41 Jahre | V5: Taggenaue Altersprüfung; Brettstärke 1,0 / 1,5 / 1,0 cm
A6: Klasse 18-40 Jahre / JG 2008-1986 | B6: 1986 | C6: 2008 | I6: Einschrittkampf | R6: 6. Kup | T6: Speed-Kicking | U6: sechs Altersklassen nach Jahrgang | V6: 30 Sekunden; eigene Gürtelhöhe, ab Ü50 Oberschenkel
A7: Klasse ab 41 Jahre / JG ab 1985 | B7: 0 | C7: 1985 | I7: Bruchtest | R7: 5. Kup | T7: LK-Zuordnung | U7: 10.-8.=LK4, 7.-5.=LK3, 4.-2.=LK2, ab 1. Kup=LK1 | V7: Vorschlag bleibt überschreibbar
A8: Klasse bis 50 Jahre / JG 1985-1976 | B8: 1976 | C8: 1985 | D8: nur Poomsae Einzel | I8: Speed-Kicking | R8: 4. Kup | T8: Teilnahmevoraussetzung | U8: Mindestens Einzel, Paar oder Team für weitere Klassen | V8: Pflichtprüfung in der Anmeldung
A9: Klasse ab 51 Jahre / JG ab 1975 | B9: 0 | C9: 1975 | R9: 3. Kup
R10: 2. Kup
R11: 1. Kup
R12: 1. Dan
R13: 2. Dan
R14: 3. Dan

Sheet Partnerlisten
A1: Regelbasierte Partner-Auswahllisten
A2: Regel | B2: Paar | C2: Team Starter/in 2 | D2: Team Starter/in 3 | E2: Family Mitglied 2 | F2: Family Mitglied 3 | G2: Einschrittkampf
B3: gleiche AK + LK + Paar=Ja | C3: gleiche AK + LK; ohne Starter/in 3 | D3: gleiche AK + LK; ohne Starter/in 2 | E3: Family=Ja; ohne Mitglied 3 | F3: Family=Ja; ohne Mitglied 2 | G3: gleiche AK + LK + Einschrittkampf=Ja
