Workbook

Sheet Anmeldung
A2: Taekwondo Verein Tangun Brandis e.V.
A3: Verantwortlich: | B3: Thomas und Susann Berndt
B4: tangun-brandis@gmx.de
A8: 1. Partheland-Cup – Vereins-Anmeldeformular
Z9: Ja | AA9: Nein
A10: Verein | D10: Ansprechpartner/in | G10: Telefon | Y10: Zusammenfassung Anmeldung | Z10: Wert
A11: E-Mail | G11: Datum | H11: =TODAY() -> 46278 | Y11: Anzahl Starter/innen | Z11: =COUNTIF(Table_1[Nachname],"<>") -> 0
Y12: Status OK | Z12: =COUNTIF(Table_1[Status],"OK") -> 0
Y13: Status Disziplin fehlt | Z13: =COUNTIF(Table_1[Status],"Disziplin fehlt") -> 0
A14: Graue Felder müssen nicht befüllt werden! | Y14: Status Partner fehlt | Z14: =COUNTIF(Table_1[Status],"Partner fehlt") -> 0
Y15: Starter/innen mit Einzel, Paar oder Team | Z15: =COUNTIF(Table_1[Status],"OK")+COUNTIF(Table_1[Status],"Partner fehlt") -> 0
Y16: Turniertagsprüfung | Z16: siehe Blatt Turniertag-Prüfung
A17: Status | B17: Nr. | C17: Verein | D17: Nachname | E17: Vorname | F17: Geburtsdatum | G17: Altersklasse | H17: Geschlecht | I17: Graduierung | J17: Leistungsklasse | K17: Poomsae Einzel | L17: Poomsae Paar | M17: Paar: Partner/in | N17: Poomsae Team | O17: Team: Starter/in 2 | P17: Team: Starter/in 3 | Q17: Poomsae Family | R17: Family: Mitglied 2 | S17: Family: Mitglied 3 | T17: Family-Leistungsklasse | U17: Einschritt- kampf | V17: Einschrittkampf: Partner/in | W17: Bruchtest | X17: Speed-Kicking | Y17: Startgebühr | AB17: Startgebühr
A18: =IF(Table_1[[#This Row],[Nachname]]="","",IF(AND(Table_1[[#This Row],[Poomsae Einzel]]<>"Ja",Table_1[[#This Row],[Poomsae Paar]]<>"Ja",Table_1[[#This Row],[Poomsae Team]]<>"Ja"),"Disziplin fehlt",IF(OR(AND(Table_1[[#This Row],[Poomsae Paar]]="Ja",Table_1[[#This Row],[Paar: Partner/in]]=""),AND(Table_1[[#This Row],[Poomsae Team]]="Ja",OR(Table_1[[#This Row],[Team: Starter/in 2]]="",Table_1[[#This Row],[Team: Starter/in 3]]="")),AND(Table_1[[#This Row],[Poomsae Family]]="Ja",Table_1[[#This Row],[Family: Mitglied 2]]=""),AND(Table_1[[#This Row],[Einschritt- kampf]]="Ja",Table_1[[#This Row],[Einschrittkampf: Partner/in]]="")),"Partner fehlt","OK"))) | B18: 1 | C18: =IF(D18="","",$B$10) | G18: =IF(F18="","",IF(YEAR(F18)>=2019,"Klasse bis 7 Jahre / JG bis 2019",IF(YEAR(F18)>=2015,"Klasse 8-11 Jahre / JG 2018-2015",IF(YEAR(F18)>=2012,"Klasse 12-14 Jahre / JG 2014-2012",IF(YEAR(F18)>=2009,"Klasse 15-17 Jahre / JG 2011-2009",IF(YEAR(F18)>=1986,"Klasse 18-40 Jahre / JG 2008-1986","Klasse ab 41 Jahre / JG ab 1985")))))) | J18: =IF(OR(D18="",I18=""),"",IF(OR(I18="10. Kup",I18="9. Kup",I18="8. Kup"),"LK4",IF(OR(I18="7. Kup",I18="6. Kup",I18="5. Kup"),"LK3",IF(OR(I18="4. Kup",I18="3. Kup",I18="2. Kup"),"LK2","LK1")))) | T18: {=IF(Q18<>"Ja","",IF(R18="","",CHOOSE(MAX(IF(OR(I18="10. Kup",I18="9. Kup",I18="8. Kup"),4,IF(OR(I18="7. Kup",I18="6. Kup",I18="5. Kup"),3,IF(OR(I18="4. Kup",I18="3. Kup",I18="2. Kup"),2,IF(I18<>"",1,0)))),IF(OR(IF(IFERROR(VALUE(LEFT(R18,FIND(":",R18)-1)),0)=0,"",INDEX($I$18:$I$47,IFERROR(VALUE(LEFT(R18,FIND(":",R18)-1)),0)))="10. Kup",IF(IFERROR(VALUE(LEFT(R18,FIND(":",R18)-1)),0)=0,"",INDEX($I$18:$I$47,IFERROR(VALUE(LEFT(R18,FIND(":",R18)-1)),0)))="9. Kup",IF(IFERROR(VALUE(LEFT(R18,FIND(":",R18)-1)),0)=0,"",INDEX($I$18:$I$47,IFERROR(VALUE(LEFT(R18,FIND(":",R18)-1)),0)))="8. Kup"),4,IF(OR(IF(IFERROR(VALUE(LEFT(R18,FIND(":",R18)-1)),0)=0,"",INDEX($I$18:$I$47,IFERROR(VALUE(LEFT(R18,FIND(":",R18)-1)),0)))="7. Kup",IF(IFERROR(VALUE(LEFT(R18,FIND(":",R18)-1)),0)=0,"",INDEX($I$18:$I$47,IFERROR(VALUE(LEFT(R18,FIND(":",R18)-1)),0)))="6. Kup",IF(IFERROR(VALUE(LEFT(R18,FIND(":",R18)-1)),0)=0,"",INDEX($I$18:$I$47,IFERROR(VALUE(LEFT(R18,FIND(":",R18)-1)),0)))="5. Kup"),3,IF(OR(IF(IFERROR(VALUE(LEFT(R18,FIND(":",R18)-1)),0)=0,"",INDEX($I$18:$I$47,IFERROR(VALUE(LEFT(R18,FIND(":",R18)-1)),0)))="4. Kup",IF(IFERROR(VALUE(LEFT(R18,FIND(":",R18)-1)),0)=0,"",INDEX($I$18:$I$47,IFERROR(VALUE(LEFT(R18,FIND(":",R18)-1)),0)))="3. Kup",IF(IFERROR(VALUE(LEFT(R18,FIND(":",R18)-1)),0)=0,"",INDEX($I$18:$I$47,IFERROR(VALUE(LEFT(R18,FIND(":",R18)-1)),0)))="2. Kup"),2,IF(IF(IFERROR(VALUE(LEFT(R18,FIND(":",R18)-1)),0)=0,"",INDEX($I$18:$I$47,IFERROR(VALUE(LEFT(R18,FIND(":",R18)-1)),0)))<>"",1,0)))),IF(OR(IF(IFERROR(VALUE(LEFT(S18,FIND(":",S18)-1)),0)=0,"",INDEX($I$18:$I$47,IFERROR(VALUE(LEFT(S18,FIND(":",S18)-1)),0)))="10. Kup",IF(IFERROR(VALUE(LEFT(S18,FIND(":",S18)-1)),0)=0,"",INDEX($I$18:$I$47,IFERROR(VALUE(LEFT(S18,FIND(":",S18)-1)),0)))="9. Kup",IF(IFERROR(VALUE(LEFT(S18,FIND(":",S18)-1)),0)=0,"",INDEX($I$18:$I$47,IFERROR(VALUE(LEFT(S18,FIND(":",S18)-1)),0)))="8. Kup"),4,IF(OR(IF(IFERROR(VALUE(LEFT(S18,FIND(":",S18)-1)),0)=0,"",INDEX($I$18:$I$47,IFERROR(VALUE(LEFT(S18,FIND(":",S18)-1)),0)))="7. Kup",IF(IFERROR(VALUE(LEFT(S18,FIND(":",S18)-1)),0)=0,"",INDEX($I$18:$I$47,IFERROR(VALUE(LEFT(S18,FIND(":",S18)-1)),0)))="6. Kup",IF(IFERROR(VALUE(LEFT(S18,FIND(":",S18)-1)),0)=0,"",INDEX($I$18:$I$47,IFERROR(VALUE(LEFT(S18,FIND(":",S18)-1)),0)))="5. Kup"),3,IF(OR(IF(IFERROR(VALUE(LEFT(S18,FIND(":",S18)-1)),0)=0,"",INDEX($I$18:$I$47,IFERROR(VALUE(LEFT(S18,FIND(":",S18)-1)),0)))="4. Kup",IF(IFERROR(VALUE(LEFT(S18,FIND(":",S18)-1)),0)=0,"",INDEX($I$18:$I$47,IFERROR(VALUE(LEFT(S18,FIND(":",S18)-1)),0)))="3. Kup",IF(IFERROR(VALUE(LEFT(S18,FIND(":",S18)-1)),0)=0,"",INDEX($I$18:$I$47,IFERROR(VALUE(LEFT(S18,FIND(":",S18)-1)),0)))="2. Kup"),2,IF(IF(IFERROR(VALUE(LEFT(S18,FIND(":",S18)-1)),0)=0,"",INDEX($I$18:$I$47,IFERROR(VALUE(LEFT(S18,FIND(":",S18)-1)),0)))<>"",1,0))))),"LK1","LK2","LK3","LK4")))} | Y18: =IF(D18="","",25) | AB18: =IF(ISTEXT(D18),25,"")
A19: =IF(Table_1[[#This Row],[Nachname]]="","",IF(AND(Table_1[[#This Row],[Poomsae Einzel]]<>"Ja",Table_1[[#This Row],[Poomsae Paar]]<>"Ja",Table_1[[#This Row],[Poomsae Team]]<>"Ja"),"Disziplin fehlt",IF(OR(AND(Table_1[[#This Row],[Poomsae Paar]]="Ja",Table_1[[#This Row],[Paar: Partner/in]]=""),AND(Table_1[[#This Row],[Poomsae Team]]="Ja",OR(Table_1[[#This Row],[Team: Starter/in 2]]="",Table_1[[#This Row],[Team: Starter/in 3]]="")),AND(Table_1[[#This Row],[Poomsae Family]]="Ja",Table_1[[#This Row],[Family: Mitglied 2]]=""),AND(Table_1[[#This Row],[Einschritt- kampf]]="Ja",Table_1[[#This Row],[Einschrittkampf: Partner/in]]="")),"Partner fehlt","OK"))) | B19: 2 | C19: =IF(D19="","",$B$10) | G19: =IF(F19="","",IF(YEAR(F19)>=2019,"Klasse bis 7 Jahre / JG bis 2019",IF(YEAR(F19)>=2015,"Klasse 8-11 Jahre / JG 2018-2015",IF(YEAR(F19)>=2012,"Klasse 12-14 Jahre / JG 2014-2012",IF(YEAR(F19)>=2009,"Klasse 15-17 Jahre / JG 2011-2009",IF(YEAR(F19)>=1986,"Klasse 18-40 Jahre / JG 2008-1986","Klasse ab 41 Jahre / JG ab 1985")))))) | J19: =IF(OR(D19="",I19=""),"",IF(OR(I19="10. Kup",I19="9. Kup",I19="8. Kup"),"LK4",IF(OR(I19="7. Kup",I19="6. Kup",I19="5. Kup"),"LK3",IF(OR(I19="4. Kup",I19="3. Kup",I19="2. Kup"),"LK2","LK1")))) | T19: {=IF(Q19<>"Ja","",IF(R19="","",CHOOSE(MAX(IF(OR(I19="10. Kup",I19="9. Kup",I19="8. Kup"),4,IF(OR(I19="7. Kup",I19="6. Kup",I19="5. Kup"),3,IF(OR(I19="4. Kup",I19="3. Kup",I19="2. Kup"),2,IF(I19<>"",1,0)))),IF(OR(IF(IFERROR(VALUE(LEFT(R19,FIND(":",R19)-1)),0)=0,"",INDEX($I$18:$I$47,IFERROR(VALUE(LEFT(R19,FIND(":",R19)-1)),0)))="10. Kup",IF(IFERROR(VALUE(LEFT(R19,FIND(":",R19)-1)),0)=0,"",INDEX($I$18:$I$47,IFERROR(VALUE(LEFT(R19,FIND(":",R19)-1)),0)))="9. Kup",IF(IFERROR(VALUE(LEFT(R19,FIND(":",R19)-1)),0)=0,"",INDEX($I$18:$I$47,IFERROR(VALUE(LEFT(R19,FIND(":",R19)-1)),0)))="8. Kup"),4,IF(OR(IF(IFERROR(VALUE(LEFT(R19,FIND(":",R19)-1)),0)=0,"",INDEX($I$18:$I$47,IFERROR(VALUE(LEFT(R19,FIND(":",R19)-1)),0)))="7. Kup",IF(IFERROR(VALUE(LEFT(R19,FIND(":",R19)-1)),0)=0,"",INDEX($I$18:$I$47,IFERROR(VALUE(LEFT(R19,FIND(":",R19)-1)),0)))="6. Kup",IF(IFERROR(VALUE(LEFT(R19,FIND(":",R19)-1)),0)=0,"",INDEX($I$18:$I$47,IFERROR(VALUE(LEFT(R19,FIND(":",R19)-1)),0)))="5. Kup"),3,IF(OR(IF(IFERROR(VALUE(LEFT(R19,FIND(":",R19)-1)),0)=0,"",INDEX($I$18:$I$47,IFERROR(VALUE(LEFT(R19,FIND(":",R19)-1)),0)))="4. Kup",IF(IFERROR(VALUE(LEFT(R19,FIND(":",R19)-1)),0)=0,"",INDEX($I$18:$I$47,IFERROR(VALUE(LEFT(R19,FIND(":",R19)-1)),0)))="3. Kup",IF(IFERROR(VALUE(LEFT(R19,FIND(":",R19)-1)),0)=0,"",INDEX($I$18:$I$47,IFERROR(VALUE(LEFT(R19,FIND(":",R19)-1)),0)))="2. Kup"),2,IF(IF(IFERROR(VALUE(LEFT(R19,FIND(":",R19)-1)),0)=0,"",INDEX($I$18:$I$47,IFERROR(VALUE(LEFT(R19,FIND(":",R19)-1)),0)))<>"",1,0)))),IF(OR(IF(IFERROR(VALUE(LEFT(S19,FIND(":",S19)-1)),0)=0,"",INDEX($I$18:$I$47,IFERROR(VALUE(LEFT(S19,FIND(":",S19)-1)),0)))="10. Kup",IF(IFERROR(VALUE(LEFT(S19,FIND(":",S19)-1)),0)=0,"",INDEX($I$18:$I$47,IFERROR(VALUE(LEFT(S19,FIND(":",S19)-1)),0)))="9. Kup",IF(IFERROR(VALUE(LEFT(S19,FIND(":",S19)-1)),0)=0,"",INDEX($I$18:$I$47,IFERROR(VALUE(LEFT(S19,FIND(":",S19)-1)),0)))="8. Kup"),4,IF(OR(IF(IFERROR(VALUE(LEFT(S19,FIND(":",S19)-1)),0)=0,"",INDEX($I$18:$I$47,IFERROR(VALUE(LEFT(S19,FIND(":",S19)-1)),0)))="7. Kup",IF(IFERROR(VALUE(LEFT(S19,FIND(":",S19)-1)),0)=0,"",INDEX($I$18:$I$47,IFERROR(VALUE(LEFT(S19,FIND(":",S19)-1)),0)))="6. Kup",IF(IFERROR(VALUE(LEFT(S19,FIND(":",S19)-1)),0)=0,"",INDEX($I$18:$I$47,IFERROR(VALUE(LEFT(S19,FIND(":",S19)-1)),0)))="5. Kup"),3,IF(OR(IF(IFERROR(VALUE(LEFT(S19,FIND(":",S19)-1)),0)=0,"",INDEX($I$18:$I$47,IFERROR(VALUE(LEFT(S19,FIND(":",S19)-1)),0)))="4. Kup",IF(IFERROR(VALUE(LEFT(S19,FIND(":",S19)-1)),0)=0,"",INDEX($I$18:$I$47,IFERROR(VALUE(LEFT(S19,FIND(":",S19)-1)),0)))="3. Kup",IF(IFERROR(VALUE(LEFT(S19,FIND(":",S19)-1)),0)=0,"",INDEX($I$18:$I$47,IFERROR(VALUE(LEFT(S19,FIND(":",S19)-1)),0)))="2. Kup"),2,IF(IF(IFERROR(VALUE(LEFT(S19,FIND(":",S19)-1)),0)=0,"",INDEX($I$18:$I$47,IFERROR(VALUE(LEFT(S19,FIND(":",S19)-1)),0)))<>"",1,0))))),"LK1","LK2","LK3","LK4")))} | Y19: =IF(D19="","",25) | AB19: =IF(ISTEXT(D19),25,"")
A20: =IF(Table_1[[#This Row],[Nachname]]="","",IF(AND(Table_1[[#This Row],[Poomsae Einzel]]<>"Ja",Table_1[[#This Row],[Poomsae Paar]]<>"Ja",Table_1[[#This Row],[Poomsae Team]]<>"Ja"),"Disziplin fehlt",IF(OR(AND(Table_1[[#This Row],[Poomsae Paar]]="Ja",Table_1[[#This Row],[Paar: Partner/in]]=""),AND(Table_1[[#This Row],[Poomsae Team]]="Ja",OR(Table_1[[#This Row],[Team: Starter/in 2]]="",Table_1[[#This Row],[Team: Starter/in 3]]="")),AND(Table_1[[#This Row],[Poomsae Family]]="Ja",Table_1[[#This Row],[Family: Mitglied 2]]=""),AND(Table_1[[#This Row],[Einschritt- kampf]]="Ja",Table_1[[#This Row],[Einschrittkampf: Partner/in]]="")),"Partner fehlt","OK"))) | B20: 3 | C20: =IF(D20="","",$B$10) | G20: =IF(F20="","",IF(YEAR(F20)>=2019,"Klasse bis 7 Jahre / JG bis 2019",IF(YEAR(F20)>=2015,"Klasse 8-11 Jahre / JG 2018-2015",IF(YEAR(F20)>=2012,"Klasse 12-14 Jahre / JG 2014-2012",IF(YEAR(F20)>=2009,"Klasse 15-17 Jahre / JG 2011-2009",IF(YEAR(F20)>=1986,"Klasse 18-40 Jahre / JG 2008-1986","Klasse ab 41 Jahre / JG ab 1985")))))) | J20: =IF(OR(D20="",I20=""),"",IF(OR(I20="10. Kup",I20="9. Kup",I20="8. Kup"),"LK4",IF(OR(I20="7. Kup",I20="6. Kup",I20="5. Kup"),"LK3",IF(OR(I20="4. Kup",I20="3. Kup",I20="2. Kup"),"LK2","LK1")))) | T20: {=IF(Q20<>"Ja","",IF(R20="","",CHOOSE(MAX(IF(OR(I20="10. Kup",I20="9. Kup",I20="8. Kup"),4,IF(OR(I20="7. Kup",I20="6. Kup",I20="5. Kup"),3,IF(OR(I20="4. Kup",I20="3. Kup",I20="2. Kup"),2,IF(I20<>"",1,0)))),IF(OR(IF(IFERROR(VALUE(LEFT(R20,FIND(":",R20)-1)),0)=0,"",INDEX($I$18:$I$47,IFERROR(VALUE(LEFT(R20,FIND(":",R20)-1)),0)))="10. Kup",IF(IFERROR(VALUE(LEFT(R20,FIND(":",R20)-1)),0)=0,"",INDEX($I$18:$I$47,IFERROR(VALUE(LEFT(R20,FIND(":",R20)-1)),0)))="9. Kup",IF(IFERROR(VALUE(LEFT(R20,FIND(":",R20)-1)),0)=0,"",INDEX($I$18:$I$47,IFERROR(VALUE(LEFT(R20,FIND(":",R20)-1)),0)))="8. Kup"),4,IF(OR(IF(IFERROR(VALUE(LEFT(R20,FIND(":",R20)-1)),0)=0,"",INDEX($I$18:$I$47,IFERROR(VALUE(LEFT(R20,FIND(":",R20)-1)),0)))="7. Kup",IF(IFERROR(VALUE(LEFT(R20,FIND(":",R20)-1)),0)=0,"",INDEX($I$18:$I$47,IFERROR(VALUE(LEFT(R20,FIND(":",R20)-1)),0)))="6. Kup",IF(IFERROR(VALUE(LEFT(R20,FIND(":",R20)-1)),0)=0,"",INDEX($I$18:$I$47,IFERROR(VALUE(LEFT(R20,FIND(":",R20)-1)),0)))="5. Kup"),3,IF(OR(IF(IFERROR(VALUE(LEFT(R20,FIND(":",R20)-1)),0)=0,"",INDEX($I$18:$I$47,IFERROR(VALUE(LEFT(R20,FIND(":",R20)-1)),0)))="4. Kup",IF(IFERROR(VALUE(LEFT(R20,FIND(":",R20)-1)),0)=0,"",INDEX($I$18:$I$47,IFERROR(VALUE(LEFT(R20,FIND(":",R20)-1)),0)))="3. Kup",IF(IFERROR(VALUE(LEFT(R20,FIND(":",R20)-1)),0)=0,"",INDEX($I$18:$I$47,IFERROR(VALUE(LEFT(R20,FIND(":",R20)-1)),0)))="2. Kup"),2,IF(IF(IFERROR(VALUE(LEFT(R20,FIND(":",R20)-1)),0)=0,"",INDEX($I$18:$I$47,IFERROR(VALUE(LEFT(R20,FIND(":",R20)-1)),0)))<>"",1,0)))),IF(OR(IF(IFERROR(VALUE(LEFT(S20,FIND(":",S20)-1)),0)=0,"",INDEX($I$18:$I$47,IFERROR(VALUE(LEFT(S20,FIND(":",S20)-1)),0)))="10. Kup",IF(IFERROR(VALUE(LEFT(S20,FIND(":",S20)-1)),0)=0,"",INDEX($I$18:$I$47,IFERROR(VALUE(LEFT(S20,FIND(":",S20)-1)),0)))="9. Kup",IF(IFERROR(VALUE(LEFT(S20,FIND(":",S20)-1)),0)=0,"",INDEX($I$18:$I$47,IFERROR(VALUE(LEFT(S20,FIND(":",S20)-1)),0)))="8. Kup"),4,IF(OR(IF(IFERROR(VALUE(LEFT(S20,FIND(":",S20)-1)),0)=0,"",INDEX($I$18:$I$47,IFERROR(VALUE(LEFT(S20,FIND(":",S20)-1)),0)))="7. Kup",IF(IFERROR(VALUE(LEFT(S20,FIND(":",S20)-1)),0)=0,"",INDEX($I$18:$I$47,IFERROR(VALUE(LEFT(S20,FIND(":",S20)-1)),0)))="6. Kup",IF(IFERROR(VALUE(LEFT(S20,FIND(":",S20)-1)),0)=0,"",INDEX($I$18:$I$47,IFERROR(VALUE(LEFT(S20,FIND(":",S20)-1)),0)))="5. Kup"),3,IF(OR(IF(IFERROR(VALUE(LEFT(S20,FIND(":",S20)-1)),0)=0,"",INDEX($I$18:$I$47,IFERROR(VALUE(LEFT(S20,FIND(":",S20)-1)),0)))="4. Kup",IF(IFERROR(VALUE(LEFT(S20,FIND(":",S20)-1)),0)=0,"",INDEX($I$18:$I$47,IFERROR(VALUE(LEFT(S20,FIND(":",S20)-1)),0)))="3. Kup",IF(IFERROR(VALUE(LEFT(S20,FIND(":",S20)-1)),0)=0,"",INDEX($I$18:$I$47,IFERROR(VALUE(LEFT(S20,FIND(":",S20)-1)),0)))="2. Kup"),2,IF(IF(IFERROR(VALUE(LEFT(S20,FIND(":",S20)-1)),0)=0,"",INDEX($I$18:$I$47,IFERROR(VALUE(LEFT(S20,FIND(":",S20)-1)),0)))<>"",1,0))))),"LK1","LK2","LK3","LK4")))} | Y20: =IF(D20="","",25) | AB20: =IF(ISTEXT(D20),25,"")
A21: =IF(Table_1[[#This Row],[Nachname]]="","",IF(AND(Table_1[[#This Row],[Poomsae Einzel]]<>"Ja",Table_1[[#This Row],[Poomsae Paar]]<>"Ja",Table_1[[#This Row],[Poomsae Team]]<>"Ja"),"Disziplin fehlt",IF(OR(AND(Table_1[[#This Row],[Poomsae Paar]]="Ja",Table_1[[#This Row],[Paar: Partner/in]]=""),AND(Table_1[[#This Row],[Poomsae Team]]="Ja",OR(Table_1[[#This Row],[Team: Starter/in 2]]="",Table_1[[#This Row],[Team: Starter/in 3]]="")),AND(Table_1[[#This Row],[Poomsae Family]]="Ja",Table_1[[#This Row],[Family: Mitglied 2]]=""),AND(Table_1[[#This Row],[Einschritt- kampf]]="Ja",Table_1[[#This Row],[Einschrittkampf: Partner/in]]="")),"Partner fehlt","OK"))) | B21: 4 | C21: =IF(D21="","",$B$10) | G21: =IF(F21="","",IF(YEAR(F21)>=2019,"Klasse bis 7 Jahre / JG bis 2019",IF(YEAR(F21)>=2015,"Klasse 8-11 Jahre / JG 2018-2015",IF(YEAR(F21)>=2012,"Klasse 12-14 Jahre / JG 2014-2012",IF(YEAR(F21)>=2009,"Klasse 15-17 Jahre / JG 2011-2009",IF(YEAR(F21)>=1986,"Klasse 18-40 Jahre / JG 2008-1986","Klasse ab 41 Jahre / JG ab 1985")))))) | J21: =IF(OR(D21="",I21=""),"",IF(OR(I21="10. Kup",I21="9. Kup",I21="8. Kup"),"LK4",IF(OR(I21="7. Kup",I21="6. Kup",I21="5. Kup"),"LK3",IF(OR(I21="4. Kup",I21="3. Kup",I21="2. Kup"),"LK2","LK1")))) | T21: {=IF(Q21<>"Ja","",IF(R21="","",CHOOSE(MAX(IF(OR(I21="10. Kup",I21="9. Kup",I21="8. Kup"),4,IF(OR(I21="7. Kup",I21="6. Kup",I21="5. Kup"),3,IF(OR(I21="4. Kup",I21="3. Kup",I21="2. Kup"),2,IF(I21<>"",1,0)))),IF(OR(IF(IFERROR(VALUE(LEFT(R21,FIND(":",R21)-1)),0)=0,"",INDEX($I$18:$I$47,IFERROR(VALUE(LEFT(R21,FIND(":",R21)-1)),0)))="10. Kup",IF(IFERROR(VALUE(LEFT(R21,FIND(":",R21)-1)),0)=0,"",INDEX($I$18:$I$47,IFERROR(VALUE(LEFT(R21,FIND(":",R21)-1)),0)))="9. Kup",IF(IFERROR(VALUE(LEFT(R21,FIND(":",R21)-1)),0)=0,"",INDEX($I$18:$I$47,IFERROR(VALUE(LEFT(R21,FIND(":",R21)-1)),0)))="8. Kup"),4,IF(OR(IF(IFERROR(VALUE(LEFT(R21,FIND(":",R21)-1)),0)=0,"",INDEX($I$18:$I$47,IFERROR(VALUE(LEFT(R21,FIND(":",R21)-1)),0)))="7. Kup",IF(IFERROR(VALUE(LEFT(R21,FIND(":",R21)-1)),0)=0,"",INDEX($I$18:$I$47,IFERROR(VALUE(LEFT(R21,FIND(":",R21)-1)),0)))="6. Kup",IF(IFERROR(VALUE(LEFT(R21,FIND(":",R21)-1)),0)=0,"",INDEX($I$18:$I$47,IFERROR(VALUE(LEFT(R21,FIND(":",R21)-1)),0)))="5. Kup"),3,IF(OR(IF(IFERROR(VALUE(LEFT(R21,FIND(":",R21)-1)),0)=0,"",INDEX($I$18:$I$47,IFERROR(VALUE(LEFT(R21,FIND(":",R21)-1)),0)))="4. Kup",IF(IFERROR(VALUE(LEFT(R21,FIND(":",R21)-1)),0)=0,"",INDEX($I$18:$I$47,IFERROR(VALUE(LEFT(R21,FIND(":",R21)-1)),0)))="3. Kup",IF(IFERROR(VALUE(LEFT(R21,FIND(":",R21)-1)),0)=0,"",INDEX($I$18:$I$47,IFERROR(VALUE(LEFT(R21,FIND(":",R21)-1)),0)))="2. Kup"),2,IF(IF(IFERROR(VALUE(LEFT(R21,FIND(":",R21)-1)),0)=0,"",INDEX($I$18:$I$47,IFERROR(VALUE(LEFT(R21,FIND(":",R21)-1)),0)))<>"",1,0)))),IF(OR(IF(IFERROR(VALUE(LEFT(S21,FIND(":",S21)-1)),0)=0,"",INDEX($I$18:$I$47,IFERROR(VALUE(LEFT(S21,FIND(":",S21)-1)),0)))="10. Kup",IF(IFERROR(VALUE(LEFT(S21,FIND(":",S21)-1)),0)=0,"",INDEX($I$18:$I$47,IFERROR(VALUE(LEFT(S21,FIND(":",S21)-1)),0)))="9. Kup",IF(IFERROR(VALUE(LEFT(S21,FIND(":",S21)-1)),0)=0,"",INDEX($I$18:$I$47,IFERROR(VALUE(LEFT(S21,FIND(":",S21)-1)),0)))="8. Kup"),4,IF(OR(IF(IFERROR(VALUE(LEFT(S21,FIND(":",S21)-1)),0)=0,"",INDEX($I$18:$I$47,IFERROR(VALUE(LEFT(S21,FIND(":",S21)-1)),0)))="7. Kup",IF(IFERROR(VALUE(LEFT(S21,FIND(":",S21)-1)),0)=0,"",INDEX($I$18:$I$47,IFERROR(VALUE(LEFT(S21,FIND(":",S21)-1)),0)))="6. Kup",IF(IFERROR(VALUE(LEFT(S21,FIND(":",S21)-1)),0)=0,"",INDEX($I$18:$I$47,IFERROR(VALUE(LEFT(S21,FIND(":",S21)-1)),0)))="5. Kup"),3,IF(OR(IF(IFERROR(VALUE(LEFT(S21,FIND(":",S21)-1)),0)=0,"",INDEX($I$18:$I$47,IFERROR(VALUE(LEFT(S21,FIND(":",S21)-1)),0)))="4. Kup",IF(IFERROR(VALUE(LEFT(S21,FIND(":",S21)-1)),0)=0,"",INDEX($I$18:$I$47,IFERROR(VALUE(LEFT(S21,FIND(":",S21)-1)),0)))="3. Kup",IF(IFERROR(VALUE(LEFT(S21,FIND(":",S21)-1)),0)=0,"",INDEX($I$18:$I$47,IFERROR(VALUE(LEFT(S21,FIND(":",S21)-1)),0)))="2. Kup"),2,IF(IF(IFERROR(VALUE(LEFT(S21,FIND(":",S21)-1)),0)=0,"",INDEX($I$18:$I$47,IFERROR(VALUE(LEFT(S21,FIND(":",S21)-1)),0)))<>"",1,0))))),"LK1","LK2","LK3","LK4")))} | Y21: =IF(D21="","",25) | AB21: =IF(ISTEXT(D21),25,"")
A22: =IF(Table_1[[#This Row],[Nachname]]="","",IF(AND(Table_1[[#This Row],[Poomsae Einzel]]<>"Ja",Table_1[[#This Row],[Poomsae Paar]]<>"Ja",Table_1[[#This Row],[Poomsae Team]]<>"Ja"),"Disziplin fehlt",IF(OR(AND(Table_1[[#This Row],[Poomsae Paar]]="Ja",Table_1[[#This Row],[Paar: Partner/in]]=""),AND(Table_1[[#This Row],[Poomsae Team]]="Ja",OR(Table_1[[#This Row],[Team: Starter/in 2]]="",Table_1[[#This Row],[Team: Starter/in 3]]="")),AND(Table_1[[#This Row],[Poomsae Family]]="Ja",Table_1[[#This Row],[Family: Mitglied 2]]=""),AND(Table_1[[#This Row],[Einschritt- kampf]]="Ja",Table_1[[#This Row],[Einschrittkampf: Partner/in]]="")),"Partner fehlt","OK"))) | B22: 5 | C22: =IF(D22="","",$B$10) | G22: =IF(F22="","",IF(YEAR(F22)>=2019,"Klasse bis 7 Jahre / JG bis 2019",IF(YEAR(F22)>=2015,"Klasse 8-11 Jahre / JG 2018-2015",IF(YEAR(F22)>=2012,"Klasse 12-14 Jahre / JG 2014-2012",IF(YEAR(F22)>=2009,"Klasse 15-17 Jahre / JG 2011-2009",IF(YEAR(F22)>=1986,"Klasse 18-40 Jahre / JG 2008-1986","Klasse ab 41 Jahre / JG ab 1985")))))) | J22: =IF(OR(D22="",I22=""),"",IF(OR(I22="10. Kup",I22="9. Kup",I22="8. Kup"),"LK4",IF(OR(I22="7. Kup",I22="6. Kup",I22="5. Kup"),"LK3",IF(OR(I22="4. Kup",I22="3. Kup",I22="2. Kup"),"LK2","LK1")))) | T22: {=IF(Q22<>"Ja","",IF(R22="","",CHOOSE(MAX(IF(OR(I22="10. Kup",I22="9. Kup",I22="8. Kup"),4,IF(OR(I22="7. Kup",I22="6. Kup",I22="5. Kup"),3,IF(OR(I22="4. Kup",I22="3. Kup",I22="2. Kup"),2,IF(I22<>"",1,0)))),IF(OR(IF(IFERROR(VALUE(LEFT(R22,FIND(":",R22)-1)),0)=0,"",INDEX($I$18:$I$47,IFERROR(VALUE(LEFT(R22,FIND(":",R22)-1)),0)))="10. Kup",IF(IFERROR(VALUE(LEFT(R22,FIND(":",R22)-1)),0)=0,"",INDEX($I$18:$I$47,IFERROR(VALUE(LEFT(R22,FIND(":",R22)-1)),0)))="9. Kup",IF(IFERROR(VALUE(LEFT(R22,FIND(":",R22)-1)),0)=0,"",INDEX($I$18:$I$47,IFERROR(VALUE(LEFT(R22,FIND(":",R22)-1)),0)))="8. Kup"),4,IF(OR(IF(IFERROR(VALUE(LEFT(R22,FIND(":",R22)-1)),0)=0,"",INDEX($I$18:$I$47,IFERROR(VALUE(LEFT(R22,FIND(":",R22)-1)),0)))="7. Kup",IF(IFERROR(VALUE(LEFT(R22,FIND(":",R22)-1)),0)=0,"",INDEX($I$18:$I$47,IFERROR(VALUE(LEFT(R22,FIND(":",R22)-1)),0)))="6. Kup",IF(IFERROR(VALUE(LEFT(R22,FIND(":",R22)-1)),0)=0,"",INDEX($I$18:$I$47,IFERROR(VALUE(LEFT(R22,FIND(":",R22)-1)),0)))="5. Kup"),3,IF(OR(IF(IFERROR(VALUE(LEFT(R22,FIND(":",R22)-1)),0)=0,"",INDEX($I$18:$I$47,IFERROR(VALUE(LEFT(R22,FIND(":",R22)-1)),0)))="4. Kup",IF(IFERROR(VALUE(LEFT(R22,FIND(":",R22)-1)),0)=0,"",INDEX($I$18:$I$47,IFERROR(VALUE(LEFT(R22,FIND(":",R22)-1)),0)))="3. Kup",IF(IFERROR(VALUE(LEFT(R22,FIND(":",R22)-1)),0)=0,"",INDEX($I$18:$I$47,IFERROR(VALUE(LEFT(R22,FIND(":",R22)-1)),0)))="2. Kup"),2,IF(IF(IFERROR(VALUE(LEFT(R22,FIND(":",R22)-1)),0)=0,"",INDEX($I$18:$I$47,IFERROR(VALUE(LEFT(R22,FIND(":",R22)-1)),0)))<>"",1,0)))),IF(OR(IF(IFERROR(VALUE(LEFT(S22,FIND(":",S22)-1)),0)=0,"",INDEX($I$18:$I$47,IFERROR(VALUE(LEFT(S22,FIND(":",S22)-1)),0)))="10. Kup",IF(IFERROR(VALUE(LEFT(S22,FIND(":",S22)-1)),0)=0,"",INDEX($I$18:$I$47,IFERROR(VALUE(LEFT(S22,FIND(":",S22)-1)),0)))="9. Kup",IF(IFERROR(VALUE(LEFT(S22,FIND(":",S22)-1)),0)=0,"",INDEX($I$18:$I$47,IFERROR(VALUE(LEFT(S22,FIND(":",S22)-1)),0)))="8. Kup"),4,IF(OR(IF(IFERROR(VALUE(LEFT(S22,FIND(":",S22)-1)),0)=0,"",INDEX($I$18:$I$47,IFERROR(VALUE(LEFT(S22,FIND(":",S22)-1)),0)))="7. Kup",IF(IFERROR(VALUE(LEFT(S22,FIND(":",S22)-1)),0)=0,"",INDEX($I$18:$I$47,IFERROR(VALUE(LEFT(S22,FIND(":",S22)-1)),0)))="6. Kup",IF(IFERROR(VALUE(LEFT(S22,FIND(":",S22)-1)),0)=0,"",INDEX($I$18:$I$47,IFERROR(VALUE(LEFT(S22,FIND(":",S22)-1)),0)))="5. Kup"),3,IF(OR(IF(IFERROR(VALUE(LEFT(S22,FIND(":",S22)-1)),0)=0,"",INDEX($I$18:$I$47,IFERROR(VALUE(LEFT(S22,FIND(":",S22)-1)),0)))="4. Kup",IF(IFERROR(VALUE(LEFT(S22,FIND(":",S22)-1)),0)=0,"",INDEX($I$18:$I$47,IFERROR(VALUE(LEFT(S22,FIND(":",S22)-1)),0)))="3. Kup",IF(IFERROR(VALUE(LEFT(S22,FIND(":",S22)-1)),0)=0,"",INDEX($I$18:$I$47,IFERROR(VALUE(LEFT(S22,FIND(":",S22)-1)),0)))="2. Kup"),2,IF(IF(IFERROR(VALUE(LEFT(S22,FIND(":",S22)-1)),0)=0,"",INDEX($I$18:$I$47,IFERROR(VALUE(LEFT(S22,FIND(":",S22)-1)),0)))<>"",1,0))))),"LK1","LK2","LK3","LK4")))} | Y22: =IF(D22="","",25) | AB22: =IF(ISTEXT(D22),25,"")
A23: =IF(Table_1[[#This Row],[Nachname]]="","",IF(AND(Table_1[[#This Row],[Poomsae Einzel]]<>"Ja",Table_1[[#This Row],[Poomsae Paar]]<>"Ja",Table_1[[#This Row],[Poomsae Team]]<>"Ja"),"Disziplin fehlt",IF(OR(AND(Table_1[[#This Row],[Poomsae Paar]]="Ja",Table_1[[#This Row],[Paar: Partner/in]]=""),AND(Table_1[[#This Row],[Poomsae Team]]="Ja",OR(Table_1[[#This Row],[Team: Starter/in 2]]="",Table_1[[#This Row],[Team: Starter/in 3]]="")),AND(Table_1[[#This Row],[Poomsae Family]]="Ja",Table_1[[#This Row],[Family: Mitglied 2]]=""),AND(Table_1[[#This Row],[Einschritt- kampf]]="Ja",Table_1[[#This Row],[Einschrittkampf: Partner/in]]="")),"Partner fehlt","OK"))) | B23: 6 | C23: =IF(D23="","",$B$10) | G23: =IF(F23="","",IF(YEAR(F23)>=2019,"Klasse bis 7 Jahre / JG bis 2019",IF(YEAR(F23)>=2015,"Klasse 8-11 Jahre / JG 2018-2015",IF(YEAR(F23)>=2012,"Klasse 12-14 Jahre / JG 2014-2012",IF(YEAR(F23)>=2009,"Klasse 15-17 Jahre / JG 2011-2009",IF(YEAR(F23)>=1986,"Klasse 18-40 Jahre / JG 2008-1986","Klasse ab 41 Jahre / JG ab 1985")))))) | J23: =IF(OR(D23="",I23=""),"",IF(OR(I23="10. Kup",I23="9. Kup",I23="8. Kup"),"LK4",IF(OR(I23="7. Kup",I23="6. Kup",I23="5. Kup"),"LK3",IF(OR(I23="4. Kup",I23="3. Kup",I23="2. Kup"),"LK2","LK1")))) | T23: {=IF(Q23<>"Ja","",IF(R23="","",CHOOSE(MAX(IF(OR(I23="10. Kup",I23="9. Kup",I23="8. Kup"),4,IF(OR(I23="7. Kup",I23="6. Kup",I23="5. Kup"),3,IF(OR(I23="4. Kup",I23="3. Kup",I23="2. Kup"),2,IF(I23<>"",1,0)))),IF(OR(IF(IFERROR(VALUE(LEFT(R23,FIND(":",R23)-1)),0)=0,"",INDEX($I$18:$I$47,IFERROR(VALUE(LEFT(R23,FIND(":",R23)-1)),0)))="10. Kup",IF(IFERROR(VALUE(LEFT(R23,FIND(":",R23)-1)),0)=0,"",INDEX($I$18:$I$47,IFERROR(VALUE(LEFT(R23,FIND(":",R23)-1)),0)))="9. Kup",IF(IFERROR(VALUE(LEFT(R23,FIND(":",R23)-1)),0)=0,"",INDEX($I$18:$I$47,IFERROR(VALUE(LEFT(R23,FIND(":",R23)-1)),0)))="8. Kup"),4,IF(OR(IF(IFERROR(VALUE(LEFT(R23,FIND(":",R23)-1)),0)=0,"",INDEX($I$18:$I$47,IFERROR(VALUE(LEFT(R23,FIND(":",R23)-1)),0)))="7. Kup",IF(IFERROR(VALUE(LEFT(R23,FIND(":",R23)-1)),0)=0,"",INDEX($I$18:$I$47,IFERROR(VALUE(LEFT(R23,FIND(":",R23)-1)),0)))="6. Kup",IF(IFERROR(VALUE(LEFT(R23,FIND(":",R23)-1)),0)=0,"",INDEX($I$18:$I$47,IFERROR(VALUE(LEFT(R23,FIND(":",R23)-1)),0)))="5. Kup"),3,IF(OR(IF(IFERROR(VALUE(LEFT(R23,FIND(":",R23)-1)),0)=0,"",INDEX($I$18:$I$47,IFERROR(VALUE(LEFT(R23,FIND(":",R23)-1)),0)))="4. Kup",IF(IFERROR(VALUE(LEFT(R23,FIND(":",R23)-1)),0)=0,"",INDEX($I$18:$I$47,IFERROR(VALUE(LEFT(R23,FIND(":",R23)-1)),0)))="3. Kup",IF(IFERROR(VALUE(LEFT(R23,FIND(":",R23)-1)),0)=0,"",INDEX($I$18:$I$47,IFERROR(VALUE(LEFT(R23,FIND(":",R23)-1)),0)))="2. Kup"),2,IF(IF(IFERROR(VALUE(LEFT(R23,FIND(":",R23)-1)),0)=0,"",INDEX($I$18:$I$47,IFERROR(VALUE(LEFT(R23,FIND(":",R23)-1)),0)))<>"",1,0)))),IF(OR(IF(IFERROR(VALUE(LEFT(S23,FIND(":",S23)-1)),0)=0,"",INDEX($I$18:$I$47,IFERROR(VALUE(LEFT(S23,FIND(":",S23)-1)),0)))="10. Kup",IF(IFERROR(VALUE(LEFT(S23,FIND(":",S23)-1)),0)=0,"",INDEX($I$18:$I$47,IFERROR(VALUE(LEFT(S23,FIND(":",S23)-1)),0)))="9. Kup",IF(IFERROR(VALUE(LEFT(S23,FIND(":",S23)-1)),0)=0,"",INDEX($I$18:$I$47,IFERROR(VALUE(LEFT(S23,FIND(":",S23)-1)),0)))="8. Kup"),4,IF(OR(IF(IFERROR(VALUE(LEFT(S23,FIND(":",S23)-1)),0)=0,"",INDEX($I$18:$I$47,IFERROR(VALUE(LEFT(S23,FIND(":",S23)-1)),0)))="7. Kup",IF(IFERROR(VALUE(LEFT(S23,FIND(":",S23)-1)),0)=0,"",INDEX($I$18:$I$47,IFERROR(VALUE(LEFT(S23,FIND(":",S23)-1)),0)))="6. Kup",IF(IFERROR(VALUE(LEFT(S23,FIND(":",S23)-1)),0)=0,"",INDEX($I$18:$I$47,IFERROR(VALUE(LEFT(S23,FIND(":",S23)-1)),0)))="5. Kup"),3,IF(OR(IF(IFERROR(VALUE(LEFT(S23,FIND(":",S23)-1)),0)=0,"",INDEX($I$18:$I$47,IFERROR(VALUE(LEFT(S23,FIND(":",S23)-1)),0)))="4. Kup",IF(IFERROR(VALUE(LEFT(S23,FIND(":",S23)-1)),0)=0,"",INDEX($I$18:$I$47,IFERROR(VALUE(LEFT(S23,FIND(":",S23)-1)),0)))="3. Kup",IF(IFERROR(VALUE(LEFT(S23,FIND(":",S23)-1)),0)=0,"",INDEX($I$18:$I$47,IFERROR(VALUE(LEFT(S23,FIND(":",S23)-1)),0)))="2. Kup"),2,IF(IF(IFERROR(VALUE(LEFT(S23,FIND(":",S23)-1)),0)=0,"",INDEX($I$18:$I$47,IFERROR(VALUE(LEFT(S23,FIND(":",S23)-1)),0)))<>"",1,0))))),"LK1","LK2","LK3","LK4")))} | Y23: =IF(D23="","",25) | AB23: =IF(ISTEXT(D23),25,"")
A24: =IF(Table_1[[#This Row],[Nachname]]="","",IF(AND(Table_1[[#This Row],[Poomsae Einzel]]<>"Ja",Table_1[[#This Row],[Poomsae Paar]]<>"Ja",Table_1[[#This Row],[Poomsae Team]]<>"Ja"),"Disziplin fehlt",IF(OR(AND(Table_1[[#This Row],[Poomsae Paar]]="Ja",Table_1[[#This Row],[Paar: Partner/in]]=""),AND(Table_1[[#This Row],[Poomsae Team]]="Ja",OR(Table_1[[#This Row],[Team: Starter/in 2]]="",Table_1[[#This Row],[Team: Starter/in 3]]="")),AND(Table_1[[#This Row],[Poomsae Family]]="Ja",Table_1[[#This Row],[Family: Mitglied 2]]=""),AND(Table_1[[#This Row],[Einschritt- kampf]]="Ja",Table_1[[#This Row],[Einschrittkampf: Partner/in]]="")),"Partner fehlt","OK"))) | B24: 7 | C24: =IF(D24="","",$B$10) | G24: =IF(F24="","",IF(YEAR(F24)>=2019,"Klasse bis 7 Jahre / JG bis 2019",IF(YEAR(F24)>=2015,"Klasse 8-11 Jahre / JG 2018-2015",IF(YEAR(F24)>=2012,"Klasse 12-14 Jahre / JG 2014-2012",IF(YEAR(F24)>=2009,"Klasse 15-17 Jahre / JG 2011-2009",IF(YEAR(F24)>=1986,"Klasse 18-40 Jahre / JG 2008-1986","Klasse ab 41 Jahre / JG ab 1985")))))) | J24: =IF(OR(D24="",I24=""),"",IF(OR(I24="10. Kup",I24="9. Kup",I24="8. Kup"),"LK4",IF(OR(I24="7. Kup",I24="6. Kup",I24="5. Kup"),"LK3",IF(OR(I24="4. Kup",I24="3. Kup",I24="2. Kup"),"LK2","LK1")))) | T24: {=IF(Q24<>"Ja","",IF(R24="","",CHOOSE(MAX(IF(OR(I24="10. Kup",I24="9. Kup",I24="8. Kup"),4,IF(OR(I24="7. Kup",I24="6. Kup",I24="5. Kup"),3,IF(OR(I24="4. Kup",I24="3. Kup",I24="2. Kup"),2,IF(I24<>"",1,0)))),IF(OR(IF(IFERROR(VALUE(LEFT(R24,FIND(":",R24)-1)),0)=0,"",INDEX($I$18:$I$47,IFERROR(VALUE(LEFT(R24,FIND(":",R24)-1)),0)))="10. Kup",IF(IFERROR(VALUE(LEFT(R24,FIND(":",R24)-1)),0)=0,"",INDEX($I$18:$I$47,IFERROR(VALUE(LEFT(R24,FIND(":",R24)-1)),0)))="9. Kup",IF(IFERROR(VALUE(LEFT(R24,FIND(":",R24)-1)),0)=0,"",INDEX($I$18:$I$47,IFERROR(VALUE(LEFT(R24,FIND(":",R24)-1)),0)))="8. Kup"),4,IF(OR(IF(IFERROR(VALUE(LEFT(R24,FIND(":",R24)-1)),0)=0,"",INDEX($I$18:$I$47,IFERROR(VALUE(LEFT(R24,FIND(":",R24)-1)),0)))="7. Kup",IF(IFERROR(VALUE(LEFT(R24,FIND(":",R24)-1)),0)=0,"",INDEX($I$18:$I$47,IFERROR(VALUE(LEFT(R24,FIND(":",R24)-1)),0)))="6. Kup",IF(IFERROR(VALUE(LEFT(R24,FIND(":",R24)-1)),0)=0,"",INDEX($I$18:$I$47,IFERROR(VALUE(LEFT(R24,FIND(":",R24)-1)),0)))="5. Kup"),3,IF(OR(IF(IFERROR(VALUE(LEFT(R24,FIND(":",R24)-1)),0)=0,"",INDEX($I$18:$I$47,IFERROR(VALUE(LEFT(R24,FIND(":",R24)-1)),0)))="4. Kup",IF(IFERROR(VALUE(LEFT(R24,FIND(":",R24)-1)),0)=0,"",INDEX($I$18:$I$47,IFERROR(VALUE(LEFT(R24,FIND(":",R24)-1)),0)))="3. Kup",IF(IFERROR(VALUE(LEFT(R24,FIND(":",R24)-1)),0)=0,"",INDEX($I$18:$I$47,IFERROR(VALUE(LEFT(R24,FIND(":",R24)-1)),0)))="2. Kup"),2,IF(IF(IFERROR(VALUE(LEFT(R24,FIND(":",R24)-1)),0)=0,"",INDEX($I$18:$I$47,IFERROR(VALUE(LEFT(R24,FIND(":",R24)-1)),0)))<>"",1,0)))),IF(OR(IF(IFERROR(VALUE(LEFT(S24,FIND(":",S24)-1)),0)=0,"",INDEX($I$18:$I$47,IFERROR(VALUE(LEFT(S24,FIND(":",S24)-1)),0)))="10. Kup",IF(IFERROR(VALUE(LEFT(S24,FIND(":",S24)-1)),0)=0,"",INDEX($I$18:$I$47,IFERROR(VALUE(LEFT(S24,FIND(":",S24)-1)),0)))="9. Kup",IF(IFERROR(VALUE(LEFT(S24,FIND(":",S24)-1)),0)=0,"",INDEX($I$18:$I$47,IFERROR(VALUE(LEFT(S24,FIND(":",S24)-1)),0)))="8. Kup"),4,IF(OR(IF(IFERROR(VALUE(LEFT(S24,FIND(":",S24)-1)),0)=0,"",INDEX($I$18:$I$47,IFERROR(VALUE(LEFT(S24,FIND(":",S24)-1)),0)))="7. Kup",IF(IFERROR(VALUE(LEFT(S24,FIND(":",S24)-1)),0)=0,"",INDEX($I$18:$I$47,IFERROR(VALUE(LEFT(S24,FIND(":",S24)-1)),0)))="6. Kup",IF(IFERROR(VALUE(LEFT(S24,FIND(":",S24)-1)),0)=0,"",INDEX($I$18:$I$47,IFERROR(VALUE(LEFT(S24,FIND(":",S24)-1)),0)))="5. Kup"),3,IF(OR(IF(IFERROR(VALUE(LEFT(S24,FIND(":",S24)-1)),0)=0,"",INDEX($I$18:$I$47,IFERROR(VALUE(LEFT(S24,FIND(":",S24)-1)),0)))="4. Kup",IF(IFERROR(VALUE(LEFT(S24,FIND(":",S24)-1)),0)=0,"",INDEX($I$18:$I$47,IFERROR(VALUE(LEFT(S24,FIND(":",S24)-1)),0)))="3. Kup",IF(IFERROR(VALUE(LEFT(S24,FIND(":",S24)-1)),0)=0,"",INDEX($I$18:$I$47,IFERROR(VALUE(LEFT(S24,FIND(":",S24)-1)),0)))="2. Kup"),2,IF(IF(IFERROR(VALUE(LEFT(S24,FIND(":",S24)-1)),0)=0,"",INDEX($I$18:$I$47,IFERROR(VALUE(LEFT(S24,FIND(":",S24)-1)),0)))<>"",1,0))))),"LK1","LK2","LK3","LK4")))} | Y24: =IF(D24="","",25) | AB24: =IF(ISTEXT(D24),25,"")
A25: =IF(Table_1[[#This Row],[Nachname]]="","",IF(AND(Table_1[[#This Row],[Poomsae Einzel]]<>"Ja",Table_1[[#This Row],[Poomsae Paar]]<>"Ja",Table_1[[#This Row],[Poomsae Team]]<>"Ja"),"Disziplin fehlt",IF(OR(AND(Table_1[[#This Row],[Poomsae Paar]]="Ja",Table_1[[#This Row],[Paar: Partner/in]]=""),AND(Table_1[[#This Row],[Poomsae Team]]="Ja",OR(Table_1[[#This Row],[Team: Starter/in 2]]="",Table_1[[#This Row],[Team: Starter/in 3]]="")),AND(Table_1[[#This Row],[Poomsae Family]]="Ja",Table_1[[#This Row],[Family: Mitglied 2]]=""),AND(Table_1[[#This Row],[Einschritt- kampf]]="Ja",Table_1[[#This Row],[Einschrittkampf: Partner/in]]="")),"Partner fehlt","OK"))) | B25: 8 | C25: =IF(D25="","",$B$10) | G25: =IF(F25="","",IF(YEAR(F25)>=2019,"Klasse bis 7 Jahre / JG bis 2019",IF(YEAR(F25)>=2015,"Klasse 8-11 Jahre / JG 2018-2015",IF(YEAR(F25)>=2012,"Klasse 12-14 Jahre / JG 2014-2012",IF(YEAR(F25)>=2009,"Klasse 15-17 Jahre / JG 2011-2009",IF(YEAR(F25)>=1986,"Klasse 18-40 Jahre / JG 2008-1986","Klasse ab 41 Jahre / JG ab 1985")))))) | J25: =IF(OR(D25="",I25=""),"",IF(OR(I25="10. Kup",I25="9. Kup",I25="8. Kup"),"LK4",IF(OR(I25="7. Kup",I25="6. Kup",I25="5. Kup"),"LK3",IF(OR(I25="4. Kup",I25="3. Kup",I25="2. Kup"),"LK2","LK1")))) | T25: {=IF(Q25<>"Ja","",IF(R25="","",CHOOSE(MAX(IF(OR(I25="10. Kup",I25="9. Kup",I25="8. Kup"),4,IF(OR(I25="7. Kup",I25="6. Kup",I25="5. Kup"),3,IF(OR(I25="4. Kup",I25="3. Kup",I25="2. Kup"),2,IF(I25<>"",1,0)))),IF(OR(IF(IFERROR(VALUE(LEFT(R25,FIND(":",R25)-1)),0)=0,"",INDEX($I$18:$I$47,IFERROR(VALUE(LEFT(R25,FIND(":",R25)-1)),0)))="10. Kup",IF(IFERROR(VALUE(LEFT(R25,FIND(":",R25)-1)),0)=0,"",INDEX($I$18:$I$47,IFERROR(VALUE(LEFT(R25,FIND(":",R25)-1)),0)))="9. Kup",IF(IFERROR(VALUE(LEFT(R25,FIND(":",R25)-1)),0)=0,"",INDEX($I$18:$I$47,IFERROR(VALUE(LEFT(R25,FIND(":",R25)-1)),0)))="8. Kup"),4,IF(OR(IF(IFERROR(VALUE(LEFT(R25,FIND(":",R25)-1)),0)=0,"",INDEX($I$18:$I$47,IFERROR(VALUE(LEFT(R25,FIND(":",R25)-1)),0)))="7. Kup",IF(IFERROR(VALUE(LEFT(R25,FIND(":",R25)-1)),0)=0,"",INDEX($I$18:$I$47,IFERROR(VALUE(LEFT(R25,FIND(":",R25)-1)),0)))="6. Kup",IF(IFERROR(VALUE(LEFT(R25,FIND(":",R25)-1)),0)=0,"",INDEX($I$18:$I$47,IFERROR(VALUE(LEFT(R25,FIND(":",R25)-1)),0)))="5. Kup"),3,IF(OR(IF(IFERROR(VALUE(LEFT(R25,FIND(":",R25)-1)),0)=0,"",INDEX($I$18:$I$47,IFERROR(VALUE(LEFT(R25,FIND(":",R25)-1)),0)))="4. Kup",IF(IFERROR(VALUE(LEFT(R25,FIND(":",R25)-1)),0)=0,"",INDEX($I$18:$I$47,IFERROR(VALUE(LEFT(R25,FIND(":",R25)-1)),0)))="3. Kup",IF(IFERROR(VALUE(LEFT(R25,FIND(":",R25)-1)),0)=0,"",INDEX($I$18:$I$47,IFERROR(VALUE(LEFT(R25,FIND(":",R25)-1)),0)))="2. Kup"),2,IF(IF(IFERROR(VALUE(LEFT(R25,FIND(":",R25)-1)),0)=0,"",INDEX($I$18:$I$47,IFERROR(VALUE(LEFT(R25,FIND(":",R25)-1)),0)))<>"",1,0)))),IF(OR(IF(IFERROR(VALUE(LEFT(S25,FIND(":",S25)-1)),0)=0,"",INDEX($I$18:$I$47,IFERROR(VALUE(LEFT(S25,FIND(":",S25)-1)),0)))="10. Kup",IF(IFERROR(VALUE(LEFT(S25,FIND(":",S25)-1)),0)=0,"",INDEX($I$18:$I$47,IFERROR(VALUE(LEFT(S25,FIND(":",S25)-1)),0)))="9. Kup",IF(IFERROR(VALUE(LEFT(S25,FIND(":",S25)-1)),0)=0,"",INDEX($I$18:$I$47,IFERROR(VALUE(LEFT(S25,FIND(":",S25)-1)),0)))="8. Kup"),4,IF(OR(IF(IFERROR(VALUE(LEFT(S25,FIND(":",S25)-1)),0)=0,"",INDEX($I$18:$I$47,IFERROR(VALUE(LEFT(S25,FIND(":",S25)-1)),0)))="7. Kup",IF(IFERROR(VALUE(LEFT(S25,FIND(":",S25)-1)),0)=0,"",INDEX($I$18:$I$47,IFERROR(VALUE(LEFT(S25,FIND(":",S25)-1)),0)))="6. Kup",IF(IFERROR(VALUE(LEFT(S25,FIND(":",S25)-1)),0)=0,"",INDEX($I$18:$I$47,IFERROR(VALUE(LEFT(S25,FIND(":",S25)-1)),0)))="5. Kup"),3,IF(OR(IF(IFERROR(VALUE(LEFT(S25,FIND(":",S25)-1)),0)=0,"",INDEX($I$18:$I$47,IFERROR(VALUE(LEFT(S25,FIND(":",S25)-1)),0)))="4. Kup",IF(IFERROR(VALUE(LEFT(S25,FIND(":",S25)-1)),0)=0,"",INDEX($I$18:$I$47,IFERROR(VALUE(LEFT(S25,FIND(":",S25)-1)),0)))="3. Kup",IF(IFERROR(VALUE(LEFT(S25,FIND(":",S25)-1)),0)=0,"",INDEX($I$18:$I$47,IFERROR(VALUE(LEFT(S25,FIND(":",S25)-1)),0)))="2. Kup"),2,IF(IF(IFERROR(VALUE(LEFT(S25,FIND(":",S25)-1)),0)=0,"",INDEX($I$18:$I$47,IFERROR(VALUE(LEFT(S25,FIND(":",S25)-1)),0)))<>"",1,0))))),"LK1","LK2","LK3","LK4")))} | Y25: =IF(D25="","",25) | AB25: =IF(ISTEXT(D25),25,"")
A26: =IF(Table_1[[#This Row],[Nachname]]="","",IF(AND(Table_1[[#This Row],[Poomsae Einzel]]<>"Ja",Table_1[[#This Row],[Poomsae Paar]]<>"Ja",Table_1[[#This Row],[Poomsae Team]]<>"Ja"),"Disziplin fehlt",IF(OR(AND(Table_1[[#This Row],[Poomsae Paar]]="Ja",Table_1[[#This Row],[Paar: Partner/in]]=""),AND(Table_1[[#This Row],[Poomsae Team]]="Ja",OR(Table_1[[#This Row],[Team: Starter/in 2]]="",Table_1[[#This Row],[Team: Starter/in 3]]="")),AND(Table_1[[#This Row],[Poomsae Family]]="Ja",Table_1[[#This Row],[Family: Mitglied 2]]=""),AND(Table_1[[#This Row],[Einschritt- kampf]]="Ja",Table_1[[#This Row],[Einschrittkampf: Partner/in]]="")),"Partner fehlt","OK"))) | B26: 9 | C26: =IF(D26="","",$B$10) | G26: =IF(F26="","",IF(YEAR(F26)>=2019,"Klasse bis 7 Jahre / JG bis 2019",IF(YEAR(F26)>=2015,"Klasse 8-11 Jahre / JG 2018-2015",IF(YEAR(F26)>=2012,"Klasse 12-14 Jahre / JG 2014-2012",IF(YEAR(F26)>=2009,"Klasse 15-17 Jahre / JG 2011-2009",IF(YEAR(F26)>=1986,"Klasse 18-40 Jahre / JG 2008-1986","Klasse ab 41 Jahre / JG ab 1985")))))) | J26: =IF(OR(D26="",I26=""),"",IF(OR(I26="10. Kup",I26="9. Kup",I26="8. Kup"),"LK4",IF(OR(I26="7. Kup",I26="6. Kup",I26="5. Kup"),"LK3",IF(OR(I26="4. Kup",I26="3. Kup",I26="2. Kup"),"LK2","LK1")))) | T26: {=IF(Q26<>"Ja","",IF(R26="","",CHOOSE(MAX(IF(OR(I26="10. Kup",I26="9. Kup",I26="8. Kup"),4,IF(OR(I26="7. Kup",I26="6. Kup",I26="5. Kup"),3,IF(OR(I26="4. Kup",I26="3. Kup",I26="2. Kup"),2,IF(I26<>"",1,0)))),IF(OR(IF(IFERROR(VALUE(LEFT(R26,FIND(":",R26)-1)),0)=0,"",INDEX($I$18:$I$47,IFERROR(VALUE(LEFT(R26,FIND(":",R26)-1)),0)))="10. Kup",IF(IFERROR(VALUE(LEFT(R26,FIND(":",R26)-1)),0)=0,"",INDEX($I$18:$I$47,IFERROR(VALUE(LEFT(R26,FIND(":",R26)-1)),0)))="9. Kup",IF(IFERROR(VALUE(LEFT(R26,FIND(":",R26)-1)),0)=0,"",INDEX($I$18:$I$47,IFERROR(VALUE(LEFT(R26,FIND(":",R26)-1)),0)))="8. Kup"),4,IF(OR(IF(IFERROR(VALUE(LEFT(R26,FIND(":",R26)-1)),0)=0,"",INDEX($I$18:$I$47,IFERROR(VALUE(LEFT(R26,FIND(":",R26)-1)),0)))="7. Kup",IF(IFERROR(VALUE(LEFT(R26,FIND(":",R26)-1)),0)=0,"",INDEX($I$18:$I$47,IFERROR(VALUE(LEFT(R26,FIND(":",R26)-1)),0)))="6. Kup",IF(IFERROR(VALUE(LEFT(R26,FIND(":",R26)-1)),0)=0,"",INDEX($I$18:$I$47,IFERROR(VALUE(LEFT(R26,FIND(":",R26)-1)),0)))="5. Kup"),3,IF(OR(IF(IFERROR(VALUE(LEFT(R26,FIND(":",R26)-1)),0)=0,"",INDEX($I$18:$I$47,IFERROR(VALUE(LEFT(R26,FIND(":",R26)-1)),0)))="4. Kup",IF(IFERROR(VALUE(LEFT(R26,FIND(":",R26)-1)),0)=0,"",INDEX($I$18:$I$47,IFERROR(VALUE(LEFT(R26,FIND(":",R26)-1)),0)))="3. Kup",IF(IFERROR(VALUE(LEFT(R26,FIND(":",R26)-1)),0)=0,"",INDEX($I$18:$I$47,IFERROR(VALUE(LEFT(R26,FIND(":",R26)-1)),0)))="2. Kup"),2,IF(IF(IFERROR(VALUE(LEFT(R26,FIND(":",R26)-1)),0)=0,"",INDEX($I$18:$I$47,IFERROR(VALUE(LEFT(R26,FIND(":",R26)-1)),0)))<>"",1,0)))),IF(OR(IF(IFERROR(VALUE(LEFT(S26,FIND(":",S26)-1)),0)=0,"",INDEX($I$18:$I$47,IFERROR(VALUE(LEFT(S26,FIND(":",S26)-1)),0)))="10. Kup",IF(IFERROR(VALUE(LEFT(S26,FIND(":",S26)-1)),0)=0,"",INDEX($I$18:$I$47,IFERROR(VALUE(LEFT(S26,FIND(":",S26)-1)),0)))="9. Kup",IF(IFERROR(VALUE(LEFT(S26,FIND(":",S26)-1)),0)=0,"",INDEX($I$18:$I$47,IFERROR(VALUE(LEFT(S26,FIND(":",S26)-1)),0)))="8. Kup"),4,IF(OR(IF(IFERROR(VALUE(LEFT(S26,FIND(":",S26)-1)),0)=0,"",INDEX($I$18:$I$47,IFERROR(VALUE(LEFT(S26,FIND(":",S26)-1)),0)))="7. Kup",IF(IFERROR(VALUE(LEFT(S26,FIND(":",S26)-1)),0)=0,"",INDEX($I$18:$I$47,IFERROR(VALUE(LEFT(S26,FIND(":",S26)-1)),0)))="6. Kup",IF(IFERROR(VALUE(LEFT(S26,FIND(":",S26)-1)),0)=0,"",INDEX($I$18:$I$47,IFERROR(VALUE(LEFT(S26,FIND(":",S26)-1)),0)))="5. Kup"),3,IF(OR(IF(IFERROR(VALUE(LEFT(S26,FIND(":",S26)-1)),0)=0,"",INDEX($I$18:$I$47,IFERROR(VALUE(LEFT(S26,FIND(":",S26)-1)),0)))="4. Kup",IF(IFERROR(VALUE(LEFT(S26,FIND(":",S26)-1)),0)=0,"",INDEX($I$18:$I$47,IFERROR(VALUE(LEFT(S26,FIND(":",S26)-1)),0)))="3. Kup",IF(IFERROR(VALUE(LEFT(S26,FIND(":",S26)-1)),0)=0,"",INDEX($I$18:$I$47,IFERROR(VALUE(LEFT(S26,FIND(":",S26)-1)),0)))="2. Kup"),2,IF(IF(IFERROR(VALUE(LEFT(S26,FIND(":",S26)-1)),0)=0,"",INDEX($I$18:$I$47,IFERROR(VALUE(LEFT(S26,FIND(":",S26)-1)),0)))<>"",1,0))))),"LK1","LK2","LK3","LK4")))} | Y26: =IF(D26="","",25) | AB26: =IF(ISTEXT(D26),25,"")
A27: =IF(Table_1[[#This Row],[Nachname]]="","",IF(AND(Table_1[[#This Row],[Poomsae Einzel]]<>"Ja",Table_1[[#This Row],[Poomsae Paar]]<>"Ja",Table_1[[#This Row],[Poomsae Team]]<>"Ja"),"Disziplin fehlt",IF(OR(AND(Table_1[[#This Row],[Poomsae Paar]]="Ja",Table_1[[#This Row],[Paar: Partner/in]]=""),AND(Table_1[[#This Row],[Poomsae Team]]="Ja",OR(Table_1[[#This Row],[Team: Starter/in 2]]="",Table_1[[#This Row],[Team: Starter/in 3]]="")),AND(Table_1[[#This Row],[Poomsae Family]]="Ja",Table_1[[#This Row],[Family: Mitglied 2]]=""),AND(Table_1[[#This Row],[Einschritt- kampf]]="Ja",Table_1[[#This Row],[Einschrittkampf: Partner/in]]="")),"Partner fehlt","OK"))) | B27: 10 | C27: =IF(D27="","",$B$10) | G27: =IF(F27="","",IF(YEAR(F27)>=2019,"Klasse bis 7 Jahre / JG bis 2019",IF(YEAR(F27)>=2015,"Klasse 8-11 Jahre / JG 2018-2015",IF(YEAR(F27)>=2012,"Klasse 12-14 Jahre / JG 2014-2012",IF(YEAR(F27)>=2009,"Klasse 15-17 Jahre / JG 2011-2009",IF(YEAR(F27)>=1986,"Klasse 18-40 Jahre / JG 2008-1986","Klasse ab 41 Jahre / JG ab 1985")))))) | J27: =IF(OR(D27="",I27=""),"",IF(OR(I27="10. Kup",I27="9. Kup",I27="8. Kup"),"LK4",IF(OR(I27="7. Kup",I27="6. Kup",I27="5. Kup"),"LK3",IF(OR(I27="4. Kup",I27="3. Kup",I27="2. Kup"),"LK2","LK1")))) | T27: {=IF(Q27<>"Ja","",IF(R27="","",CHOOSE(MAX(IF(OR(I27="10. Kup",I27="9. Kup",I27="8. Kup"),4,IF(OR(I27="7. Kup",I27="6. Kup",I27="5. Kup"),3,IF(OR(I27="4. Kup",I27="3. Kup",I27="2. Kup"),2,IF(I27<>"",1,0)))),IF(OR(IF(IFERROR(VALUE(LEFT(R27,FIND(":",R27)-1)),0)=0,"",INDEX($I$18:$I$47,IFERROR(VALUE(LEFT(R27,FIND(":",R27)-1)),0)))="10. Kup",IF(IFERROR(VALUE(LEFT(R27,FIND(":",R27)-1)),0)=0,"",INDEX($I$18:$I$47,IFERROR(VALUE(LEFT(R27,FIND(":",R27)-1)),0)))="9. Kup",IF(IFERROR(VALUE(LEFT(R27,FIND(":",R27)-1)),0)=0,"",INDEX($I$18:$I$47,IFERROR(VALUE(LEFT(R27,FIND(":",R27)-1)),0)))="8. Kup"),4,IF(OR(IF(IFERROR(VALUE(LEFT(R27,FIND(":",R27)-1)),0)=0,"",INDEX($I$18:$I$47,IFERROR(VALUE(LEFT(R27,FIND(":",R27)-1)),0)))="7. Kup",IF(IFERROR(VALUE(LEFT(R27,FIND(":",R27)-1)),0)=0,"",INDEX($I$18:$I$47,IFERROR(VALUE(LEFT(R27,FIND(":",R27)-1)),0)))="6. Kup",IF(IFERROR(VALUE(LEFT(R27,FIND(":",R27)-1)),0)=0,"",INDEX($I$18:$I$47,IFERROR(VALUE(LEFT(R27,FIND(":",R27)-1)),0)))="5. Kup"),3,IF(OR(IF(IFERROR(VALUE(LEFT(R27,FIND(":",R27)-1)),0)=0,"",INDEX($I$18:$I$47,IFERROR(VALUE(LEFT(R27,FIND(":",R27)-1)),0)))="4. Kup",IF(IFERROR(VALUE(LEFT(R27,FIND(":",R27)-1)),0)=0,"",INDEX($I$18:$I$47,IFERROR(VALUE(LEFT(R27,FIND(":",R27)-1)),0)))="3. Kup",IF(IFERROR(VALUE(LEFT(R27,FIND(":",R27)-1)),0)=0,"",INDEX($I$18:$I$47,IFERROR(VALUE(LEFT(R27,FIND(":",R27)-1)),0)))="2. Kup"),2,IF(IF(IFERROR(VALUE(LEFT(R27,FIND(":",R27)-1)),0)=0,"",INDEX($I$18:$I$47,IFERROR(VALUE(LEFT(R27,FIND(":",R27)-1)),0)))<>"",1,0)))),IF(OR(IF(IFERROR(VALUE(LEFT(S27,FIND(":",S27)-1)),0)=0,"",INDEX($I$18:$I$47,IFERROR(VALUE(LEFT(S27,FIND(":",S27)-1)),0)))="10. Kup",IF(IFERROR(VALUE(LEFT(S27,FIND(":",S27)-1)),0)=0,"",INDEX($I$18:$I$47,IFERROR(VALUE(LEFT(S27,FIND(":",S27)-1)),0)))="9. Kup",IF(IFERROR(VALUE(LEFT(S27,FIND(":",S27)-1)),0)=0,"",INDEX($I$18:$I$47,IFERROR(VALUE(LEFT(S27,FIND(":",S27)-1)),0)))="8. Kup"),4,IF(OR(IF(IFERROR(VALUE(LEFT(S27,FIND(":",S27)-1)),0)=0,"",INDEX($I$18:$I$47,IFERROR(VALUE(LEFT(S27,FIND(":",S27)-1)),0)))="7. Kup",IF(IFERROR(VALUE(LEFT(S27,FIND(":",S27)-1)),0)=0,"",INDEX($I$18:$I$47,IFERROR(VALUE(LEFT(S27,FIND(":",S27)-1)),0)))="6. Kup",IF(IFERROR(VALUE(LEFT(S27,FIND(":",S27)-1)),0)=0,"",INDEX($I$18:$I$47,IFERROR(VALUE(LEFT(S27,FIND(":",S27)-1)),0)))="5. Kup"),3,IF(OR(IF(IFERROR(VALUE(LEFT(S27,FIND(":",S27)-1)),0)=0,"",INDEX($I$18:$I$47,IFERROR(VALUE(LEFT(S27,FIND(":",S27)-1)),0)))="4. Kup",IF(IFERROR(VALUE(LEFT(S27,FIND(":",S27)-1)),0)=0,"",INDEX($I$18:$I$47,IFERROR(VALUE(LEFT(S27,FIND(":",S27)-1)),0)))="3. Kup",IF(IFERROR(VALUE(LEFT(S27,FIND(":",S27)-1)),0)=0,"",INDEX($I$18:$I$47,IFERROR(VALUE(LEFT(S27,FIND(":",S27)-1)),0)))="2. Kup"),2,IF(IF(IFERROR(VALUE(LEFT(S27,FIND(":",S27)-1)),0)=0,"",INDEX($I$18:$I$47,IFERROR(VALUE(LEFT(S27,FIND(":",S27)-1)),0)))<>"",1,0))))),"LK1","LK2","LK3","LK4")))} | Y27: =IF(D27="","",25) | AB27: =IF(ISTEXT(D27),25,"")
A28: =IF(Table_1[[#This Row],[Nachname]]="","",IF(AND(Table_1[[#This Row],[Poomsae Einzel]]<>"Ja",Table_1[[#This Row],[Poomsae Paar]]<>"Ja",Table_1[[#This Row],[Poomsae Team]]<>"Ja"),"Disziplin fehlt",IF(OR(AND(Table_1[[#This Row],[Poomsae Paar]]="Ja",Table_1[[#This Row],[Paar: Partner/in]]=""),AND(Table_1[[#This Row],[Poomsae Team]]="Ja",OR(Table_1[[#This Row],[Team: Starter/in 2]]="",Table_1[[#This Row],[Team: Starter/in 3]]="")),AND(Table_1[[#This Row],[Poomsae Family]]="Ja",Table_1[[#This Row],[Family: Mitglied 2]]=""),AND(Table_1[[#This Row],[Einschritt- kampf]]="Ja",Table_1[[#This Row],[Einschrittkampf: Partner/in]]="")),"Partner fehlt","OK"))) | B28: 11 | C28: =IF(D28="","",$B$10) | G28: =IF(F28="","",IF(YEAR(F28)>=2019,"Klasse bis 7 Jahre / JG bis 2019",IF(YEAR(F28)>=2015,"Klasse 8-11 Jahre / JG 2018-2015",IF(YEAR(F28)>=2012,"Klasse 12-14 Jahre / JG 2014-2012",IF(YEAR(F28)>=2009,"Klasse 15-17 Jahre / JG 2011-2009",IF(YEAR(F28)>=1986,"Klasse 18-40 Jahre / JG 2008-1986","Klasse ab 41 Jahre / JG ab 1985")))))) | J28: =IF(OR(D28="",I28=""),"",IF(OR(I28="10. Kup",I28="9. Kup",I28="8. Kup"),"LK4",IF(OR(I28="7. Kup",I28="6. Kup",I28="5. Kup"),"LK3",IF(OR(I28="4. Kup",I28="3. Kup",I28="2. Kup"),"LK2","LK1")))) | T28: {=IF(Q28<>"Ja","",IF(R28="","",CHOOSE(MAX(IF(OR(I28="10. Kup",I28="9. Kup",I28="8. Kup"),4,IF(OR(I28="7. Kup",I28="6. Kup",I28="5. Kup"),3,IF(OR(I28="4. Kup",I28="3. Kup",I28="2. Kup"),2,IF(I28<>"",1,0)))),IF(OR(IF(IFERROR(VALUE(LEFT(R28,FIND(":",R28)-1)),0)=0,"",INDEX($I$18:$I$47,IFERROR(VALUE(LEFT(R28,FIND(":",R28)-1)),0)))="10. Kup",IF(IFERROR(VALUE(LEFT(R28,FIND(":",R28)-1)),0)=0,"",INDEX($I$18:$I$47,IFERROR(VALUE(LEFT(R28,FIND(":",R28)-1)),0)))="9. Kup",IF(IFERROR(VALUE(LEFT(R28,FIND(":",R28)-1)),0)=0,"",INDEX($I$18:$I$47,IFERROR(VALUE(LEFT(R28,FIND(":",R28)-1)),0)))="8. Kup"),4,IF(OR(IF(IFERROR(VALUE(LEFT(R28,FIND(":",R28)-1)),0)=0,"",INDEX($I$18:$I$47,IFERROR(VALUE(LEFT(R28,FIND(":",R28)-1)),0)))="7. Kup",IF(IFERROR(VALUE(LEFT(R28,FIND(":",R28)-1)),0)=0,"",INDEX($I$18:$I$47,IFERROR(VALUE(LEFT(R28,FIND(":",R28)-1)),0)))="6. Kup",IF(IFERROR(VALUE(LEFT(R28,FIND(":",R28)-1)),0)=0,"",INDEX($I$18:$I$47,IFERROR(VALUE(LEFT(R28,FIND(":",R28)-1)),0)))="5. Kup"),3,IF(OR(IF(IFERROR(VALUE(LEFT(R28,FIND(":",R28)-1)),0)=0,"",INDEX($I$18:$I$47,IFERROR(VALUE(LEFT(R28,FIND(":",R28)-1)),0)))="4. Kup",IF(IFERROR(VALUE(LEFT(R28,FIND(":",R28)-1)),0)=0,"",INDEX($I$18:$I$47,IFERROR(VALUE(LEFT(R28,FIND(":",R28)-1)),0)))="3. Kup",IF(IFERROR(VALUE(LEFT(R28,FIND(":",R28)-1)),0)=0,"",INDEX($I$18:$I$47,IFERROR(VALUE(LEFT(R28,FIND(":",R28)-1)),0)))="2. Kup"),2,IF(IF(IFERROR(VALUE(LEFT(R28,FIND(":",R28)-1)),0)=0,"",INDEX($I$18:$I$47,IFERROR(VALUE(LEFT(R28,FIND(":",R28)-1)),0)))<>"",1,0)))),IF(OR(IF(IFERROR(VALUE(LEFT(S28,FIND(":",S28)-1)),0)=0,"",INDEX($I$18:$I$47,IFERROR(VALUE(LEFT(S28,FIND(":",S28)-1)),0)))="10. Kup",IF(IFERROR(VALUE(LEFT(S28,FIND(":",S28)-1)),0)=0,"",INDEX($I$18:$I$47,IFERROR(VALUE(LEFT(S28,FIND(":",S28)-1)),0)))="9. Kup",IF(IFERROR(VALUE(LEFT(S28,FIND(":",S28)-1)),0)=0,"",INDEX($I$18:$I$47,IFERROR(VALUE(LEFT(S28,FIND(":",S28)-1)),0)))="8. Kup"),4,IF(OR(IF(IFERROR(VALUE(LEFT(S28,FIND(":",S28)-1)),0)=0,"",INDEX($I$18:$I$47,IFERROR(VALUE(LEFT(S28,FIND(":",S28)-1)),0)))="7. Kup",IF(IFERROR(VALUE(LEFT(S28,FIND(":",S28)-1)),0)=0,"",INDEX($I$18:$I$47,IFERROR(VALUE(LEFT(S28,FIND(":",S28)-1)),0)))="6. Kup",IF(IFERROR(VALUE(LEFT(S28,FIND(":",S28)-1)),0)=0,"",INDEX($I$18:$I$47,IFERROR(VALUE(LEFT(S28,FIND(":",S28)-1)),0)))="5. Kup"),3,IF(OR(IF(IFERROR(VALUE(LEFT(S28,FIND(":",S28)-1)),0)=0,"",INDEX($I$18:$I$47,IFERROR(VALUE(LEFT(S28,FIND(":",S28)-1)),0)))="4. Kup",IF(IFERROR(VALUE(LEFT(S28,FIND(":",S28)-1)),0)=0,"",INDEX($I$18:$I$47,IFERROR(VALUE(LEFT(S28,FIND(":",S28)-1)),0)))="3. Kup",IF(IFERROR(VALUE(LEFT(S28,FIND(":",S28)-1)),0)=0,"",INDEX($I$18:$I$47,IFERROR(VALUE(LEFT(S28,FIND(":",S28)-1)),0)))="2. Kup"),2,IF(IF(IFERROR(VALUE(LEFT(S28,FIND(":",S28)-1)),0)=0,"",INDEX($I$18:$I$47,IFERROR(VALUE(LEFT(S28,FIND(":",S28)-1)),0)))<>"",1,0))))),"LK1","LK2","LK3","LK4")))} | Y28: =IF(D28="","",25) | AB28: =IF(ISTEXT(D28),25,"")
A29: =IF(Table_1[[#This Row],[Nachname]]="","",IF(AND(Table_1[[#This Row],[Poomsae Einzel]]<>"Ja",Table_1[[#This Row],[Poomsae Paar]]<>"Ja",Table_1[[#This Row],[Poomsae Team]]<>"Ja"),"Disziplin fehlt",IF(OR(AND(Table_1[[#This Row],[Poomsae Paar]]="Ja",Table_1[[#This Row],[Paar: Partner/in]]=""),AND(Table_1[[#This Row],[Poomsae Team]]="Ja",OR(Table_1[[#This Row],[Team: Starter/in 2]]="",Table_1[[#This Row],[Team: Starter/in 3]]="")),AND(Table_1[[#This Row],[Poomsae Family]]="Ja",Table_1[[#This Row],[Family: Mitglied 2]]=""),AND(Table_1[[#This Row],[Einschritt- kampf]]="Ja",Table_1[[#This Row],[Einschrittkampf: Partner/in]]="")),"Partner fehlt","OK"))) | B29: 12 | C29: =IF(D29="","",$B$10) | G29: =IF(F29="","",IF(YEAR(F29)>=2019,"Klasse bis 7 Jahre / JG bis 2019",IF(YEAR(F29)>=2015,"Klasse 8-11 Jahre / JG 2018-2015",IF(YEAR(F29)>=2012,"Klasse 12-14 Jahre / JG 2014-2012",IF(YEAR(F29)>=2009,"Klasse 15-17 Jahre / JG 2011-2009",IF(YEAR(F29)>=1986,"Klasse 18-40 Jahre / JG 2008-1986","Klasse ab 41 Jahre / JG ab 1985")))))) | J29: =IF(OR(D29="",I29=""),"",IF(OR(I29="10. Kup",I29="9. Kup",I29="8. Kup"),"LK4",IF(OR(I29="7. Kup",I29="6. Kup",I29="5. Kup"),"LK3",IF(OR(I29="4. Kup",I29="3. Kup",I29="2. Kup"),"LK2","LK1")))) | T29: {=IF(Q29<>"Ja","",IF(R29="","",CHOOSE(MAX(IF(OR(I29="10. Kup",I29="9. Kup",I29="8. Kup"),4,IF(OR(I29="7. Kup",I29="6. Kup",I29="5. Kup"),3,IF(OR(I29="4. Kup",I29="3. Kup",I29="2. Kup"),2,IF(I29<>"",1,0)))),IF(OR(IF(IFERROR(VALUE(LEFT(R29,FIND(":",R29)-1)),0)=0,"",INDEX($I$18:$I$47,IFERROR(VALUE(LEFT(R29,FIND(":",R29)-1)),0)))="10. Kup",IF(IFERROR(VALUE(LEFT(R29,FIND(":",R29)-1)),0)=0,"",INDEX($I$18:$I$47,IFERROR(VALUE(LEFT(R29,FIND(":",R29)-1)),0)))="9. Kup",IF(IFERROR(VALUE(LEFT(R29,FIND(":",R29)-1)),0)=0,"",INDEX($I$18:$I$47,IFERROR(VALUE(LEFT(R29,FIND(":",R29)-1)),0)))="8. Kup"),4,IF(OR(IF(IFERROR(VALUE(LEFT(R29,FIND(":",R29)-1)),0)=0,"",INDEX($I$18:$I$47,IFERROR(VALUE(LEFT(R29,FIND(":",R29)-1)),0)))="7. Kup",IF(IFERROR(VALUE(LEFT(R29,FIND(":",R29)-1)),0)=0,"",INDEX($I$18:$I$47,IFERROR(VALUE(LEFT(R29,FIND(":",R29)-1)),0)))="6. Kup",IF(IFERROR(VALUE(LEFT(R29,FIND(":",R29)-1)),0)=0,"",INDEX($I$18:$I$47,IFERROR(VALUE(LEFT(R29,FIND(":",R29)-1)),0)))="5. Kup"),3,IF(OR(IF(IFERROR(VALUE(LEFT(R29,FIND(":",R29)-1)),0)=0,"",INDEX($I$18:$I$47,IFERROR(VALUE(LEFT(R29,FIND(":",R29)-1)),0)))="4. Kup",IF(IFERROR(VALUE(LEFT(R29,FIND(":",R29)-1)),0)=0,"",INDEX($I$18:$I$47,IFERROR(VALUE(LEFT(R29,FIND(":",R29)-1)),0)))="3. Kup",IF(IFERROR(VALUE(LEFT(R29,FIND(":",R29)-1)),0)=0,"",INDEX($I$18:$I$47,IFERROR(VALUE(LEFT(R29,FIND(":",R29)-1)),0)))="2. Kup"),2,IF(IF(IFERROR(VALUE(LEFT(R29,FIND(":",R29)-1)),0)=0,"",INDEX($I$18:$I$47,IFERROR(VALUE(LEFT(R29,FIND(":",R29)-1)),0)))<>"",1,0)))),IF(OR(IF(IFERROR(VALUE(LEFT(S29,FIND(":",S29)-1)),0)=0,"",INDEX($I$18:$I$47,IFERROR(VALUE(LEFT(S29,FIND(":",S29)-1)),0)))="10. Kup",IF(IFERROR(VALUE(LEFT(S29,FIND(":",S29)-1)),0)=0,"",INDEX($I$18:$I$47,IFERROR(VALUE(LEFT(S29,FIND(":",S29)-1)),0)))="9. Kup",IF(IFERROR(VALUE(LEFT(S29,FIND(":",S29)-1)),0)=0,"",INDEX($I$18:$I$47,IFERROR(VALUE(LEFT(S29,FIND(":",S29)-1)),0)))="8. Kup"),4,IF(OR(IF(IFERROR(VALUE(LEFT(S29,FIND(":",S29)-1)),0)=0,"",INDEX($I$18:$I$47,IFERROR(VALUE(LEFT(S29,FIND(":",S29)-1)),0)))="7. Kup",IF(IFERROR(VALUE(LEFT(S29,FIND(":",S29)-1)),0)=0,"",INDEX($I$18:$I$47,IFERROR(VALUE(LEFT(S29,FIND(":",S29)-1)),0)))="6. Kup",IF(IFERROR(VALUE(LEFT(S29,FIND(":",S29)-1)),0)=0,"",INDEX($I$18:$I$47,IFERROR(VALUE(LEFT(S29,FIND(":",S29)-1)),0)))="5. Kup"),3,IF(OR(IF(IFERROR(VALUE(LEFT(S29,FIND(":",S29)-1)),0)=0,"",INDEX($I$18:$I$47,IFERROR(VALUE(LEFT(S29,FIND(":",S29)-1)),0)))="4. Kup",IF(IFERROR(VALUE(LEFT(S29,FIND(":",S29)-1)),0)=0,"",INDEX($I$18:$I$47,IFERROR(VALUE(LEFT(S29,FIND(":",S29)-1)),0)))="3. Kup",IF(IFERROR(VALUE(LEFT(S29,FIND(":",S29)-1)),0)=0,"",INDEX($I$18:$I$47,IFERROR(VALUE(LEFT(S29,FIND(":",S29)-1)),0)))="2. Kup"),2,IF(IF(IFERROR(VALUE(LEFT(S29,FIND(":",S29)-1)),0)=0,"",INDEX($I$18:$I$47,IFERROR(VALUE(LEFT(S29,FIND(":",S29)-1)),0)))<>"",1,0))))),"LK1","LK2","LK3","LK4")))} | Y29: =IF(D29="","",25) | AB29: =IF(ISTEXT(D29),25,"")
... A47: =IF(Table_1[[#This Row],[Nachname]]="","",IF(AND(Table_1[[#This Row],[Poomsae Einzel]]<>"Ja",Table_1[[#This Row],[Poomsae Paar]]<>"Ja",Table_1[[#This Row],[Poomsae Team]]<>"Ja"),"Disziplin fehlt",IF(OR(AND(Table_1[[#This Row],[Poomsae Paar]]="Ja",Table_1[[#This Row],[Paar: Partner/in]]=""),AND(Table_1[[#This Row],[Poomsae Team]]="Ja",OR(Table_1[[#This Row],[Team: Starter/in 2]]="",Table_1[[#This Row],[Team: Starter/in 3]]="")),AND(Table_1[[#This Row],[Poomsae Family]]="Ja",Table_1[[#This Row],[Family: Mitglied 2]]=""),AND(Table_1[[#This Row],[Einschritt- kampf]]="Ja",Table_1[[#This Row],[Einschrittkampf: Partner/in]]="")),"Partner fehlt","OK"))) | B47: 30 | C47: =IF(D47="","",$B$10) | G47: =IF(F47="","",IF(YEAR(F47)>=2019,"Klasse bis 7 Jahre / JG bis 2019",IF(YEAR(F47)>=2015,"Klasse 8-11 Jahre / JG 2018-2015",IF(YEAR(F47)>=2012,"Klasse 12-14 Jahre / JG 2014-2012",IF(YEAR(F47)>=2009,"Klasse 15-17 Jahre / JG 2011-2009",IF(YEAR(F47)>=1986,"Klasse 18-40 Jahre / JG 2008-1986","Klasse ab 41 Jahre / JG ab 1985")))))) | J47: =IF(OR(D47="",I47=""),"",IF(OR(I47="10. Kup",I47="9. Kup",I47="8. Kup"),"LK4",IF(OR(I47="7. Kup",I47="6. Kup",I47="5. Kup"),"LK3",IF(OR(I47="4. Kup",I47="3. Kup",I47="2. Kup"),"LK2","LK1")))) | T47: {=IF(Q47<>"Ja","",IF(R47="","",CHOOSE(MAX(IF(OR(I47="10. Kup",I47="9. Kup",I47="8. Kup"),4,IF(OR(I47="7. Kup",I47="6. Kup",I47="5. Kup"),3,IF(OR(I47="4. Kup",I47="3. Kup",I47="2. Kup"),2,IF(I47<>"",1,0)))),IF(OR(IF(IFERROR(VALUE(LEFT(R47,FIND(":",R47)-1)),0)=0,"",INDEX($I$18:$I$47,IFERROR(VALUE(LEFT(R47,FIND(":",R47)-1)),0)))="10. Kup",IF(IFERROR(VALUE(LEFT(R47,FIND(":",R47)-1)),0)=0,"",INDEX($I$18:$I$47,IFERROR(VALUE(LEFT(R47,FIND(":",R47)-1)),0)))="9. Kup",IF(IFERROR(VALUE(LEFT(R47,FIND(":",R47)-1)),0)=0,"",INDEX($I$18:$I$47,IFERROR(VALUE(LEFT(R47,FIND(":",R47)-1)),0)))="8. Kup"),4,IF(OR(IF(IFERROR(VALUE(LEFT(R47,FIND(":",R47)-1)),0)=0,"",INDEX($I$18:$I$47,IFERROR(VALUE(LEFT(R47,FIND(":",R47)-1)),0)))="7. Kup",IF(IFERROR(VALUE(LEFT(R47,FIND(":",R47)-1)),0)=0,"",INDEX($I$18:$I$47,IFERROR(VALUE(LEFT(R47,FIND(":",R47)-1)),0)))="6. Kup",IF(IFERROR(VALUE(LEFT(R47,FIND(":",R47)-1)),0)=0,"",INDEX($I$18:$I$47,IFERROR(VALUE(LEFT(R47,FIND(":",R47)-1)),0)))="5. Kup"),3,IF(OR(IF(IFERROR(VALUE(LEFT(R47,FIND(":",R47)-1)),0)=0,"",INDEX($I$18:$I$47,IFERROR(VALUE(LEFT(R47,FIND(":",R47)-1)),0)))="4. Kup",IF(IFERROR(VALUE(LEFT(R47,FIND(":",R47)-1)),0)=0,"",INDEX($I$18:$I$47,IFERROR(VALUE(LEFT(R47,FIND(":",R47)-1)),0)))="3. Kup",IF(IFERROR(VALUE(LEFT(R47,FIND(":",R47)-1)),0)=0,"",INDEX($I$18:$I$47,IFERROR(VALUE(LEFT(R47,FIND(":",R47)-1)),0)))="2. Kup"),2,IF(IF(IFERROR(VALUE(LEFT(R47,FIND(":",R47)-1)),0)=0,"",INDEX($I$18:$I$47,IFERROR(VALUE(LEFT(R47,FIND(":",R47)-1)),0)))<>"",1,0)))),IF(OR(IF(IFERROR(VALUE(LEFT(S47,FIND(":",S47)-1)),0)=0,"",INDEX($I$18:$I$47,IFERROR(VALUE(LEFT(S47,FIND(":",S47)-1)),0)))="10. Kup",IF(IFERROR(VALUE(LEFT(S47,FIND(":",S47)-1)),0)=0,"",INDEX($I$18:$I$47,IFERROR(VALUE(LEFT(S47,FIND(":",S47)-1)),0)))="9. Kup",IF(IFERROR(VALUE(LEFT(S47,FIND(":",S47)-1)),0)=0,"",INDEX($I$18:$I$47,IFERROR(VALUE(LEFT(S47,FIND(":",S47)-1)),0)))="8. Kup"),4,IF(OR(IF(IFERROR(VALUE(LEFT(S47,FIND(":",S47)-1)),0)=0,"",INDEX($I$18:$I$47,IFERROR(VALUE(LEFT(S47,FIND(":",S47)-1)),0)))="7. Kup",IF(IFERROR(VALUE(LEFT(S47,FIND(":",S47)-1)),0)=0,"",INDEX($I$18:$I$47,IFERROR(VALUE(LEFT(S47,FIND(":",S47)-1)),0)))="6. Kup",IF(IFERROR(VALUE(LEFT(S47,FIND(":",S47)-1)),0)=0,"",INDEX($I$18:$I$47,IFERROR(VALUE(LEFT(S47,FIND(":",S47)-1)),0)))="5. Kup"),3,IF(OR(IF(IFERROR(VALUE(LEFT(S47,FIND(":",S47)-1)),0)=0,"",INDEX($I$18:$I$47,IFERROR(VALUE(LEFT(S47,FIND(":",S47)-1)),0)))="4. Kup",IF(IFERROR(VALUE(LEFT(S47,FIND(":",S47)-1)),0)=0,"",INDEX($I$18:$I$47,IFERROR(VALUE(LEFT(S47,FIND(":",S47)-1)),0)))="3. Kup",IF(IFERROR(VALUE(LEFT(S47,FIND(":",S47)-1)),0)=0,"",INDEX($I$18:$I$47,IFERROR(VALUE(LEFT(S47,FIND(":",S47)-1)),0)))="2. Kup"),2,IF(IF(IFERROR(VALUE(LEFT(S47,FIND(":",S47)-1)),0)=0,"",INDEX($I$18:$I$47,IFERROR(VALUE(LEFT(S47,FIND(":",S47)-1)),0)))<>"",1,0))))),"LK1","LK2","LK3","LK4")))} | Y47: =IF(D47="","",25) | AB47: =IF(ISTEXT(D47),25,"")
AB48: =SUM(AB18:AB47) -> 0

Sheet Listen
A1: Altersklasse Poomsae Einzel | B1: Von JG | C1: Bis JG | D1: Hinweis | F1: Leistungsklasse | G1: Graduierung laut Ausschreibung | I1: Disziplin | K1: Geschlecht | M1: Ja/Nein | O1: Disziplin | P1: Kurzregel | R1: Graduierung | T1: Disziplin | U1: Graduierung/LK laut PDF | V1: Umsetzung | X1: Bruchtest-Altersregel | Y1: Umsetzung
A2: Klasse bis 7 Jahre / JG bis 2019 | B2: 2019 | C2: 9999 | F2: LK4 | G2: 10.-8. Kup | I2: Poomsae Einzel | K2: weiblich | M2: Ja | O2: Poomsae Einzel/Paar/Team/Family | P2: Formenpool frei wählbar; Family nur mit mindestens 2 Generationen und maximal 3 Personen | R2: 10. Kup | T2: Poomsae Einzel/Paar/Team | U2: ab 1. Kup; 4.-2. Kup; 7.-5. Kup; 10.-8. Kup | V2: LK1/LK2/LK3/LK4; sechs Altersklassen nach Jahrgang | X2: Teilnehmende müssen am Turniertag das 16. Lebensjahr erreicht haben. | Y2: In der Anmeldung ist „Ja“ bei Bruchtest nur auswählbar, wenn das Geburtsdatum mindestens 16 Jahre vor dem Wettkampfdatum 14.11.2026 liegt.
A3: Klasse 8-11 Jahre / JG 2018-2015 | B3: 2015 | C3: 2018 | F3: LK3 | G3: 7.-5. Kup | I3: Poomsae Paar | K3: männlich | M3: Nein | O3: Einschrittkampf | P3: 90 Sekunden; mindestens 6 Abfolgen pro Paar; maximal 3 Kontertechniken; Partnerwahl geschlechtsunabhängig | R3: 9. Kup | T3: Poomsae Family | U3: mindestens 2 Generationen; maximal 3 Personen; Formenpool nach niedrigster Graduierung | V3: Family-LK und Family-Startklasse nach niedrigster Leistungsklasse; Generationenregel manuell prüfen | X3: Exakte Prüfung | Y3: Die Prüfung erfolgt automatisch und taggenau anhand von Geburtsdatum und Turnierdatum.
A4: Klasse 12-14 Jahre / JG 2014-2012 | B4: 2012 | C4: 2014 | F4: LK2 | G4: 4.-2. Kup | I4: Poomsae Team | K4: divers | O4: Bruchtest | P4: Mindestalter 16 Jahre; ein Bruchtest; Brettstärke je Altersklasse | R4: 8. Kup | T4: Einschrittkampf | U4: sechs Altersklassen; ab 1. Kup, 4.-2., 7.-5., 10.-8. Kup | V4: Partnerauswahl gleiche Alters- und Leistungsklasse
A5: Klasse 15-17 Jahre / JG 2011-2009 | B5: 2009 | C5: 2011 | F5: LK1 | G5: ab 1. Kup | I5: Poomsae Family | O5: Speed-Kicking | P5: 30 Sekunden Paldung Chagi; Fuß zwischen den Kicks absetzen; Mindesthöhe eigener Gürtel, ab Ü50 Oberschenkel | R5: 7. Kup | T5: Bruchtest | U5: Mindestalter 16; Klassen 16-17, 18-40, ab 41 Jahre | V5: Taggenaue Altersprüfung; Brettstärke 1,0 / 1,5 / 1,0 cm
A6: Klasse 18-40 Jahre / JG 2008-1986 | B6: 1986 | C6: 2008 | I6: Einschrittkampf | R6: 6. Kup | T6: Speed-Kicking | U6: sechs Altersklassen nach Jahrgang | V6: 30 Sekunden; eigene Gürtelhöhe, ab Ü50 Oberschenkel
A7: Klasse ab 41 Jahre / JG ab 1985 | B7: 0 | C7: 1985 | I7: Bruchtest | R7: 5. Kup | T7: LK-Zuordnung | U7: 10.-8.=LK4, 7.-5.=LK3, 4.-2.=LK2, ab 1. Kup=LK1 | V7: Vorschlag bleibt überschreibbar
A8: Klasse bis 50 Jahre / JG 1985-1976 | B8: 1976 | C8: 1985 | D8: nur Poomsae Einzel | I8: Speed-Kicking | R8: 4. Kup | T8: Teilnahmevoraussetzung | U8: Mindestens Einzel, Paar oder Team für weitere Klassen | V8: Pflichtprüfung in der Anmeldung
A9: Klasse ab 51 Jahre / JG ab 1975 | B9: 0 | C9: 1975 | R9: 3. Kup
R10: 2. Kup
R11: 1. Kup
R12: 1. Dan
R13: 2. Dan
R14: 3. Dan

Sheet Partnerlisten
A1: Regelbasierte Partner-Auswahllisten
A2: Regel | B2: Paar | C2: Team Starter/in 2 | D2: Team Starter/in 3 | E2: Family Mitglied 2 | F2: Family Mitglied 3 | G2: Einschrittkampf
B3: gleiche AK + LK + Paar=Ja | C3: gleiche AK + LK; ohne Starter/in 3 | D3: gleiche AK + LK; ohne Starter/in 2 | E3: Family=Ja; ohne Mitglied 3 | F3: Family=Ja; ohne Mitglied 2 | G3: gleiche AK + LK + Einschrittkampf=Ja
A4: Z10 Paar | B4: Z10 Team2 | C4: Z10 Team3 | D4: Z10 Family2 | E4: Z10 Family3 | F4: Z10 EK | I4: Z11 Paar | J4: Z11 Team2 | K4: Z11 Team3 | L4: Z11 Family2 | M4: Z11 Family3 | N4: Z11 EK | Q4: Z12 Paar | R4: Z12 Team2 | S4: Z12 Team3 | T4: Z12 Family2 | U4: Z12 Family3 | V4: Z12 EK | Y4: Z13 Paar | Z4: Z13 Team2 | AA4: Z13 Team3 | AB4: Z13 Family2 | AC4: Z13 Family3 | AD4: Z13 EK | AG4: Z14 Paar | AH4: Z14 Team2 | AI4: Z14 Team3 | AJ4: Z14 Family2 | AK4: Z14 Family3 | AL4: Z14 EK | AO4: Z15 Paar | AP4: Z15 Team2 | AQ4: Z15 Team3 | AR4: Z15 Family2 | AS4: Z15 Family3 | AT4: Z15 EK | AW4: Z16 Paar | AX4: Z16 Team2 | AY4: Z16 Team3 | AZ4: Z16 Family2 | BA4: Z16 Family3 | BB4: Z16 EK | BE4: Z17 Paar | BF4: Z17 Team2 | BG4: Z17 Team3 | BH4: Z17 Family2 | BI4: Z17 Family3 | BJ4: Z17 EK | BM4: Z18 Paar | BN4: Z18 Team2 | BO4: Z18 Team3 | BP4: Z18 Family2 | BQ4: Z18 Family3 | BR4: Z18 EK | BU4: Z19 Paar | BV4: Z19 Team2 | BW4: Z19 Team3 | BX4: Z19 Family2 | BY4: Z19 Family3 | BZ4: Z19 EK | CC4: Z20 Paar | CD4: Z20 Team2 | CE4: Z20 Team3 | CF4: Z20 Family2 | CG4: Z20 Family3 | CH4: Z20 EK | CK4: Z21 Paar | CL4: Z21 Team2 | CM4: Z21 Team3 | CN4: Z21 Family2 | CO4: Z21 Family3 | CP4: Z21 EK | CS4: Z22 Paar | CT4: Z22 Team2 | CU4: Z22 Team3 | CV4: Z22 Family2 | CW4: Z22 Family3 | CX4: Z22 EK | DA4: Z23 Paar | DB4: Z23 Team2 | DC4: Z23 Team3 | DD4: Z23 Family2 | DE4: Z23 Family3 | DF4: Z23 EK | DI4: Z24 Paar | DJ4: Z24 Team2 | DK4: Z24 Team3 | DL4: Z24 Family2 | DM4: Z24 Family3 | DN4: Z24 EK | DQ4: Z25 Paar | DR4: Z25 Team2 | DS4: Z25 Team3 | DT4: Z25 Family2 | DU4: Z25 Family3 | DV4: Z25 EK | DY4: Z26 Paar | DZ4: Z26 Team2 | EA4: Z26 Team3 | EB4: Z26 Family2 | EC4: Z26 Family3 | ED4: Z26 EK | EG4: Z27 Paar | EH4: Z27 Team2 | EI4: Z27 Team3 | EJ4: Z27 Family2 | EK4: Z27 Family3 | EL4: Z27 EK | EO4: Z28 Paar | EP4: Z28 Team2 | EQ4: Z28 Team3 | ER4: Z28 Family2 | ES4: Z28 Family3 | ET4: Z28 EK | EW4: Z29 Paar | EX4: Z29 Team2 | EY4: Z29 Team3 | EZ4: Z29 Family2 | FA4: Z29 Family3 | FB4: Z29 EK | FE4: Z30 Paar | FF4: Z30 Team2 | FG4: Z30 Team3 | FH4: Z30 Family2 | FI4: Z30 Family3 | FJ4: Z30 EK | FM4: Z31 Paar | FN4: Z31 Team2 | FO4: Z31 Team3 | FP4: Z31 Family2 | FQ4: Z31 Family3 | FR4: Z31 EK | FU4: Z32 Paar | FV4: Z32 Team2 | FW4: Z32 Team3 | FX4: Z32 Family2 | FY4: Z32 Family3 | FZ4: Z32 EK | GC4: Z33 Paar | GD4: Z33 Team2 | GE4: Z33 Team3 | GF4: Z33 Family2 | GG4: Z33 Family3 | GH4: Z33 EK | GK4: Z34 Paar | GL4: Z34 Team2 | GM4: Z34 Team3 | GN4: Z34 Family2 | GO4: Z34 Family3 | GP4: Z34 EK | GS4: Z35 Paar | GT4: Z35 Team2 | GU4: Z35 Team3 | GV4: Z35 Family2 | GW4: Z35 Family3 | GX4: Z35 EK | HA4: Z36 Paar | HB4: Z36 Team2 | HC4: Z36 Team3 | HD4: Z36 Family2 | HE4: Z36 Family3 | HF4: Z36 EK | HI4: Z37 Paar | HJ4: Z37 Team2 | HK4: Z37 Team3 | HL4: Z37 Family2 | HM4: Z37 Family3 | HN4: Z37 EK | HQ4: Z38 Paar | HR4: Z38 Team2 | HS4: Z38 Team3 | HT4: Z38 Family2 | HU4: Z38 Family3 | HV4: Z38 EK | HY4: Z39 Paar | HZ4: Z39 Team2 | IA4: Z39 Team3 | IB4: Z39 Family2 | IC4: Z39 Family3 | ID4: Z39 EK
A5: =IF(AND(11<>11,Anmeldung!$D$18<>"",Anmeldung!$G$18=Anmeldung!$G$18,Anmeldung!$J$18=Anmeldung!$J$18),Anmeldung!$B$18&": "&Anmeldung!$D$18&", "&Anmeldung!$E$18&" / "&Anmeldung!$G$18&" / "&Anmeldung!$J$18,"") | B5: =IF(AND(11<>11,Anmeldung!$D$18<>"",Anmeldung!$G$18=Anmeldung!$G$18,Anmeldung!$J$18=Anmeldung!$J$18,(Anmeldung!$B$18&": "&Anmeldung!$D$18&", "&Anmeldung!$E$18&" / "&Anmeldung!$G$18&" / "&Anmeldung!$J$18)<>Anmeldung!$P$18),Anmeldung!$B$18&": "&Anmeldung!$D$18&", "&Anmeldung!$E$18&" / "&Anmeldung!$G$18&" / "&Anmeldung!$J$18,"") | C5: =IF(AND(11<>11,Anmeldung!$D$18<>"",Anmeldung!$G$18=Anmeldung!$G$18,Anmeldung!$J$18=Anmeldung!$J$18,(Anmeldung!$B$18&": "&Anmeldung!$D$18&", "&Anmeldung!$E$18&" / "&Anmeldung!$G$18&" / "&Anmeldung!$J$18)<>Anmeldung!$O$18),Anmeldung!$B$18&": "&Anmeldung!$D$18&", "&Anmeldung!$E$18&" / "&Anmeldung!$G$18&" / "&Anmeldung!$J$18,"") | D5: =IF(AND(11<>11,Anmeldung!$D$18<>"",Anmeldung!$G$18<>Anmeldung!$G$18,(Anmeldung!$B$18&": "&Anmeldung!$D$18&", "&Anmeldung!$E$18&" / "&Anmeldung!$G$18&" / "&Anmeldung!$J$18)<>Anmeldung!$S$18),Anmeldung!$B$18&": "&Anmeldung!$D$18&", "&Anmeldung!$E$18&" / "&Anmeldung!$G$18&" / "&Anmeldung!$J$18,"") | E5: =IF(AND(11<>11,Anmeldung!$D$18<>"",(Anmeldung!$B$18&": "&Anmeldung!$D$18&", "&Anmeldung!$E$18&" / "&Anmeldung!$G$18&" / "&Anmeldung!$J$18)<>Anmeldung!$R$18),Anmeldung!$B$18&": "&Anmeldung!$D$18&", "&Anmeldung!$E$18&" / "&Anmeldung!$G$18&" / "&Anmeldung!$J$18,"") | F5: =IF(AND(10<>10,Anmeldung!$D$18<>"",Anmeldung!$U$18="Ja",Anmeldung!$G$18=Anmeldung!$G$18,Anmeldung!$J$18=Anmeldung!$J$18),Anmeldung!$B$18&": "&Anmeldung!$D$18&", "&Anmeldung!$E$18&" / "&Anmeldung!$G$18&" / "&Anmeldung!$J$18,"") | I5: =IF(AND(11<>12,Anmeldung!$D$18<>"",Anmeldung!$G$18=Anmeldung!$G$19,Anmeldung!$J$18=Anmeldung!$J$19),Anmeldung!$B$18&": "&Anmeldung!$D$18&", "&Anmeldung!$E$18&" / "&Anmeldung!$G$18&" / "&Anmeldung!$J$18,"") | J5: =IF(AND(11<>12,Anmeldung!$D$18<>"",Anmeldung!$G$18=Anmeldung!$G$19,Anmeldung!$J$18=Anmeldung!$J$19,(Anmeldung!$B$18&": "&Anmeldung!$D$18&", "&Anmeldung!$E$18&" / "&Anmeldung!$G$18&" / "&Anmeldung!$J$18)<>Anmeldung!$P$19),Anmeldung!$B$18&": "&Anmeldung!$D$18&", "&Anmeldung!$E$18&" / "&Anmeldung!$G$18&" / "&Anmeldung!$J$18,"") | K5: =IF(AND(11<>12,Anmeldung!$D$18<>"",Anmeldung!$G$18=Anmeldung!$G$19,Anmeldung!$J$18=Anmeldung!$J$19,(Anmeldung!$B$18&": "&Anmeldung!$D$18&", "&Anmeldung!$E$18&" / "&Anmeldung!$G$18&" / "&Anmeldung!$J$18)<>Anmeldung!$O$19),Anmeldung!$B$18&": "&Anmeldung!$D$18&", "&Anmeldung!$E$18&" / "&Anmeldung!$G$18&" / "&Anmeldung!$J$18,"") | L5: =IF(AND(11<>12,Anmeldung!$D$18<>"",Anmeldung!$G$18<>Anmeldung!$G$19,(Anmeldung!$B$18&": "&Anmeldung!$D$18&", "&Anmeldung!$E$18&" / "&Anmeldung!$G$18&" / "&Anmeldung!$J$18)<>Anmeldung!$S$19),Anmeldung!$B$18&": "&Anmeldung!$D$18&", "&Anmeldung!$E$18&" / "&Anmeldung!$G$18&" / "&Anmeldung!$J$18,"") | M5: =IF(AND(11<>12,Anmeldung!$D$18<>"",(Anmeldung!$B$18&": "&Anmeldung!$D$18&", "&Anmeldung!$E$18&" / "&Anmeldung!$G$18&" / "&Anmeldung!$J$18)<>Anmeldung!$R$19),Anmeldung!$B$18&": "&Anmeldung!$D$18&", "&Anmeldung!$E$18&" / "&Anmeldung!$G$18&" / "&Anmeldung!$J$18,"") | N5: =IF(AND(10<>11,Anmeldung!$D$18<>"",Anmeldung!$U$18="Ja",Anmeldung!$G$18=Anmeldung!$G$19,Anmeldung!$J$18=Anmeldung!$J$19),Anmeldung!$B$18&": "&Anmeldung!$D$18&", "&Anmeldung!$E$18&" / "&Anmeldung!$G$18&" / "&Anmeldung!$J$18,"") | Q5: =IF(AND(11<>13,Anmeldung!$D$18<>"",Anmeldung!$G$18=Anmeldung!$G$20,Anmeldung!$J$18=Anmeldung!$J$20),Anmeldung!$B$18&": "&Anmeldung!$D$18&", "&Anmeldung!$E$18&" / "&Anmeldung!$G$18&" / "&Anmeldung!$J$18,"") | R5: =IF(AND(11<>13,Anmeldung!$D$18<>"",Anmeldung!$G$18=Anmeldung!$G$20,Anmeldung!$J$18=Anmeldung!$J$20,(Anmeldung!$B$18&": "&Anmeldung!$D$18&", "&Anmeldung!$E$18&" / "&Anmeldung!$G$18&" / "&Anmeldung!$J$18)<>Anmeldung!$P$20),Anmeldung!$B$18&": "&Anmeldung!$D$18&", "&Anmeldung!$E$18&" / "&Anmeldung!$G$18&" / "&Anmeldung!$J$18,"") | S5: =IF(AND(11<>13,Anmeldung!$D$18<>"",Anmeldung!$G$18=Anmeldung!$G$20,Anmeldung!$J$18=Anmeldung!$J$20,(Anmeldung!$B$18&": "&Anmeldung!$D$18&", "&Anmeldung!$E$18&" / "&Anmeldung!$G$18&" / "&Anmeldung!$J$18)<>Anmeldung!$O$20),Anmeldung!$B$18&": "&Anmeldung!$D$18&", "&Anmeldung!$E$18&" / "&Anmeldung!$G$18&" / "&Anmeldung!$J$18,"") | T5: =IF(AND(11<>13,Anmeldung!$D$18<>"",Anmeldung!$G$18<>Anmeldung!$G$20,(Anmeldung!$B$18&": "&Anmeldung!$D$18&", "&Anmeldung!$E$18&" / "&Anmeldung!$G$18&" / "&Anmeldung!$J$18)<>Anmeldung!$S$20),Anmeldung!$B$18&": "&Anmeldung!$D$18&", "&Anmeldung!$E$18&" / "&Anmeldung!$G$18&" / "&Anmeldung!$J$18,"") | U5: =IF(AND(11<>13,Anmeldung!$D$18<>"",(Anmeldung!$B$18&": "&Anmeldung!$D$18&", "&Anmeldung!$E$18&" / "&Anmeldung!$G$18&" / "&Anmeldung!$J$18)<>Anmeldung!$R$20),Anmeldung!$B$18&": "&Anmeldung!$D$18&", "&Anmeldung!$E$18&" / "&Anmeldung!$G$18&" / "&Anmeldung!$J$18,"") | V5: =IF(AND(10<>12,Anmeldung!$D$18<>"",Anmeldung!$U$18="Ja",Anmeldung!$G$18=Anmeldung!$G$20,Anmeldung!$J$18=Anmeldung!$J$20),Anmeldung!$B$18&": "&Anmeldung!$D$18&", "&Anmeldung!$E$18&" / "&Anmeldung!$G$18&" / "&Anmeldung!$J$18,"") | Y5: =IF(AND(11<>14,Anmeldung!$D$18<>"",Anmeldung!$G$18=Anmeldung!$G$21,Anmeldung!$J$18=Anmeldung!$J$21),Anmeldung!$B$18&": "&Anmeldung!$D$18&", "&Anmeldung!$E$18&" / "&Anmeldung!$G$18&" / "&Anmeldung!$J$18,"") | Z5: =IF(AND(11<>14,Anmeldung!$D$18<>"",Anmeldung!$G$18=Anmeldung!$G$21,Anmeldung!$J$18=Anmeldung!$J$21,(Anmeldung!$B$18&": "&Anmeldung!$D$18&", "&Anmeldung!$E$18&" / "&Anmeldung!$G$18&" / "&Anmeldung!$J$18)<>Anmeldung!$P$21),Anmeldung!$B$18&": "&Anmeldung!$D$18&", "&Anmeldung!$E$18&" / "&Anmeldung!$G$18&" / "&Anmeldung!$J$18,"") | AA5: =IF(AND(11<>14,Anmeldung!$D$18<>"",Anmeldung!$G$18=Anmeldung!$G$21,Anmeldung!$J$18=Anmeldung!$J$21,(Anmeldung!$B$18&": "&Anmeldung!$D$18&", "&Anmeldung!$E$18&" / "&Anmeldung!$G$18&" / "&Anmeldung!$J$18)<>Anmeldung!$O$21),Anmeldung!$B$18&": "&Anmeldung!$D$18&", "&Anmeldung!$E$18&" / "&Anmeldung!$G$18&" / "&Anmeldung!$J$18,"") | AB5: =IF(AND(11<>14,Anmeldung!$D$18<>"",Anmeldung!$G$18<>Anmeldung!$G$21,(Anmeldung!$B$18&": "&Anmeldung!$D$18&", "&Anmeldung!$E$18&" / "&Anmeldung!$G$18&" / "&Anmeldung!$J$18)<>Anmeldung!$S$21),Anmeldung!$B$18&": "&Anmeldung!$D$18&", "&Anmeldung!$E$18&" / "&Anmeldung!$G$18&" / "&Anmeldung!$J$18,"") | AC5: =IF(AND(11<>14,Anmeldung!$D$18<>"",(Anmeldung!$B$18&": "&Anmeldung!$D$18&", "&Anmeldung!$E$18&" / "&Anmeldung!$G$18&" / "&Anmeldung!$J$18)<>Anmeldung!$R$21),Anmeldung!$B$18&": "&Anmeldung!$D$18&", "&Anmeldung!$E$18&" / "&Anmeldung!$G$18&" / "&Anmeldung!$J$18,"") | AD5: =IF(AND(10<>13,Anmeldung!$D$18<>"",Anmeldung!$U$18="Ja",Anmeldung!$G$18=Anmeldung!$G$21,Anmeldung!$J$18=Anmeldung!$J$21),Anmeldung!$B$18&": "&Anmeldung!$D$18&", "&Anmeldung!$E$18&" / "&Anmeldung!$G$18&" / "&Anmeldung!$J$18,"") | AG5: =IF(AND(11<>15,Anmeldung!$D$18<>"",Anmeldung!$G$18=Anmeldung!$G$22,Anmeldung!$J$18=Anmeldung!$J$22),Anmeldung!$B$18&": "&Anmeldung!$D$18&", "&Anmeldung!$E$18&" / "&Anmeldung!$G$18&" / "&Anmeldung!$J$18,"") | AH5: =IF(AND(11<>15,Anmeldung!$D$18<>"",Anmeldung!$G$18=Anmeldung!$G$22,Anmeldung!$J$18=Anmeldung!$J$22,(Anmeldung!$B$18&": "&Anmeldung!$D$18&", "&Anmeldung!$E$18&" / "&Anmeldung!$G$18&" / "&Anmeldung!$J$18)<>Anmeldung!$P$22),Anmeldung!$B$18&": "&Anmeldung!$D$18&", "&Anmeldung!$E$18&" / "&Anmeldung!$G$18&" / "&Anmeldung!$J$18,"") | AI5: =IF(AND(11<>15,Anmeldung!$D$18<>"",Anmeldung!$G$18=Anmeldung!$G$22,Anmeldung!$J$18=Anmeldung!$J$22,(Anmeldung!$B$18&": "&Anmeldung!$D$18&", "&Anmeldung!$E$18&" / "&Anmeldung!$G$18&" / "&Anmeldung!$J$18)<>Anmeldung!$O$22),Anmeldung!$B$18&": "&Anmeldung!$D$18&", "&Anmeldung!$E$18&" / "&Anmeldung!$G$18&" / "&Anmeldung!$J$18,"") | AJ5: =IF(AND(11<>15,Anmeldung!$D$18<>"",Anmeldung!$G$18<>Anmeldung!$G$22,(Anmeldung!$B$18&": "&Anmeldung!$D$18&", "&Anmeldung!$E$18&" / "&Anmeldung!$G$18&" / "&Anmeldung!$J$18)<>Anmeldung!$S$22),Anmeldung!$B$18&": "&Anmeldung!$D$18&", "&Anmeldung!$E$18&" / "&Anmeldung!$G$18&" / "&Anmeldung!$J$18,"") | AK5: =IF(AND(11<>15,Anmeldung!$D$18<>"",(Anmeldung!$B$18&": "&Anmeldung!$D$18&", "&Anmeldung!$E$18&" / "&Anmeldung!$G$18&" / "&Anmeldung!$J$18)<>Anmeldung!$R$22),Anmeldung!$B$18&": "&Anmeldung!$D$18&", "&Anmeldung!$E$18&" / "&Anmeldung!$G$18&" / "&Anmeldung!$J$18,"") | AL5: =IF(AND(10<>14,Anmeldung!$D$18<>"",Anmeldung!$U$18="Ja",Anmeldung!$G$18=Anmeldung!$G$22,Anmeldung!$J$18=Anmeldung!$J$22),Anmeldung!$B$18&": "&Anmeldung!$D$18&", "&Anmeldung!$E$18&" / "&Anmeldung!$G$18&" / "&Anmeldung!$J$18,"") | AO5: =IF(AND(11<>16,Anmeldung!$D$18<>"",Anmeldung!$G$18=Anmeldung!$G$23,Anmeldung!$J$18=Anmeldung!$J$23),Anmeldung!$B$18&": "&Anmeldung!$D$18&", "&Anmeldung!$E$18&" / "&Anmeldung!$G$18&" / "&Anmeldung!$J$18,"") | AP5: =IF(AND(11<>16,Anmeldung!$D$18<>"",Anmeldung!$G$18=Anmeldung!$G$23,Anmeldung!$J$18=Anmeldung!$J$23,(Anmeldung!$B$18&": "&Anmeldung!$D$18&", "&Anmeldung!$E$18&" / "&Anmeldung!$G$18&" / "&Anmeldung!$J$18)<>Anmeldung!$P$23),Anmeldung!$B$18&": "&Anmeldung!$D$18&", "&Anmeldung!$E$18&" / "&Anmeldung!$G$18&" / "&Anmeldung!$J$18,"") | AQ5: =IF(AND(11<>16,Anmeldung!$D$18<>"",Anmeldung!$G$18=Anmeldung!$G$23,Anmeldung!$J$18=Anmeldung!$J$23,(Anmeldung!$B$18&": "&Anmeldung!$D$18&", "&Anmeldung!$E$18&" / "&Anmeldung!$G$18&" / "&Anmeldung!$J$18)<>Anmeldung!$O$23),Anmeldung!$B$18&": "&Anmeldung!$D$18&", "&Anmeldung!$E$18&" / "&Anmeldung!$G$18&" / "&Anmeldung!$J$18,"") | AR5: =IF(AND(11<>16,Anmeldung!$D$18<>"",Anmeldung!$G$18<>Anmeldung!$G$23,(Anmeldung!$B$18&": "&Anmeldung!$D$18&", "&Anmeldung!$E$18&" / "&Anmeldung!$G$18&" / "&Anmeldung!$J$18)<>Anmeldung!$S$23),Anmeldung!$B$18&": "&Anmeldung!$D$18&", "&Anmeldung!$E$18&" / "&Anmeldung!$G$18&" / "&Anmeldung!$J$18,"") | AS5: =IF(AND(11<>16,Anmeldung!$D$18<>"",(Anmeldung!$B$18&": "&Anmeldung!$D$18&", "&Anmeldung!$E$18&" / "&Anmeldung!$G$18&" / "&Anmeldung!$J$18)<>Anmeldung!$R$23),Anmeldung!$B$18&": "&Anmeldung!$D$18&", "&Anmeldung!$E$18&" / "&Anmeldung!$G$18&" / "&Anmeldung!$J$18,"") | AT5: =IF(AND(10<>15,Anmeldung!$D$18<>"",Anmeldung!$U$18="Ja",Anmeldung!$G$18=Anmeldung!$G$23,Anmeldung!$J$18=Anmeldung!$J$23),Anmeldung!$B$18&": "&Anmeldung!$D$18&", "&Anmeldung!$E$18&" / "&Anmeldung!$G$18&" / "&Anmeldung!$J$18,"") | AW5: =IF(AND(11<>17,Anmeldung!$D$18<>"",Anmeldung!$G$18=Anmeldung!$G$24,Anmeldung!$J$18=Anmeldung!$J$24),Anmeldung!$B$18&": "&Anmeldung!$D$18&", "&Anmeldung!$E$18&" / "&Anmeldung!$G$18&" / "&Anmeldung!$J$18,"") | AX5: =IF(AND(11<>17,Anmeldung!$D$18<>"",Anmeldung!$G$18=Anmeldung!$G$24,Anmeldung!$J$18=Anmeldung!$J$24,(Anmeldung!$B$18&": "&Anmeldung!$D$18&", "&Anmeldung!$E$18&" / "&Anmeldung!$G$18&" / "&Anmeldung!$J$18)<>Anmeldung!$P$24),Anmeldung!$B$18&": "&Anmeldung!$D$18&", "&Anmeldung!$E$18&" / "&Anmeldung!$G$18&" / "&Anmeldung!$J$18,"") | AY5: =IF(AND(11<>17,Anmeldung!$D$18<>"",Anmeldung!$G$18=Anmeldung!$G$24,Anmeldung!$J$18=Anmeldung!$J$24,(Anmeldung!$B$18&": "&Anmeldung!$D$18&", "&Anmeldung!$E$18&" / "&Anmeldung!$G$18&" / "&Anmeldung!$J$18)<>Anmeldung!$O$24),Anmeldung!$B$18&": "&Anmeldung!$D$18&", "&Anmeldung!$E$18&" / "&Anmeldung!$G$18&" / "&Anmeldung!$J$18,"") | AZ5: =IF(AND(11<>17,Anmeldung!$D$18<>"",Anmeldung!$G$18<>Anmeldung!$G$24,(Anmeldung!$B$18&": "&Anmeldung!$D$18&", "&Anmeldung!$E$18&" / "&Anmeldung!$G$18&" / "&Anmeldung!$J$18)<>Anmeldung!$S$24),Anmeldung!$B$18&": "&Anmeldung!$D$18&", "&Anmeldung!$E$18&" / "&Anmeldung!$G$18&" / "&Anmeldung!$J$18,"") | BA5: =IF(AND(11<>17,Anmeldung!$D$18<>"",(Anmeldung!$B$18&": "&Anmeldung!$D$18&", "&Anmeldung!$E$18&" / "&Anmeldung!$G$18&" / "&Anmeldung!$J$18)<>Anmeldung!$R$24),Anmeldung!$B$18&": "&Anmeldung!$D$18&", "&Anmeldung!$E$18&" / "&Anmeldung!$G$18&" / "&Anmeldung!$J$18,"") | BB5: =IF(AND(10<>16,Anmeldung!$D$18<>"",Anmeldung!$U$18="Ja",Anmeldung!$G$18=Anmeldung!$G$24,Anmeldung!$J$18=Anmeldung!$J$24),Anmeldung!$B$18&": "&Anmeldung!$D$18&", "&Anmeldung!$E$18&" / "&Anmeldung!$G$18&" / "&Anmeldung!$J$18,"") | BE5: =IF(AND(11<>18,Anmeldung!$D$18<>"",Anmeldung!$G$18=Anmeldung!$G$25,Anmeldung!$J$18=Anmeldung!$J$25),Anmeldung!$B$18&": "&Anmeldung!$D$18&", "&Anmeldung!$E$18&" / "&Anmeldung!$G$18&" / "&Anmeldung!$J$18,"") | BF5: =IF(AND(11<>18,Anmeldung!$D$18<>"",Anmeldung!$G$18=Anmeldung!$G$25,Anmeldung!$J$18=Anmeldung!$J$25,(Anmeldung!$B$18&": "&Anmeldung!$D$18&", "&Anmeldung!$E$18&" / "&Anmeldung!$G$18&" / "&Anmeldung!$J$18)<>Anmeldung!$P$25),Anmeldung!$B$18&": "&Anmeldung!$D$18&", "&Anmeldung!$E$18&" / "&Anmeldung!$G$18&" / "&Anmeldung!$J$18,"") | BG5: =IF(AND(11<>18,Anmeldung!$D$18<>"",Anmeldung!$G$18=Anmeldung!$G$25,Anmeldung!$J$18=Anmeldung!$J$25,(Anmeldung!$B$18&": "&Anmeldung!$D$18&", "&Anmeldung!$E$18&" / "&Anmeldung!$G$18&" / "&Anmeldung!$J$18)<>Anmeldung!$O$25),Anmeldung!$B$18&": "&Anmeldung!$D$18&", "&Anmeldung!$E$18&" / "&Anmeldung!$G$18&" / "&Anmeldung!$J$18,"") | BH5: =IF(AND(11<>18,Anmeldung!$D$18<>"",Anmeldung!$G$18<>Anmeldung!$G$25,(Anmeldung!$B$18&": "&Anmeldung!$D$18&", "&Anmeldung!$E$18&" / "&Anmeldung!$G$18&" / "&Anmeldung!$J$18)<>Anmeldung!$S$25),Anmeldung!$B$18&": "&Anmeldung!$D$18&", "&Anmeldung!$E$18&" / "&Anmeldung!$G$18&" / "&Anmeldung!$J$18,"") | BI5: =IF(AND(11<>18,Anmeldung!$D$18<>"",(Anmeldung!$B$18&": "&Anmeldung!$D$18&", "&Anmeldung!$E$18&" / "&Anmeldung!$G$18&" / "&Anmeldung!$J$18)<>Anmeldung!$R$25),Anmeldung!$B$18&": "&Anmeldung!$D$18&", "&Anmeldung!$E$18&" / "&Anmeldung!$G$18&" / "&Anmeldung!$J$18,"") | BJ5: =IF(AND(10<>17,Anmeldung!$D$18<>"",Anmeldung!$U$18="Ja",Anmeldung!$G$18=Anmeldung!$G$25,Anmeldung!$J$18=Anmeldung!$J$25),Anmeldung!$B$18&": "&Anmeldung!$D$18&", "&Anmeldung!$E$18&" / "&Anmeldung!$G$18&" / "&Anmeldung!$J$18,"") | BM5: =IF(AND(11<>19,Anmeldung!$D$18<>"",Anmeldung!$G$18=Anmeldung!$G$26,Anmeldung!$J$18=Anmeldung!$J$26),Anmeldung!$B$18&": "&Anmeldung!$D$18&", "&Anmeldung!$E$18&" / "&Anmeldung!$G$18&" / "&Anmeldung!$J$18,"") | BN5: =IF(AND(11<>19,Anmeldung!$D$18<>"",Anmeldung!$G$18=Anmeldung!$G$26,Anmeldung!$J$18=Anmeldung!$J$26,(Anmeldung!$B$18&": "&Anmeldung!$D$18&", "&Anmeldung!$E$18&" / "&Anmeldung!$G$18&" / "&Anmeldung!$J$18)<>Anmeldung!$P$26),Anmeldung!$B$18&": "&Anmeldung!$D$18&", "&Anmeldung!$E$18&" / "&Anmeldung!$G$18&" / "&Anmeldung!$J$18,"") | BO5: =IF(AND(11<>19,Anmeldung!$D$18<>"",Anmeldung!$G$18=Anmeldung!$G$26,Anmeldung!$J$18=Anmeldung!$J$26,(Anmeldung!$B$18&": "&Anmeldung!$D$18&", "&Anmeldung!$E$18&" / "&Anmeldung!$G$18&" / "&Anmeldung!$J$18)<>Anmeldung!$O$26),Anmeldung!$B$18&": "&Anmeldung!$D$18&", "&Anmeldung!$E$18&" / "&Anmeldung!$G$18&" / "&Anmeldung!$J$18,"") | BP5: =IF(AND(11<>19,Anmeldung!$D$18<>"",Anmeldung!$G$18<>Anmeldung!$G$26,(Anmeldung!$B$18&": "&Anmeldung!$D$18&", "&Anmeldung!$E$18&" / "&Anmeldung!$G$18&" / "&Anmeldung!$J$18)<>Anmeldung!$S$26),Anmeldung!$B$18&": "&Anmeldung!$D$18&", "&Anmeldung!$E$18&" / "&Anmeldung!$G$18&" / "&Anmeldung!$J$18,"") | BQ5: =IF(AND(11<>19,Anmeldung!$D$18<>"",(Anmeldung!$B$18&": "&Anmeldung!$D$18&", "&Anmeldung!$E$18&" / "&Anmeldung!$G$18&" / "&Anmeldung!$J$18)<>Anmeldung!$R$26),Anmeldung!$B$18&": "&Anmeldung!$D$18&", "&Anmeldung!$E$18&" / "&Anmeldung!$G$18&" / "&Anmeldung!$J$18,"") | BR5: =IF(AND(10<>18,Anmeldung!$D$18<>"",Anmeldung!$U$18="Ja",Anmeldung!$G$18=Anmeldung!$G$26,Anmeldung!$J$18=Anmeldung!$J$26),Anmeldung!$B$18&": "&Anmeldung!$D$18&", "&Anmeldung!$E$18&" / "&Anmeldung!$G$18&" / "&Anmeldung!$J$18,"") | BU5: =IF(AND(11<>20,Anmeldung!$D$18<>"",Anmeldung!$G$18=Anmeldung!$G$27,Anmeldung!$J$18=Anmeldung!$J$27),Anmeldung!$B$18&": "&Anmeldung!$D$18&", "&Anmeldung!$E$18&" / "&Anmeldung!$G$18&" / "&Anmeldung!$J$18,"") | BV5: =IF(AND(11<>20,Anmeldung!$D$18<>"",Anmeldung!$G$18=Anmeldung!$G$27,Anmeldung!$J$18=Anmeldung!$J$27,(Anmeldung!$B$18&": "&Anmeldung!$D$18&", "&Anmeldung!$E$18&" / "&Anmeldung!$G$18&" / "&Anmeldung!$J$18)<>Anmeldung!$P$27),Anmeldung!$B$18&": "&Anmeldung!$D$18&", "&Anmeldung!$E$18&" / "&Anmeldung!$G$18&" / "&Anmeldung!$J$18,"") | BW5: =IF(AND(11<>20,Anmeldung!$D$18<>"",Anmeldung!$G$18=Anmeldung!$G$27,Anmeldung!$J$18=Anmeldung!$J$27,(Anmeldung!$B$18&": "&Anmeldung!$D$18&", "&Anmeldung!$E$18&" / "&Anmeldung!$G$18&" / "&Anmeldung!$J$18)<>Anmeldung!$O$27),Anmeldung!$B$18&": "&Anmeldung!$D$18&", "&Anmeldung!$E$18&" / "&Anmeldung!$G$18&" / "&Anmeldung!$J$18,"") | BX5: =IF(AND(11<>20,Anmeldung!$D$18<>"",Anmeldung!$G$18<>Anmeldung!$G$27,(Anmeldung!$B$18&": "&Anmeldung!$D$18&", "&Anmeldung!$E$18&" / "&Anmeldung!$G$18&" / "&Anmeldung!$J$18)<>Anmeldung!$S$27),Anmeldung!$B$18&": "&Anmeldung!$D$18&", "&Anmeldung!$E$18&" / "&Anmeldung!$G$18&" / "&Anmeldung!$J$18,"") | BY5: =IF(AND(11<>20,Anmeldung!$D$18<>"",(Anmeldung!$B$18&": "&Anmeldung!$D$18&", "&Anmeldung!$E$18&" / "&Anmeldung!$G$18&" / "&Anmeldung!$J$18)<>Anmeldung!$R$27),Anmeldung!$B$18&": "&Anmeldung!$D$18&", "&Anmeldung!$E$18&" / "&Anmeldung!$G$18&" / "&Anmeldung!$J$18,"") | BZ5: =IF(AND(10<>19,Anmeldung!$D$18<>"",Anmeldung!$U$18="Ja",Anmeldung!$G$18=Anmeldung!$G$27,Anmeldung!$J$18=Anmeldung!$J$27),Anmeldung!$B$18&": "&Anmeldung!$D$18&", "&Anmeldung!$E$18&" / "&Anmeldung!$G$18&" / "&Anmeldung!$J$18,"") | CC5: =IF(AND(11<>21,Anmeldung!$D$18<>"",Anmeldung!$G$18=Anmeldung!$G$28,Anmeldung!$J$18=Anmeldung!$J$28),Anmeldung!$B$18&": "&Anmeldung!$D$18&", "&Anmeldung!$E$18&" / "&Anmeldung!$G$18&" / "&Anmeldung!$J$18,"") | CD5: =IF(AND(11<>21,Anmeldung!$D$18<>"",Anmeldung!$G$18=Anmeldung!$G$28,Anmeldung!$J$18=Anmeldung!$J$28,(Anmeldung!$B$18&": "&Anmeldung!$D$18&", "&Anmeldung!$E$18&" / "&Anmeldung!$G$18&" / "&Anmeldung!$J$18)<>Anmeldung!$P$28),Anmeldung!$B$18&": "&Anmeldung!$D$18&", "&Anmeldung!$E$18&" / "&Anmeldung!$G$18&" / "&Anmeldung!$J$18,"") | CE5: =IF(AND(11<>21,Anmeldung!$D$18<>"",Anmeldung!$G$18=Anmeldung!$G$28,Anmeldung!$J$18=Anmeldung!$J$28,(Anmeldung!$B$18&": "&Anmeldung!$D$18&", "&Anmeldung!$E$18&" / "&Anmeldung!$G$18&" / "&Anmeldung!$J$18)<>Anmeldung!$O$28),Anmeldung!$B$18&": "&Anmeldung!$D$18&", "&Anmeldung!$E$18&" / "&Anmeldung!$G$18&" / "&Anmeldung!$J$18,"") | CF5: =IF(AND(11<>21,Anmeldung!$D$18<>"",Anmeldung!$G$18<>Anmeldung!$G$28,(Anmeldung!$B$18&": "&Anmeldung!$D$18&", "&Anmeldung!$E$18&" / "&Anmeldung!$G$18&" / "&Anmeldung!$J$18)<>Anmeldung!$S$28),Anmeldung!$B$18&": "&Anmeldung!$D$18&", "&Anmeldung!$E$18&" / "&Anmeldung!$G$18&" / "&Anmeldung!$J$18,"") | CG5: =IF(AND(11<>21,Anmeldung!$D$18<>"",(Anmeldung!$B$18&": "&Anmeldung!$D$18&", "&Anmeldung!$E$18&" / "&Anmeldung!$G$18&" / "&Anmeldung!$J$18)<>Anmeldung!$R$28),Anmeldung!$B$18&": "&Anmeldung!$D$18&", "&Anmeldung!$E$18&" / "&Anmeldung!$G$18&" / "&Anmeldung!$J$18,"") | CH5: =IF(AND(10<>20,Anmeldung!$D$18<>"",Anmeldung!$U$18="Ja",Anmeldung!$G$18=Anmeldung!$G$28,Anmeldung!$J$18=Anmeldung!$J$28),Anmeldung!$B$18&": "&Anmeldung!$D$18&", "&Anmeldung!$E$18&" / "&Anmeldung!$G$18&" / "&Anmeldung!$J$18,"") | CK5: =IF(AND(11<>22,Anmeldung!$D$18<>"",Anmeldung!$G$18=Anmeldung!$G$29,Anmeldung!$J$18=Anmeldung!$J$29),Anmeldung!$B$18&": "&Anmeldung!$D$18&", "&Anmeldung!$E$18&" / "&Anmeldung!$G$18&" / "&Anmeldung!$J$18,"") | CL5: =IF(AND(11<>22,Anmeldung!$D$18<>"",Anmeldung!$G$18=Anmeldung!$G$29,Anmeldung!$J$18=Anmeldung!$J$29,(Anmeldung!$B$18&": "&Anmeldung!$D$18&", "&Anmeldung!$E$18&" / "&Anmeldung!$G$18&" / "&Anmeldung!$J$18)<>Anmeldung!$P$29),Anmeldung!$B$18&": "&Anmeldung!$D$18&", "&Anmeldung!$E$18&" / "&Anmeldung!$G$18&" / "&Anmeldung!$J$18,"") | CM5: =IF(AND(11<>22,Anmeldung!$D$18<>"",Anmeldung!$G$18=Anmeldung!$G$29,Anmeldung!$J$18=Anmeldung!$J$29,(Anmeldung!$B$18&": "&Anmeldung!$D$18&", "&Anmeldung!$E$18&" / "&Anmeldung!$G$18&" / "&Anmeldung!$J$18)<>Anmeldung!$O$29),Anmeldung!$B$18&": "&Anmeldung!$D$18&", "&Anmeldung!$E$18&" / "&Anmeldung!$G$18&" / "&Anmeldung!$J$18,"") | CN5: =IF(AND(11<>22,Anmeldung!$D$18<>"",Anmeldung!$G$18<>Anmeldung!$G$29,(Anmeldung!$B$18&": "&Anmeldung!$D$18&", "&Anmeldung!$E$18&" / "&Anmeldung!$G$18&" / "&Anmeldung!$J$18)<>Anmeldung!$S$29),Anmeldung!$B$18&": "&Anmeldung!$D$18&", "&Anmeldung!$E$18&" / "&Anmeldung!$G$18&" / "&Anmeldung!$J$18,"") | CO5: =IF(AND(11<>22,Anmeldung!$D$18<>"",(Anmeldung!$B$18&": "&Anmeldung!$D$18&", "&Anmeldung!$E$18&" / "&Anmeldung!$G$18&" / "&Anmeldung!$J$18)<>Anmeldung!$R$29),Anmeldung!$B$18&": "&Anmeldung!$D$18&", "&Anmeldung!$E$18&" / "&Anmeldung!$G$18&" / "&Anmeldung!$J$18,"") | CP5: =IF(AND(10<>21,Anmeldung!$D$18<>"",Anmeldung!$U$18="Ja",Anmeldung!$G$18=Anmeldung!$G$29,Anmeldung!$J$18=Anmeldung!$J$29),Anmeldung!$B$18&": "&Anmeldung!$D$18&", "&Anmeldung!$E$18&" / "&Anmeldung!$G$18&" / "&Anmeldung!$J$18,"") | CS5: =IF(AND(11<>23,Anmeldung!$D$18<>"",Anmeldung!$G$18=Anmeldung!$G$30,Anmeldung!$J$18=Anmeldung!$J$30),Anmeldung!$B$18&": "&Anmeldung!$D$18&", "&Anmeldung!$E$18&" / "&Anmeldung!$G$18&" / "&Anmeldung!$J$18,"") | CT5: =IF(AND(11<>23,Anmeldung!$D$18<>"",Anmeldung!$G$18=Anmeldung!$G$30,Anmeldung!$J$18=Anmeldung!$J$30,(Anmeldung!$B$18&": "&Anmeldung!$D$18&", "&Anmeldung!$E$18&" / "&Anmeldung!$G$18&" / "&Anmeldung!$J$18)<>Anmeldung!$P$30),Anmeldung!$B$18&": "&Anmeldung!$D$18&", "&Anmeldung!$E$18&" / "&Anmeldung!$G$18&" / "&Anmeldung!$J$18,"") | CU5: =IF(AND(11<>23,Anmeldung!$D$18<>"",Anmeldung!$G$18=Anmeldung!$G$30,Anmeldung!$J$18=Anmeldung!$J$30,(Anmeldung!$B$18&": "&Anmeldung!$D$18&", "&Anmeldung!$E$18&" / "&Anmeldung!$G$18&" / "&Anmeldung!$J$18)<>Anmeldung!$O$30),Anmeldung!$B$18&": "&Anmeldung!$D$18&", "&Anmeldung!$E$18&" / "&Anmeldung!$G$18&" / "&Anmeldung!$J$18,"") | CV5: =IF(AND(11<>23,Anmeldung!$D$18<>"",Anmeldung!$G$18<>Anmeldung!$G$30,(Anmeldung!$B$18&": "&Anmeldung!$D$18&", "&Anmeldung!$E$18&" / "&Anmeldung!$G$18&" / "&Anmeldung!$J$18)<>Anmeldung!$S$30),Anmeldung!$B$18&": "&Anmeldung!$D$18&", "&Anmeldung!$E$18&" / "&Anmeldung!$G$18&" / "&Anmeldung!$J$18,"") | CW5: =IF(AND(11<>23,Anmeldung!$D$18<>"",(Anmeldung!$B$18&": "&Anmeldung!$D$18&", "&Anmeldung!$E$18&" / "&Anmeldung!$G$18&" / "&Anmeldung!$J$18)<>Anmeldung!$R$30),Anmeldung!$B$18&": "&Anmeldung!$D$18&", "&Anmeldung!$E$18&" / "&Anmeldung!$G$18&" / "&Anmeldung!$J$18,"") | CX5: =IF(AND(10<>22,Anmeldung!$D$18<>"",Anmeldung!$U$18="Ja",Anmeldung!$G$18=Anmeldung!$G$30,Anmeldung!$J$18=Anmeldung!$J$30),Anmeldung!$B$18&": "&Anmeldung!$D$18&", "&Anmeldung!$E$18&" / "&Anmeldung!$G$18&" / "&Anmeldung!$J$18,"") | DA5: =IF(AND(11<>24,Anmeldung!$D$18<>"",Anmeldung!$G$18=Anmeldung!$G$31,Anmeldung!$J$18=Anmeldung!$J$31),Anmeldung!$B$18&": "&Anmeldung!$D$18&", "&Anmeldung!$E$18&" / "&Anmeldung!$G$18&" / "&Anmeldung!$J$18,"") | DB5: =IF(AND(11<>24,Anmeldung!$D$18<>"",Anmeldung!$G$18=Anmeldung!$G$31,Anmeldung!$J$18=Anmeldung!$J$31,(Anmeldung!$B$18&": "&Anmeldung!$D$18&", "&Anmeldung!$E$18&" / "&Anmeldung!$G$18&" / "&Anmeldung!$J$18)<>Anmeldung!$P$31),Anmeldung!$B$18&": "&Anmeldung!$D$18&", "&Anmeldung!$E$18&" / "&Anmeldung!$G$18&" / "&Anmeldung!$J$18,"") | DC5: =IF(AND(11<>24,Anmeldung!$D$18<>"",Anmeldung!$G$18=Anmeldung!$G$31,Anmeldung!$J$18=Anmeldung!$J$31,(Anmeldung!$B$18&": "&Anmeldung!$D$18&", "&Anmeldung!$E$18&" / "&Anmeldung!$G$18&" / "&Anmeldung!$J$18)<>Anmeldung!$O$31),Anmeldung!$B$18&": "&Anmeldung!$D$18&", "&Anmeldung!$E$18&" / "&Anmeldung!$G$18&" / "&Anmeldung!$J$18,"") | DD5: =IF(AND(11<>24,Anmeldung!$D$18<>"",Anmeldung!$G$18<>Anmeldung!$G$31,(Anmeldung!$B$18&": "&Anmeldung!$D$18&", "&Anmeldung!$E$18&" / "&Anmeldung!$G$18&" / "&Anmeldung!$J$18)<>Anmeldung!$S$31),Anmeldung!$B$18&": "&Anmeldung!$D$18&", "&Anmeldung!$E$18&" / "&Anmeldung!$G$18&" / "&Anmeldung!$J$18,"") | DE5: =IF(AND(11<>24,Anmeldung!$D$18<>"",(Anmeldung!$B$18&": "&Anmeldung!$D$18&", "&Anmeldung!$E$18&" / "&Anmeldung!$G$18&" / "&Anmeldung!$J$18)<>Anmeldung!$R$31),Anmeldung!$B$18&": "&Anmeldung!$D$18&", "&Anmeldung!$E$18&" / "&Anmeldung!$G$18&" / "&Anmeldung!$J$18,"") | DF5: =IF(AND(10<>23,Anmeldung!$D$18<>"",Anmeldung!$U$18="Ja",Anmeldung!$G$18=Anmeldung!$G$31,Anmeldung!$J$18=Anmeldung!$J$31),Anmeldung!$B$18&": "&Anmeldung!$D$18&", "&Anmeldung!$E$18&" / "&Anmeldung!$G$18&" / "&Anmeldung!$J$18,"") | DI5: =IF(AND(11<>25,Anmeldung!$D$18<>"",Anmeldung!$G$18=Anmeldung!$G$32,Anmeldung!$J$18=Anmeldung!$J$32),Anmeldung!$B$18&": "&Anmeldung!$D$18&", "&Anmeldung!$E$18&" / "&Anmeldung!$G$18&" / "&Anmeldung!$J$18,"") | DJ5: =IF(AND(11<>25,Anmeldung!$D$18<>"",Anmeldung!$G$18=Anmeldung!$G$32,Anmeldung!$J$18=Anmeldung!$J$32,(Anmeldung!$B$18&": "&Anmeldung!$D$18&", "&Anmeldung!$E$18&" / "&Anmeldung!$G$18&" / "&Anmeldung!$J$18)<>Anmeldung!$P$32),Anmeldung!$B$18&": "&Anmeldung!$D$18&", "&Anmeldung!$E$18&" / "&Anmeldung!$G$18&" / "&Anmeldung!$J$18,"") | DK5: =IF(AND(11<>25,Anmeldung!$D$18<>"",Anmeldung!$G$18=Anmeldung!$G$32,Anmeldung!$J$18=Anmeldung!$J$32,(Anmeldung!$B$18&": "&Anmeldung!$D$18&", "&Anmeldung!$E$18&" / "&Anmeldung!$G$18&" / "&Anmeldung!$J$18)<>Anmeldung!$O$32),Anmeldung!$B$18&": "&Anmeldung!$D$18&", "&Anmeldung!$E$18&" / "&Anmeldung!$G$18&" / "&Anmeldung!$J$18,"") | DL5: =IF(AND(11<>25,Anmeldung!$D$18<>"",Anmeldung!$G$18<>Anmeldung!$G$32,(Anmeldung!$B$18&": "&Anmeldung!$D$18&", "&Anmeldung!$E$18&" / "&Anmeldung!$G$18&" / "&Anmeldung!$J$18)<>Anmeldung!$S$32),Anmeldung!$B$18&": "&Anmeldung!$D$18&", "&Anmeldung!$E$18&" / "&Anmeldung!$G$18&" / "&Anmeldung!$J$18,"") | DM5: =IF(AND(11<>25,Anmeldung!$D$18<>"",(Anmeldung!$B$18&": "&Anmeldung!$D$18&", "&Anmeldung!$E$18&" / "&Anmeldung!$G$18&" / "&Anmeldung!$J$18)<>Anmeldung!$R$32),Anmeldung!$B$18&": "&Anmeldung!$D$18&", "&Anmeldung!$E$18&" / "&Anmeldung!$G$18&" / "&Anmeldung!$J$18,"") | DN5: =IF(AND(10<>24,Anmeldung!$D$18<>"",Anmeldung!$U$18="Ja",Anmeldung!$G$18=Anmeldung!$G$32,Anmeldung!$J$18=Anmeldung!$J$32),Anmeldung!$B$18&": "&Anmeldung!$D$18&", "&Anmeldung!$E$18&" / "&Anmeldung!$G$18&" / "&Anmeldung!$J$18,"") | DQ5: =IF(AND(11<>26,Anmeldung!$D$18<>"",Anmeldung!$G$18=Anmeldung!$G$33,Anmeldung!$J$18=Anmeldung!$J$33),Anmeldung!$B$18&": "&Anmeldung!$D$18&", "&Anmeldung!$E$18&" / "&Anmeldung!$G$18&" / "&Anmeldung!$J$18,"") | DR5: =IF(AND(11<>26,Anmeldung!$D$18<>"",Anmeldung!$G$18=Anmeldung!$G$33,Anmeldung!$J$18=Anmeldung!$J$33,(Anmeldung!$B$18&": "&Anmeldung!$D$18&", "&Anmeldung!$E$18&" / "&Anmeldung!$G$18&" / "&Anmeldung!$J$18)<>Anmeldung!$P$33),Anmeldung!$B$18&": "&Anmeldung!$D$18&", "&Anmeldung!$E$18&" / "&Anmeldung!$G$18&" / "&Anmeldung!$J$18,"") | DS5: =IF(AND(11<>26,Anmeldung!$D$18<>"",Anmeldung!$G$18=Anmeldung!$G$33,Anmeldung!$J$18=Anmeldung!$J$33,(Anmeldung!$B$18&": "&Anmeldung!$D$18&", "&Anmeldung!$E$18&" / "&Anmeldung!$G$18&" / "&Anmeldung!$J$18)<>Anmeldung!$O$33),Anmeldung!$B$18&": "&Anmeldung!$D$18&", "&Anmeldung!$E$18&" / "&Anmeldung!$G$18&" / "&Anmeldung!$J$18,"") | DT5: =IF(AND(11<>26,Anmeldung!$D$18<>"",Anmeldung!$G$18<>Anmeldung!$G$33,(Anmeldung!$B$18&": "&Anmeldung!$D$18&", "&Anmeldung!$E$18&" / "&Anmeldung!$G$18&" / "&Anmeldung!$J$18)<>Anmeldung!$S$33),Anmeldung!$B$18&": "&Anmeldung!$D$18&", "&Anmeldung!$E$18&" / "&Anmeldung!$G$18&" / "&Anmeldung!$J$18,"") | DU5: =IF(AND(11<>26,Anmeldung!$D$18<>"",(Anmeldung!$B$18&": "&Anmeldung!$D$18&", "&Anmeldung!$E$18&" / "&Anmeldung!$G$18&" / "&Anmeldung!$J$18)<>Anmeldung!$R$33),Anmeldung!$B$18&": "&Anmeldung!$D$18&", "&Anmeldung!$E$18&" / "&Anmeldung!$G$18&" / "&Anmeldung!$J$18,"") | DV5: =IF(AND(10<>25,Anmeldung!$D$18<>"",Anmeldung!$U$18="Ja",Anmeldung!$G$18=Anmeldung!$G$33,Anmeldung!$J$18=Anmeldung!$J$33),Anmeldung!$B$18&": "&Anmeldung!$D$18&", "&Anmeldung!$E$18&" / "&Anmeldung!$G$18&" / "&Anmeldung!$J$18,"") | DY5: =IF(AND(11<>27,Anmeldung!$D$18<>"",Anmeldung!$G$18=Anmeldung!$G$34,Anmeldung!$J$18=Anmeldung!$J$34),Anmeldung!$B$18&": "&Anmeldung!$D$18&", "&Anmeldung!$E$18&" / "&Anmeldung!$G$18&" / "&Anmeldung!$J$18,"") | DZ5: =IF(AND(11<>27,Anmeldung!$D$18<>"",Anmeldung!$G$18=Anmeldung!$G$34,Anmeldung!$J$18=Anmeldung!$J$34,(Anmeldung!$B$18&": "&Anmeldung!$D$18&", "&Anmeldung!$E$18&" / "&Anmeldung!$G$18&" / "&Anmeldung!$J$18)<>Anmeldung!$P$34),Anmeldung!$B$18&": "&Anmeldung!$D$18&", "&Anmeldung!$E$18&" / "&Anmeldung!$G$18&" / "&Anmeldung!$J$18,"") | EA5: =IF(AND(11<>27,Anmeldung!$D$18<>"",Anmeldung!$G$18=Anmeldung!$G$34,Anmeldung!$J$18=Anmeldung!$J$34,(Anmeldung!$B$18&": "&Anmeldung!$D$18&", "&Anmeldung!$E$18&" / "&Anmeldung!$G$18&" / "&Anmeldung!$J$18)<>Anmeldung!$O$34),Anmeldung!$B$18&": "&Anmeldung!$D$18&", "&Anmeldung!$E$18&" / "&Anmeldung!$G$18&" / "&Anmeldung!$J$18,"") | EB5: =IF(AND(11<>27,Anmeldung!$D$18<>"",Anmeldung!$G$18<>Anmeldung!$G$34,(Anmeldung!$B$18&": "&Anmeldung!$D$18&", "&Anmeldung!$E$18&" / "&Anmeldung!$G$18&" / "&Anmeldung!$J$18)<>Anmeldung!$S$34),Anmeldung!$B$18&": "&Anmeldung!$D$18&", "&Anmeldung!$E$18&" / "&Anmeldung!$G$18&" / "&Anmeldung!$J$18,"") | EC5: =IF(AND(11<>27,Anmeldung!$D$18<>"",(Anmeldung!$B$18&": "&Anmeldung!$D$18&", "&Anmeldung!$E$18&" / "&Anmeldung!$G$18&" / "&Anmeldung!$J$18)<>Anmeldung!$R$34),Anmeldung!$B$18&": "&Anmeldung!$D$18&", "&Anmeldung!$E$18&" / "&Anmeldung!$G$18&" / "&Anmeldung!$J$18,"") | ED5: =IF(AND(10<>26,Anmeldung!$D$18<>"",Anmeldung!$U$18="Ja",Anmeldung!$G$18=Anmeldung!$G$34,Anmeldung!$J$18=Anmeldung!$J$34),Anmeldung!$B$18&": "&Anmeldung!$D$18&", "&Anmeldung!$E$18&" / "&Anmeldung!$G$18&" / "&Anmeldung!$J$18,"") | EG5: =IF(AND(11<>28,Anmeldung!$D$18<>"",Anmeldung!$G$18=Anmeldung!$G$35,Anmeldung!$J$18=Anmeldung!$J$35),Anmeldung!$B$18&": "&Anmeldung!$D$18&", "&Anmeldung!$E$18&" / "&Anmeldung!$G$18&" / "&Anmeldung!$J$18,"") | EH5: =IF(AND(11<>28,Anmeldung!$D$18<>"",Anmeldung!$G$18=Anmeldung!$G$35,Anmeldung!$J$18=Anmeldung!$J$35,(Anmeldung!$B$18&": "&Anmeldung!$D$18&", "&Anmeldung!$E$18&" / "&Anmeldung!$G$18&" / "&Anmeldung!$J$18)<>Anmeldung!$P$35),Anmeldung!$B$18&": "&Anmeldung!$D$18&", "&Anmeldung!$E$18&" / "&Anmeldung!$G$18&" / "&Anmeldung!$J$18,"") | EI5: =IF(AND(11<>28,Anmeldung!$D$18<>"",Anmeldung!$G$18=Anmeldung!$G$35,Anmeldung!$J$18=Anmeldung!$J$35,(Anmeldung!$B$18&": "&Anmeldung!$D$18&", "&Anmeldung!$E$18&" / "&Anmeldung!$G$18&" / "&Anmeldung!$J$18)<>Anmeldung!$O$35),Anmeldung!$B$18&": "&Anmeldung!$D$18&", "&Anmeldung!$E$18&" / "&Anmeldung!$G$18&" / "&Anmeldung!$J$18,"") | EJ5: =IF(AND(11<>28,Anmeldung!$D$18<>"",Anmeldung!$G$18<>Anmeldung!$G$35,(Anmeldung!$B$18&": "&Anmeldung!$D$18&", "&Anmeldung!$E$18&" / "&Anmeldung!$G$18&" / "&Anmeldung!$J$18)<>Anmeldung!$S$35),Anmeldung!$B$18&": "&Anmeldung!$D$18&", "&Anmeldung!$E$18&" / "&Anmeldung!$G$18&" / "&Anmeldung!$J$18,"") | EK5: =IF(AND(11<>28,Anmeldung!$D$18<>"",(Anmeldung!$B$18&": "&Anmeldung!$D$18&", "&Anmeldung!$E$18&" / "&Anmeldung!$G$18&" / "&Anmeldung!$J$18)<>Anmeldung!$R$35),Anmeldung!$B$18&": "&Anmeldung!$D$18&", "&Anmeldung!$E$18&" / "&Anmeldung!$G$18&" / "&Anmeldung!$J$18,"") | EL5: =IF(AND(10<>27,Anmeldung!$D$18<>"",Anmeldung!$U$18="Ja",Anmeldung!$G$18=Anmeldung!$G$35,Anmeldung!$J$18=Anmeldung!$J$35),Anmeldung!$B$18&": "&Anmeldung!$D$18&", "&Anmeldung!$E$18&" / "&Anmeldung!$G$18&" / "&Anmeldung!$J$18,"") | EO5: =IF(AND(11<>29,Anmeldung!$D$18<>"",Anmeldung!$G$18=Anmeldung!$G$36,Anmeldung!$J$18=Anmeldung!$J$36),Anmeldung!$B$18&": "&Anmeldung!$D$18&", "&Anmeldung!$E$18&" / "&Anmeldung!$G$18&" / "&Anmeldung!$J$18,"") | EP5: =IF(AND(11<>29,Anmeldung!$D$18<>"",Anmeldung!$G$18=Anmeldung!$G$36,Anmeldung!$J$18=Anmeldung!$J$36,(Anmeldung!$B$18&": "&Anmeldung!$D$18&", "&Anmeldung!$E$18&" / "&Anmeldung!$G$18&" / "&Anmeldung!$J$18)<>Anmeldung!$P$36),Anmeldung!$B$18&": "&Anmeldung!$D$18&", "&Anmeldung!$E$18&" / "&Anmeldung!$G$18&" / "&Anmeldung!$J$18,"") | EQ5: =IF(AND(11<>29,Anmeldung!$D$18<>"",Anmeldung!$G$18=Anmeldung!$G$36,Anmeldung!$J$18=Anmeldung!$J$36,(Anmeldung!$B$18&": "&Anmeldung!$D$18&", "&Anmeldung!$E$18&" / "&Anmeldung!$G$18&" / "&Anmeldung!$J$18)<>Anmeldung!$O$36),Anmeldung!$B$18&": "&Anmeldung!$D$18&", "&Anmeldung!$E$18&" / "&Anmeldung!$G$18&" / "&Anmeldung!$J$18,"") | ER5: =IF(AND(11<>29,Anmeldung!$D$18<>"",Anmeldung!$G$18<>Anmeldung!$G$36,(Anmeldung!$B$18&": "&Anmeldung!$D$18&", "&Anmeldung!$E$18&" / "&Anmeldung!$G$18&" / "&Anmeldung!$J$18)<>Anmeldung!$S$36),Anmeldung!$B$18&": "&Anmeldung!$D$18&", "&Anmeldung!$E$18&" / "&Anmeldung!$G$18&" / "&Anmeldung!$J$18,"") | ES5: =IF(AND(11<>29,Anmeldung!$D$18<>"",(Anmeldung!$B$18&": "&Anmeldung!$D$18&", "&Anmeldung!$E$18&" / "&Anmeldung!$G$18&" / "&Anmeldung!$J$18)<>Anmeldung!$R$36),Anmeldung!$B$18&": "&Anmeldung!$D$18&", "&Anmeldung!$E$18&" / "&Anmeldung!$G$18&" / "&Anmeldung!$J$18,"") | ET5: =IF(AND(10<>28,Anmeldung!$D$18<>"",Anmeldung!$U$18="Ja",Anmeldung!$G$18=Anmeldung!$G$36,Anmeldung!$J$18=Anmeldung!$J$36),Anmeldung!$B$18&": "&Anmeldung!$D$18&", "&Anmeldung!$E$18&" / "&Anmeldung!$G$18&" / "&Anmeldung!$J$18,"") | EW5: =IF(AND(11<>30,Anmeldung!$D$18<>"",Anmeldung!$G$18=Anmeldung!$G$37,Anmeldung!$J$18=Anmeldung!$J$37),Anmeldung!$B$18&": "&Anmeldung!$D$18&", "&Anmeldung!$E$18&" / "&Anmeldung!$G$18&" / "&Anmeldung!$J$18,"") | EX5: =IF(AND(11<>30,Anmeldung!$D$18<>"",Anmeldung!$G$18=Anmeldung!$G$37,Anmeldung!$J$18=Anmeldung!$J$37,(Anmeldung!$B$18&": "&Anmeldung!$D$18&", "&Anmeldung!$E$18&" / "&Anmeldung!$G$18&" / "&Anmeldung!$J$18)<>Anmeldung!$P$37),Anmeldung!$B$18&": "&Anmeldung!$D$18&", "&Anmeldung!$E$18&" / "&Anmeldung!$G$18&" / "&Anmeldung!$J$18,"") | EY5: =IF(AND(11<>30,Anmeldung!$D$18<>"",Anmeldung!$G$18=Anmeldung!$G$37,Anmeldung!$J$18=Anmeldung!$J$37,(Anmeldung!$B$18&": "&Anmeldung!$D$18&", "&Anmeldung!$E$18&" / "&Anmeldung!$G$18&" / "&Anmeldung!$J$18)<>Anmeldung!$O$37),Anmeldung!$B$18&": "&Anmeldung!$D$18&", "&Anmeldung!$E$18&" / "&Anmeldung!$G$18&" / "&Anmeldung!$J$18,"") | EZ5: =IF(AND(11<>30,Anmeldung!$D$18<>"",Anmeldung!$G$18<>Anmeldung!$G$37,(Anmeldung!$B$18&": "&Anmeldung!$D$18&", "&Anmeldung!$E$18&" / "&Anmeldung!$G$18&" / "&Anmeldung!$J$18)<>Anmeldung!$S$37),Anmeldung!$B$18&": "&Anmeldung!$D$18&", "&Anmeldung!$E$18&" / "&Anmeldung!$G$18&" / "&Anmeldung!$J$18,"") | FA5: =IF(AND(11<>30,Anmeldung!$D$18<>"",(Anmeldung!$B$18&": "&Anmeldung!$D$18&", "&Anmeldung!$E$18&" / "&Anmeldung!$G$18&" / "&Anmeldung!$J$18)<>Anmeldung!$R$37),Anmeldung!$B$18&": "&Anmeldung!$D$18&", "&Anmeldung!$E$18&" / "&Anmeldung!$G$18&" / "&Anmeldung!$J$18,"") | FB5: =IF(AND(10<>29,Anmeldung!$D$18<>"",Anmeldung!$U$18="Ja",Anmeldung!$G$18=Anmeldung!$G$37,Anmeldung!$J$18=Anmeldung!$J$37),Anmeldung!$B$18&": "&Anmeldung!$D$18&", "&Anmeldung!$E$18&" / "&Anmeldung!$G$18&" / "&Anmeldung!$J$18,"") | FE5: =IF(AND(11<>31,Anmeldung!$D$18<>"",Anmeldung!$G$18=Anmeldung!$G$38,Anmeldung!$J$18=Anmeldung!$J$38),Anmeldung!$B$18&": "&Anmeldung!$D$18&", "&Anmeldung!$E$18&" / "&Anmeldung!$G$18&" / "&Anmeldung!$J$18,"") | FF5: =IF(AND(11<>31,Anmeldung!$D$18<>"",Anmeldung!$G$18=Anmeldung!$G$38,Anmeldung!$J$18=Anmeldung!$J$38,(Anmeldung!$B$18&": "&Anmeldung!$D$18&", "&Anmeldung!$E$18&" / "&Anmeldung!$G$18&" / "&Anmeldung!$J$18)<>Anmeldung!$P$38),Anmeldung!$B$18&": "&Anmeldung!$D$18&", "&Anmeldung!$E$18&" / "&Anmeldung!$G$18&" / "&Anmeldung!$J$18,"") | FG5: =IF(AND(11<>31,Anmeldung!$D$18<>"",Anmeldung!$G$18=Anmeldung!$G$38,Anmeldung!$J$18=Anmeldung!$J$38,(Anmeldung!$B$18&": "&Anmeldung!$D$18&", "&Anmeldung!$E$18&" / "&Anmeldung!$G$18&" / "&Anmeldung!$J$18)<>Anmeldung!$O$38),Anmeldung!$B$18&": "&Anmeldung!$D$18&", "&Anmeldung!$E$18&" / "&Anmeldung!$G$18&" / "&Anmeldung!$J$18,"") | FH5: =IF(AND(11<>31,Anmeldung!$D$18<>"",Anmeldung!$G$18<>Anmeldung!$G$38,(Anmeldung!$B$18&": "&Anmeldung!$D$18&", "&Anmeldung!$E$18&" / "&Anmeldung!$G$18&" / "&Anmeldung!$J$18)<>Anmeldung!$S$38),Anmeldung!$B$18&": "&Anmeldung!$D$18&", "&Anmeldung!$E$18&" / "&Anmeldung!$G$18&" / "&Anmeldung!$J$18,"") | FI5: =IF(AND(11<>31,Anmeldung!$D$18<>"",(Anmeldung!$B$18&": "&Anmeldung!$D$18&", "&Anmeldung!$E$18&" / "&Anmeldung!$G$18&" / "&Anmeldung!$J$18)<>Anmeldung!$R$38),Anmeldung!$B$18&": "&Anmeldung!$D$18&", "&Anmeldung!$E$18&" / "&Anmeldung!$G$18&" / "&Anmeldung!$J$18,"") | FJ5: =IF(AND(10<>30,Anmeldung!$D$18<>"",Anmeldung!$U$18="Ja",Anmeldung!$G$18=Anmeldung!$G$38,Anmeldung!$J$18=Anmeldung!$J$38),Anmeldung!$B$18&": "&Anmeldung!$D$18&", "&Anmeldung!$E$18&" / "&Anmeldung!$G$18&" / "&Anmeldung!$J$18,"") | FM5: =IF(AND(11<>32,Anmeldung!$D$18<>"",Anmeldung!$G$18=Anmeldung!$G$39,Anmeldung!$J$18=Anmeldung!$J$39),Anmeldung!$B$18&": "&Anmeldung!$D$18&", "&Anmeldung!$E$18&" / "&Anmeldung!$G$18&" / "&Anmeldung!$J$18,"") | FN5: =IF(AND(11<>32,Anmeldung!$D$18<>"",Anmeldung!$G$18=Anmeldung!$G$39,Anmeldung!$J$18=Anmeldung!$J$39,(Anmeldung!$B$18&": "&Anmeldung!$D$18&", "&Anmeldung!$E$18&" / "&Anmeldung!$G$18&" / "&Anmeldung!$J$18)<>Anmeldung!$P$39),Anmeldung!$B$18&": "&Anmeldung!$D$18&", "&Anmeldung!$E$18&" / "&Anmeldung!$G$18&" / "&Anmeldung!$J$18,"") | FO5: =IF(AND(11<>32,Anmeldung!$D$18<>"",Anmeldung!$G$18=Anmeldung!$G$39,Anmeldung!$J$18=Anmeldung!$J$39,(Anmeldung!$B$18&": "&Anmeldung!$D$18&", "&Anmeldung!$E$18&" / "&Anmeldung!$G$18&" / "&Anmeldung!$J$18)<>Anmeldung!$O$39),Anmeldung!$B$18&": "&Anmeldung!$D$18&", "&Anmeldung!$E$18&" / "&Anmeldung!$G$18&" / "&Anmeldung!$J$18,"") | FP5: =IF(AND(11<>32,Anmeldung!$D$18<>"",Anmeldung!$G$18<>Anmeldung!$G$39,(Anmeldung!$B$18&": "&Anmeldung!$D$18&", "&Anmeldung!$E$18&" / "&Anmeldung!$G$18&" / "&Anmeldung!$J$18)<>Anmeldung!$S$39),Anmeldung!$B$18&": "&Anmeldung!$D$18&", "&Anmeldung!$E$18&" / "&Anmeldung!$G$18&" / "&Anmeldung!$J$18,"") | FQ5: =IF(AND(11<>32,Anmeldung!$D$18<>"",(Anmeldung!$B$18&": "&Anmeldung!$D$18&", "&Anmeldung!$E$18&" / "&Anmeldung!$G$18&" / "&Anmeldung!$J$18)<>Anmeldung!$R$39),Anmeldung!$B$18&": "&Anmeldung!$D$18&", "&Anmeldung!$E$18&" / "&Anmeldung!$G$18&" / "&Anmeldung!$J$18,"") | FR5: =IF(AND(10<>31,Anmeldung!$D$18<>"",Anmeldung!$U$18="Ja",Anmeldung!$G$18=Anmeldung!$G$39,Anmeldung!$J$18=Anmeldung!$J$39),Anmeldung!$B$18&": "&Anmeldung!$D$18&", "&Anmeldung!$E$18&" / "&Anmeldung!$G$18&" / "&Anmeldung!$J$18,"") | FU5: =IF(AND(11<>33,Anmeldung!$D$18<>"",Anmeldung!$G$18=Anmeldung!$G$40,Anmeldung!$J$18=Anmeldung!$J$40),Anmeldung!$B$18&": "&Anmeldung!$D$18&", "&Anmeldung!$E$18&" / "&Anmeldung!$G$18&" / "&Anmeldung!$J$18,"") | FV5: =IF(AND(11<>33,Anmeldung!$D$18<>"",Anmeldung!$G$18=Anmeldung!$G$40,Anmeldung!$J$18=Anmeldung!$J$40,(Anmeldung!$B$18&": "&Anmeldung!$D$18&", "&Anmeldung!$E$18&" / "&Anmeldung!$G$18&" / "&Anmeldung!$J$18)<>Anmeldung!$P$40),Anmeldung!$B$18&": "&Anmeldung!$D$18&", "&Anmeldung!$E$18&" / "&Anmeldung!$G$18&" / "&Anmeldung!$J$18,"") | FW5: =IF(AND(11<>33,Anmeldung!$D$18<>"",Anmeldung!$G$18=Anmeldung!$G$40,Anmeldung!$J$18=Anmeldung!$J$40,(Anmeldung!$B$18&": "&Anmeldung!$D$18&", "&Anmeldung!$E$18&" / "&Anmeldung!$G$18&" / "&Anmeldung!$J$18)<>Anmeldung!$O$40),Anmeldung!$B$18&": "&Anmeldung!$D$18&", "&Anmeldung!$E$18&" / "&Anmeldung!$G$18&" / "&Anmeldung!$J$18,"") | FX5: =IF(AND(11<>33,Anmeldung!$D$18<>"",Anmeldung!$G$18<>Anmeldung!$G$40,(Anmeldung!$B$18&": "&Anmeldung!$D$18&", "&Anmeldung!$E$18&" / "&Anmeldung!$G$18&" / "&Anmeldung!$J$18)<>Anmeldung!$S$40),Anmeldung!$B$18&": "&Anmeldung!$D$18&", "&Anmeldung!$E$18&" / "&Anmeldung!$G$18&" / "&Anmeldung!$J$18,"") | FY5: =IF(AND(11<>33,Anmeldung!$D$18<>"",(Anmeldung!$B$18&": "&Anmeldung!$D$18&", "&Anmeldung!$E$18&" / "&Anmeldung!$G$18&" / "&Anmeldung!$J$18)<>Anmeldung!$R$40),Anmeldung!$B$18&": "&Anmeldung!$D$18&", "&Anmeldung!$E$18&" / "&Anmeldung!$G$18&" / "&Anmeldung!$J$18,"") | FZ5: =IF(AND(10<>32,Anmeldung!$D$18<>"",Anmeldung!$U$18="Ja",Anmeldung!$G$18=Anmeldung!$G$40,Anmeldung!$J$18=Anmeldung!$J$40),Anmeldung!$B$18&": "&Anmeldung!$D$18&", "&Anmeldung!$E$18&" / "&Anmeldung!$G$18&" / "&Anmeldung!$J$18,"") | GC5: =IF(AND(11<>34,Anmeldung!$D$18<>"",Anmeldung!$G$18=Anmeldung!$G$41,Anmeldung!$J$18=Anmeldung!$J$41),Anmeldung!$B$18&": "&Anmeldung!$D$18&", "&Anmeldung!$E$18&" / "&Anmeldung!$G$18&" / "&Anmeldung!$J$18,"") | GD5: =IF(AND(11<>34,Anmeldung!$D$18<>"",Anmeldung!$G$18=Anmeldung!$G$41,Anmeldung!$J$18=Anmeldung!$J$41,(Anmeldung!$B$18&": "&Anmeldung!$D$18&", "&Anmeldung!$E$18&" / "&Anmeldung!$G$18&" / "&Anmeldung!$J$18)<>Anmeldung!$P$41),Anmeldung!$B$18&": "&Anmeldung!$D$18&", "&Anmeldung!$E$18&" / "&Anmeldung!$G$18&" / "&Anmeldung!$J$18,"") | GE5: =IF(AND(11<>34,Anmeldung!$D$18<>"",Anmeldung!$G$18=Anmeldung!$G$41,Anmeldung!$J$18=Anmeldung!$J$41,(Anmeldung!$B$18&": "&Anmeldung!$D$18&", "&Anmeldung!$E$18&" / "&Anmeldung!$G$18&" / "&Anmeldung!$J$18)<>Anmeldung!$O$41),Anmeldung!$B$18&": "&Anmeldung!$D$18&", "&Anmeldung!$E$18&" / "&Anmeldung!$G$18&" / "&Anmeldung!$J$18,"") | GF5: =IF(AND(11<>34,Anmeldung!$D$18<>"",Anmeldung!$G$18<>Anmeldung!$G$41,(Anmeldung!$B$18&": "&Anmeldung!$D$18&", "&Anmeldung!$E$18&" / "&Anmeldung!$G$18&" / "&Anmeldung!$J$18)<>Anmeldung!$S$41),Anmeldung!$B$18&": "&Anmeldung!$D$18&", "&Anmeldung!$E$18&" / "&Anmeldung!$G$18&" / "&Anmeldung!$J$18,"") | GG5: =IF(AND(11<>34,Anmeldung!$D$18<>"",(Anmeldung!$B$18&": "&Anmeldung!$D$18&", "&Anmeldung!$E$18&" / "&Anmeldung!$G$18&" / "&Anmeldung!$J$18)<>Anmeldung!$R$41),Anmeldung!$B$18&": "&Anmeldung!$D$18&", "&Anmeldung!$E$18&" / "&Anmeldung!$G$18&" / "&Anmeldung!$J$18,"") | GH5: =IF(AND(10<>33,Anmeldung!$D$18<>"",Anmeldung!$U$18="Ja",Anmeldung!$G$18=Anmeldung!$G$41,Anmeldung!$J$18=Anmeldung!$J$41),Anmeldung!$B$18&": "&Anmeldung!$D$18&", "&Anmeldung!$E$18&" / "&Anmeldung!$G$18&" / "&Anmeldung!$J$18,"") | GK5: =IF(AND(11<>35,Anmeldung!$D$18<>"",Anmeldung!$G$18=Anmeldung!$G$42,Anmeldung!$J$18=Anmeldung!$J$42),Anmeldung!$B$18&": "&Anmeldung!$D$18&", "&Anmeldung!$E$18&" / "&Anmeldung!$G$18&" / "&Anmeldung!$J$18,"") | GL5: =IF(AND(11<>35,Anmeldung!$D$18<>"",Anmeldung!$G$18=Anmeldung!$G$42,Anmeldung!$J$18=Anmeldung!$J$42,(Anmeldung!$B$18&": "&Anmeldung!$D$18&", "&Anmeldung!$E$18&" / "&Anmeldung!$G$18&" / "&Anmeldung!$J$18)<>Anmeldung!$P$42),Anmeldung!$B$18&": "&Anmeldung!$D$18&", "&Anmeldung!$E$18&" / "&Anmeldung!$G$18&" / "&Anmeldung!$J$18,"") | GM5: =IF(AND(11<>35,Anmeldung!$D$18<>"",Anmeldung!$G$18=Anmeldung!$G$42,Anmeldung!$J$18=Anmeldung!$J$42,(Anmeldung!$B$18&": "&Anmeldung!$D$18&", "&Anmeldung!$E$18&" / "&Anmeldung!$G$18&" / "&Anmeldung!$J$18)<>Anmeldung!$O$42),Anmeldung!$B$18&": "&Anmeldung!$D$18&", "&Anmeldung!$E$18&" / "&Anmeldung!$G$18&" / "&Anmeldung!$J$18,"") | GN5: =IF(AND(11<>35,Anmeldung!$D$18<>"",Anmeldung!$G$18<>Anmeldung!$G$42,(Anmeldung!$B$18&": "&Anmeldung!$D$18&", "&Anmeldung!$E$18&" / "&Anmeldung!$G$18&" / "&Anmeldung!$J$18)<>Anmeldung!$S$42),Anmeldung!$B$18&": "&Anmeldung!$D$18&", "&Anmeldung!$E$18&" / "&Anmeldung!$G$18&" / "&Anmeldung!$J$18,"") | GO5: =IF(AND(11<>35,Anmeldung!$D$18<>"",(Anmeldung!$B$18&": "&Anmeldung!$D$18&", "&Anmeldung!$E$18&" / "&Anmeldung!$G$18&" / "&Anmeldung!$J$18)<>Anmeldung!$R$42),Anmeldung!$B$18&": "&Anmeldung!$D$18&", "&Anmeldung!$E$18&" / "&Anmeldung!$G$18&" / "&Anmeldung!$J$18,"") | GP5: =IF(AND(10<>34,Anmeldung!$D$18<>"",Anmeldung!$U$18="Ja",Anmeldung!$G$18=Anmeldung!$G$42,Anmeldung!$J$18=Anmeldung!$J$42),Anmeldung!$B$18&": "&Anmeldung!$D$18&", "&Anmeldung!$E$18&" / "&Anmeldung!$G$18&" / "&Anmeldung!$J$18,"") | GS5: =IF(AND(11<>36,Anmeldung!$D$18<>"",Anmeldung!$G$18=Anmeldung!$G$43,Anmeldung!$J$18=Anmeldung!$J$43),Anmeldung!$B$18&": "&Anmeldung!$D$18&", "&Anmeldung!$E$18&" / "&Anmeldung!$G$18&" / "&Anmeldung!$J$18,"") | GT5: =IF(AND(11<>36,Anmeldung!$D$18<>"",Anmeldung!$G$18=Anmeldung!$G$43,Anmeldung!$J$18=Anmeldung!$J$43,(Anmeldung!$B$18&": "&Anmeldung!$D$18&", "&Anmeldung!$E$18&" / "&Anmeldung!$G$18&" / "&Anmeldung!$J$18)<>Anmeldung!$P$43),Anmeldung!$B$18&": "&Anmeldung!$D$18&", "&Anmeldung!$E$18&" / "&Anmeldung!$G$18&" / "&Anmeldung!$J$18,"") | GU5: =IF(AND(11<>36,Anmeldung!$D$18<>"",Anmeldung!$G$18=Anmeldung!$G$43,Anmeldung!$J$18=Anmeldung!$J$43,(Anmeldung!$B$18&": "&Anmeldung!$D$18&", "&Anmeldung!$E$18&" / "&Anmeldung!$G$18&" / "&Anmeldung!$J$18)<>Anmeldung!$O$43),Anmeldung!$B$18&": "&Anmeldung!$D$18&", "&Anmeldung!$E$18&" / "&Anmeldung!$G$18&" / "&Anmeldung!$J$18,"") | GV5: =IF(AND(11<>36,Anmeldung!$D$18<>"",Anmeldung!$G$18<>Anmeldung!$G$43,(Anmeldung!$B$18&": "&Anmeldung!$D$18&", "&Anmeldung!$E$18&" / "&Anmeldung!$G$18&" / "&Anmeldung!$J$18)<>Anmeldung!$S$43),Anmeldung!$B$18&": "&Anmeldung!$D$18&", "&Anmeldung!$E$18&" / "&Anmeldung!$G$18&" / "&Anmeldung!$J$18,"") | GW5: =IF(AND(11<>36,Anmeldung!$D$18<>"",(Anmeldung!$B$18&": "&Anmeldung!$D$18&", "&Anmeldung!$E$18&" / "&Anmeldung!$G$18&" / "&Anmeldung!$J$18)<>Anmeldung!$R$43),Anmeldung!$B$18&": "&Anmeldung!$D$18&", "&Anmeldung!$E$18&" / "&Anmeldung!$G$18&" / "&Anmeldung!$J$18,"") | GX5: =IF(AND(10<>35,Anmeldung!$D$18<>"",Anmeldung!$U$18="Ja",Anmeldung!$G$18=Anmeldung!$G$43,Anmeldung!$J$18=Anmeldung!$J$43),Anmeldung!$B$18&": "&Anmeldung!$D$18&", "&Anmeldung!$E$18&" / "&Anmeldung!$G$18&" / "&Anmeldung!$J$18,"") | HA5: =IF(AND(11<>37,Anmeldung!$D$18<>"",Anmeldung!$G$18=Anmeldung!$G$44,Anmeldung!$J$18=Anmeldung!$J$44),Anmeldung!$B$18&": "&Anmeldung!$D$18&", "&Anmeldung!$E$18&" / "&Anmeldung!$G$18&" / "&Anmeldung!$J$18,"") | HB5: =IF(AND(11<>37,Anmeldung!$D$18<>"",Anmeldung!$G$18=Anmeldung!$G$44,Anmeldung!$J$18=Anmeldung!$J$44,(Anmeldung!$B$18&": "&Anmeldung!$D$18&", "&Anmeldung!$E$18&" / "&Anmeldung!$G$18&" / "&Anmeldung!$J$18)<>Anmeldung!$P$44),Anmeldung!$B$18&": "&Anmeldung!$D$18&", "&Anmeldung!$E$18&" / "&Anmeldung!$G$18&" / "&Anmeldung!$J$18,"") | HC5: =IF(AND(11<>37,Anmeldung!$D$18<>"",Anmeldung!$G$18=Anmeldung!$G$44,Anmeldung!$J$18=Anmeldung!$J$44,(Anmeldung!$B$18&": "&Anmeldung!$D$18&", "&Anmeldung!$E$18&" / "&Anmeldung!$G$18&" / "&Anmeldung!$J$18)<>Anmeldung!$O$44),Anmeldung!$B$18&": "&Anmeldung!$D$18&", "&Anmeldung!$E$18&" / "&Anmeldung!$G$18&" / "&Anmeldung!$J$18,"") | HD5: =IF(AND(11<>37,Anmeldung!$D$18<>"",Anmeldung!$G$18<>Anmeldung!$G$44,(Anmeldung!$B$18&": "&Anmeldung!$D$18&", "&Anmeldung!$E$18&" / "&Anmeldung!$G$18&" / "&Anmeldung!$J$18)<>Anmeldung!$S$44),Anmeldung!$B$18&": "&Anmeldung!$D$18&", "&Anmeldung!$E$18&" / "&Anmeldung!$G$18&" / "&Anmeldung!$J$18,"") | HE5: =IF(AND(11<>37,Anmeldung!$D$18<>"",(Anmeldung!$B$18&": "&Anmeldung!$D$18&", "&Anmeldung!$E$18&" / "&Anmeldung!$G$18&" / "&Anmeldung!$J$18)<>Anmeldung!$R$44),Anmeldung!$B$18&": "&Anmeldung!$D$18&", "&Anmeldung!$E$18&" / "&Anmeldung!$G$18&" / "&Anmeldung!$J$18,"") | HF5: =IF(AND(10<>36,Anmeldung!$D$18<>"",Anmeldung!$U$18="Ja",Anmeldung!$G$18=Anmeldung!$G$44,Anmeldung!$J$18=Anmeldung!$J$44),Anmeldung!$B$18&": "&Anmeldung!$D$18&", "&Anmeldung!$E$18&" / "&Anmeldung!$G$18&" / "&Anmeldung!$J$18,"") | HI5: =IF(AND(11<>38,Anmeldung!$D$18<>"",Anmeldung!$G$18=Anmeldung!$G$45,Anmeldung!$J$18=Anmeldung!$J$45),Anmeldung!$B$18&": "&Anmeldung!$D$18&", "&Anmeldung!$E$18&" / "&Anmeldung!$G$18&" / "&Anmeldung!$J$18,"") | HJ5: =IF(AND(11<>38,Anmeldung!$D$18<>"",Anmeldung!$G$18=Anmeldung!$G$45,Anmeldung!$J$18=Anmeldung!$J$45,(Anmeldung!$B$18&": "&Anmeldung!$D$18&", "&Anmeldung!$E$18&" / "&Anmeldung!$G$18&" / "&Anmeldung!$J$18)<>Anmeldung!$P$45),Anmeldung!$B$18&": "&Anmeldung!$D$18&", "&Anmeldung!$E$18&" / "&Anmeldung!$G$18&" / "&Anmeldung!$J$18,"") | HK5: =IF(AND(11<>38,Anmeldung!$D$18<>"",Anmeldung!$G$18=Anmeldung!$G$45,Anmeldung!$J$18=Anmeldung!$J$45,(Anmeldung!$B$18&": "&Anmeldung!$D$18&", "&Anmeldung!$E$18&" / "&Anmeldung!$G$18&" / "&Anmeldung!$J$18)<>Anmeldung!$O$45),Anmeldung!$B$18&": "&Anmeldung!$D$18&", "&Anmeldung!$E$18&" / "&Anmeldung!$G$18&" / "&Anmeldung!$J$18,"") | HL5: =IF(AND(11<>38,Anmeldung!$D$18<>"",Anmeldung!$G$18<>Anmeldung!$G$45,(Anmeldung!$B$18&": "&Anmeldung!$D$18&", "&Anmeldung!$E$18&" / "&Anmeldung!$G$18&" / "&Anmeldung!$J$18)<>Anmeldung!$S$45),Anmeldung!$B$18&": "&Anmeldung!$D$18&", "&Anmeldung!$E$18&" / "&Anmeldung!$G$18&" / "&Anmeldung!$J$18,"") | HM5: =IF(AND(11<>38,Anmeldung!$D$18<>"",(Anmeldung!$B$18&": "&Anmeldung!$D$18&", "&Anmeldung!$E$18&" / "&Anmeldung!$G$18&" / "&Anmeldung!$J$18)<>Anmeldung!$R$45),Anmeldung!$B$18&": "&Anmeldung!$D$18&", "&Anmeldung!$E$18&" / "&Anmeldung!$G$18&" / "&Anmeldung!$J$18,"") | HN5: =IF(AND(10<>37,Anmeldung!$D$18<>"",Anmeldung!$U$18="Ja",Anmeldung!$G$18=Anmeldung!$G$45,Anmeldung!$J$18=Anmeldung!$J$45),Anmeldung!$B$18&": "&Anmeldung!$D$18&", "&Anmeldung!$E$18&" / "&Anmeldung!$G$18&" / "&Anmeldung!$J$18,"") | HQ5: =IF(AND(11<>39,Anmeldung!$D$18<>"",Anmeldung!$G$18=Anmeldung!$G$46,Anmeldung!$J$18=Anmeldung!$J$46),Anmeldung!$B$18&": "&Anmeldung!$D$18&", "&Anmeldung!$E$18&" / "&Anmeldung!$G$18&" / "&Anmeldung!$J$18,"") | HR5: =IF(AND(11<>39,Anmeldung!$D$18<>"",Anmeldung!$G$18=Anmeldung!$G$46,Anmeldung!$J$18=Anmeldung!$J$46,(Anmeldung!$B$18&": "&Anmeldung!$D$18&", "&Anmeldung!$E$18&" / "&Anmeldung!$G$18&" / "&Anmeldung!$J$18)<>Anmeldung!$P$46),Anmeldung!$B$18&": "&Anmeldung!$D$18&", "&Anmeldung!$E$18&" / "&Anmeldung!$G$18&" / "&Anmeldung!$J$18,"") | HS5: =IF(AND(11<>39,Anmeldung!$D$18<>"",Anmeldung!$G$18=Anmeldung!$G$46,Anmeldung!$J$18=Anmeldung!$J$46,(Anmeldung!$B$18&": "&Anmeldung!$D$18&", "&Anmeldung!$E$18&" / "&Anmeldung!$G$18&" / "&Anmeldung!$J$18)<>Anmeldung!$O$46),Anmeldung!$B$18&": "&Anmeldung!$D$18&", "&Anmeldung!$E$18&" / "&Anmeldung!$G$18&" / "&Anmeldung!$J$18,"") | HT5: =IF(AND(11<>39,Anmeldung!$D$18<>"",Anmeldung!$G$18<>Anmeldung!$G$46,(Anmeldung!$B$18&": "&Anmeldung!$D$18&", "&Anmeldung!$E$18&" / "&Anmeldung!$G$18&" / "&Anmeldung!$J$18)<>Anmeldung!$S$46),Anmeldung!$B$18&": "&Anmeldung!$D$18&", "&Anmeldung!$E$18&" / "&Anmeldung!$G$18&" / "&Anmeldung!$J$18,"") | HU5: =IF(AND(11<>39,Anmeldung!$D$18<>"",(Anmeldung!$B$18&": "&Anmeldung!$D$18&", "&Anmeldung!$E$18&" / "&Anmeldung!$G$18&" / "&Anmeldung!$J$18)<>Anmeldung!$R$46),Anmeldung!$B$18&": "&Anmeldung!$D$18&", "&Anmeldung!$E$18&" / "&Anmeldung!$G$18&" / "&Anmeldung!$J$18,"") | HV5: =IF(AND(10<>38,Anmeldung!$D$18<>"",Anmeldung!$U$18="Ja",Anmeldung!$G$18=Anmeldung!$G$46,Anmeldung!$J$18=Anmeldung!$J$46),Anmeldung!$B$18&": "&Anmeldung!$D$18&", "&Anmeldung!$E$18&" / "&Anmeldung!$G$18&" / "&Anmeldung!$J$18,"") | HY5: =IF(AND(11<>40,Anmeldung!$D$18<>"",Anmeldung!$G$18=Anmeldung!$G$47,Anmeldung!$J$18=Anmeldung!$J$47),Anmeldung!$B$18&": "&Anmeldung!$D$18&", "&Anmeldung!$E$18&" / "&Anmeldung!$G$18&" / "&Anmeldung!$J$18,"") | HZ5: =IF(AND(11<>40,Anmeldung!$D$18<>"",Anmeldung!$G$18=Anmeldung!$G$47,Anmeldung!$J$18=Anmeldung!$J$47,(Anmeldung!$B$18&": "&Anmeldung!$D$18&", "&Anmeldung!$E$18&" / "&Anmeldung!$G$18&" / "&Anmeldung!$J$18)<>Anmeldung!$P$47),Anmeldung!$B$18&": "&Anmeldung!$D$18&", "&Anmeldung!$E$18&" / "&Anmeldung!$G$18&" / "&Anmeldung!$J$18,"") | IA5: =IF(AND(11<>40,Anmeldung!$D$18<>"",Anmeldung!$G$18=Anmeldung!$G$47,Anmeldung!$J$18=Anmeldung!$J$47,(Anmeldung!$B$18&": "&Anmeldung!$D$18&", "&Anmeldung!$E$18&" / "&Anmeldung!$G$18&" / "&Anmeldung!$J$18)<>Anmeldung!$O$47),Anmeldung!$B$18&": "&Anmeldung!$D$18&", "&Anmeldung!$E$18&" / "&Anmeldung!$G$18&" / "&Anmeldung!$J$18,"") | IB5: =IF(AND(11<>40,Anmeldung!$D$18<>"",Anmeldung!$G$18<>Anmeldung!$G$47,(Anmeldung!$B$18&": "&Anmeldung!$D$18&", "&Anmeldung!$E$18&" / "&Anmeldung!$G$18&" / "&Anmeldung!$J$18)<>Anmeldung!$S$47),Anmeldung!$B$18&": "&Anmeldung!$D$18&", "&Anmeldung!$E$18&" / "&Anmeldung!$G$18&" / "&Anmeldung!$J$18,"") | IC5: =IF(AND(11<>40,Anmeldung!$D$18<>"",(Anmeldung!$B$18&": "&Anmeldung!$D$18&", "&Anmeldung!$E$18&" / "&Anmeldung!$G$18&" / "&Anmeldung!$J$18)<>Anmeldung!$R$47),Anmeldung!$B$18&": "&Anmeldung!$D$18&", "&Anmeldung!$E$18&" / "&Anmeldung!$G$18&" / "&Anmeldung!$J$18,"") | ID5: =IF(AND(10<>39,Anmeldung!$D$18<>"",Anmeldung!$U$18="Ja",Anmeldung!$G$18=Anmeldung!$G$47,Anmeldung!$J$18=Anmeldung!$J$47),Anmeldung!$B$18&": "&Anmeldung!$D$18&", "&Anmeldung!$E$18&" / "&Anmeldung!$G$18&" / "&Anmeldung!$J$18,"")
A6: =IF(AND(12<>11,Anmeldung!$D$19<>"",Anmeldung!$G$19=Anmeldung!$G$18,Anmeldung!$J$19=Anmeldung!$J$18),Anmeldung!$B$19&": "&Anmeldung!$D$19&", "&Anmeldung!$E$19&" / "&Anmeldung!$G$19&" / "&Anmeldung!$J$19,"") | B6: =IF(AND(12<>11,Anmeldung!$D$19<>"",Anmeldung!$G$19=Anmeldung!$G$18,Anmeldung!$J$19=Anmeldung!$J$18,(Anmeldung!$B$19&": "&Anmeldung!$D$19&", "&Anmeldung!$E$19&" / "&Anmeldung!$G$19&" / "&Anmeldung!$J$19)<>Anmeldung!$P$18),Anmeldung!$B$19&": "&Anmeldung!$D$19&", "&Anmeldung!$E$19&" / "&Anmeldung!$G$19&" / "&Anmeldung!$J$19,"") | C6: =IF(AND(12<>11,Anmeldung!$D$19<>"",Anmeldung!$G$19=Anmeldung!$G$18,Anmeldung!$J$19=Anmeldung!$J$18,(Anmeldung!$B$19&": "&Anmeldung!$D$19&", "&Anmeldung!$E$19&" / "&Anmeldung!$G$19&" / "&Anmeldung!$J$19)<>Anmeldung!$O$18),Anmeldung!$B$19&": "&Anmeldung!$D$19&", "&Anmeldung!$E$19&" / "&Anmeldung!$G$19&" / "&Anmeldung!$J$19,"") | D6: =IF(AND(12<>11,Anmeldung!$D$19<>"",Anmeldung!$G$19<>Anmeldung!$G$18,(Anmeldung!$B$19&": "&Anmeldung!$D$19&", "&Anmeldung!$E$19&" / "&Anmeldung!$G$19&" / "&Anmeldung!$J$19)<>Anmeldung!$S$18),Anmeldung!$B$19&": "&Anmeldung!$D$19&", "&Anmeldung!$E$19&" / "&Anmeldung!$G$19&" / "&Anmeldung!$J$19,"") | E6: =IF(AND(12<>11,Anmeldung!$D$19<>"",(Anmeldung!$B$19&": "&Anmeldung!$D$19&", "&Anmeldung!$E$19&" / "&Anmeldung!$G$19&" / "&Anmeldung!$J$19)<>Anmeldung!$R$18),Anmeldung!$B$19&": "&Anmeldung!$D$19&", "&Anmeldung!$E$19&" / "&Anmeldung!$G$19&" / "&Anmeldung!$J$19,"") | F6: =IF(AND(11<>10,Anmeldung!$D$19<>"",Anmeldung!$U$19="Ja",Anmeldung!$G$19=Anmeldung!$G$18,Anmeldung!$J$19=Anmeldung!$J$18),Anmeldung!$B$19&": "&Anmeldung!$D$19&", "&Anmeldung!$E$19&" / "&Anmeldung!$G$19&" / "&Anmeldung!$J$19,"") | I6: =IF(AND(12<>12,Anmeldung!$D$19<>"",Anmeldung!$G$19=Anmeldung!$G$19,Anmeldung!$J$19=Anmeldung!$J$19),Anmeldung!$B$19&": "&Anmeldung!$D$19&", "&Anmeldung!$E$19&" / "&Anmeldung!$G$19&" / "&Anmeldung!$J$19,"") | J6: =IF(AND(12<>12,Anmeldung!$D$19<>"",Anmeldung!$G$19=Anmeldung!$G$19,Anmeldung!$J$19=Anmeldung!$J$19,(Anmeldung!$B$19&": "&Anmeldung!$D$19&", "&Anmeldung!$E$19&" / "&Anmeldung!$G$19&" / "&Anmeldung!$J$19)<>Anmeldung!$P$19),Anmeldung!$B$19&": "&Anmeldung!$D$19&", "&Anmeldung!$E$19&" / "&Anmeldung!$G$19&" / "&Anmeldung!$J$19,"") | K6: =IF(AND(12<>12,Anmeldung!$D$19<>"",Anmeldung!$G$19=Anmeldung!$G$19,Anmeldung!$J$19=Anmeldung!$J$19,(Anmeldung!$B$19&": "&Anmeldung!$D$19&", "&Anmeldung!$E$19&" / "&Anmeldung!$G$19&" / "&Anmeldung!$J$19)<>Anmeldung!$O$19),Anmeldung!$B$19&": "&Anmeldung!$D$19&", "&Anmeldung!$E$19&" / "&Anmeldung!$G$19&" / "&Anmeldung!$J$19,"") | L6: =IF(AND(12<>12,Anmeldung!$D$19<>"",Anmeldung!$G$19<>Anmeldung!$G$19,(Anmeldung!$B$19&": "&Anmeldung!$D$19&", "&Anmeldung!$E$19&" / "&Anmeldung!$G$19&" / "&Anmeldung!$J$19)<>Anmeldung!$S$19),Anmeldung!$B$19&": "&Anmeldung!$D$19&", "&Anmeldung!$E$19&" / "&Anmeldung!$G$19&" / "&Anmeldung!$J$19,"") | M6: =IF(AND(12<>12,Anmeldung!$D$19<>"",(Anmeldung!$B$19&": "&Anmeldung!$D$19&", "&Anmeldung!$E$19&" / "&Anmeldung!$G$19&" / "&Anmeldung!$J$19)<>Anmeldung!$R$19),Anmeldung!$B$19&": "&Anmeldung!$D$19&", "&Anmeldung!$E$19&" / "&Anmeldung!$G$19&" / "&Anmeldung!$J$19,"") | N6: =IF(AND(11<>11,Anmeldung!$D$19<>"",Anmeldung!$U$19="Ja",Anmeldung!$G$19=Anmeldung!$G$19,Anmeldung!$J$19=Anmeldung!$J$19),Anmeldung!$B$19&": "&Anmeldung!$D$19&", "&Anmeldung!$E$19&" / "&Anmeldung!$G$19&" / "&Anmeldung!$J$19,"") | Q6: =IF(AND(12<>13,Anmeldung!$D$19<>"",Anmeldung!$G$19=Anmeldung!$G$20,Anmeldung!$J$19=Anmeldung!$J$20),Anmeldung!$B$19&": "&Anmeldung!$D$19&", "&Anmeldung!$E$19&" / "&Anmeldung!$G$19&" / "&Anmeldung!$J$19,"") | R6: =IF(AND(12<>13,Anmeldung!$D$19<>"",Anmeldung!$G$19=Anmeldung!$G$20,Anmeldung!$J$19=Anmeldung!$J$20,(Anmeldung!$B$19&": "&Anmeldung!$D$19&", "&Anmeldung!$E$19&" / "&Anmeldung!$G$19&" / "&Anmeldung!$J$19)<>Anmeldung!$P$20),Anmeldung!$B$19&": "&Anmeldung!$D$19&", "&Anmeldung!$E$19&" / "&Anmeldung!$G$19&" / "&Anmeldung!$J$19,"") | S6: =IF(AND(12<>13,Anmeldung!$D$19<>"",Anmeldung!$G$19=Anmeldung!$G$20,Anmeldung!$J$19=Anmeldung!$J$20,(Anmeldung!$B$19&": "&Anmeldung!$D$19&", "&Anmeldung!$E$19&" / "&Anmeldung!$G$19&" / "&Anmeldung!$J$19)<>Anmeldung!$O$20),Anmeldung!$B$19&": "&Anmeldung!$D$19&", "&Anmeldung!$E$19&" / "&Anmeldung!$G$19&" / "&Anmeldung!$J$19,"") | T6: =IF(AND(12<>13,Anmeldung!$D$19<>"",Anmeldung!$G$19<>Anmeldung!$G$20,(Anmeldung!$B$19&": "&Anmeldung!$D$19&", "&Anmeldung!$E$19&" / "&Anmeldung!$G$19&" / "&Anmeldung!$J$19)<>Anmeldung!$S$20),Anmeldung!$B$19&": "&Anmeldung!$D$19&", "&Anmeldung!$E$19&" / "&Anmeldung!$G$19&" / "&Anmeldung!$J$19,"") | U6: =IF(AND(12<>13,Anmeldung!$D$19<>"",(Anmeldung!$B$19&": "&Anmeldung!$D$19&", "&Anmeldung!$E$19&" / "&Anmeldung!$G$19&" / "&Anmeldung!$J$19)<>Anmeldung!$R$20),Anmeldung!$B$19&": "&Anmeldung!$D$19&", "&Anmeldung!$E$19&" / "&Anmeldung!$G$19&" / "&Anmeldung!$J$19,"") | V6: =IF(AND(11<>12,Anmeldung!$D$19<>"",Anmeldung!$U$19="Ja",Anmeldung!$G$19=Anmeldung!$G$20,Anmeldung!$J$19=Anmeldung!$J$20),Anmeldung!$B$19&": "&Anmeldung!$D$19&", "&Anmeldung!$E$19&" / "&Anmeldung!$G$19&" / "&Anmeldung!$J$19,"") | Y6: =IF(AND(12<>14,Anmeldung!$D$19<>"",Anmeldung!$G$19=Anmeldung!$G$21,Anmeldung!$J$19=Anmeldung!$J$21),Anmeldung!$B$19&": "&Anmeldung!$D$19&", "&Anmeldung!$E$19&" / "&Anmeldung!$G$19&" / "&Anmeldung!$J$19,"") | Z6: =IF(AND(12<>14,Anmeldung!$D$19<>"",Anmeldung!$G$19=Anmeldung!$G$21,Anmeldung!$J$19=Anmeldung!$J$21,(Anmeldung!$B$19&": "&Anmeldung!$D$19&", "&Anmeldung!$E$19&" / "&Anmeldung!$G$19&" / "&Anmeldung!$J$19)<>Anmeldung!$P$21),Anmeldung!$B$19&": "&Anmeldung!$D$19&", "&Anmeldung!$E$19&" / "&Anmeldung!$G$19&" / "&Anmeldung!$J$19,"") | AA6: =IF(AND(12<>14,Anmeldung!$D$19<>"",Anmeldung!$G$19=Anmeldung!$G$21,Anmeldung!$J$19=Anmeldung!$J$21,(Anmeldung!$B$19&": "&Anmeldung!$D$19&", "&Anmeldung!$E$19&" / "&Anmeldung!$G$19&" / "&Anmeldung!$J$19)<>Anmeldung!$O$21),Anmeldung!$B$19&": "&Anmeldung!$D$19&", "&Anmeldung!$E$19&" / "&Anmeldung!$G$19&" / "&Anmeldung!$J$19,"") | AB6: =IF(AND(12<>14,Anmeldung!$D$19<>"",Anmeldung!$G$19<>Anmeldung!$G$21,(Anmeldung!$B$19&": "&Anmeldung!$D$19&", "&Anmeldung!$E$19&" / "&Anmeldung!$G$19&" / "&Anmeldung!$J$19)<>Anmeldung!$S$21),Anmeldung!$B$19&": "&Anmeldung!$D$19&", "&Anmeldung!$E$19&" / "&Anmeldung!$G$19&" / "&Anmeldung!$J$19,"") | AC6: =IF(AND(12<>14,Anmeldung!$D$19<>"",(Anmeldung!$B$19&": "&Anmeldung!$D$19&", "&Anmeldung!$E$19&" / "&Anmeldung!$G$19&" / "&Anmeldung!$J$19)<>Anmeldung!$R$21),Anmeldung!$B$19&": "&Anmeldung!$D$19&", "&Anmeldung!$E$19&" / "&Anmeldung!$G$19&" / "&Anmeldung!$J$19,"") | AD6: =IF(AND(11<>13,Anmeldung!$D$19<>"",Anmeldung!$U$19="Ja",Anmeldung!$G$19=Anmeldung!$G$21,Anmeldung!$J$19=Anmeldung!$J$21),Anmeldung!$B$19&": "&Anmeldung!$D$19&", "&Anmeldung!$E$19&" / "&Anmeldung!$G$19&" / "&Anmeldung!$J$19,"") | AG6: =IF(AND(12<>15,Anmeldung!$D$19<>"",Anmeldung!$G$19=Anmeldung!$G$22,Anmeldung!$J$19=Anmeldung!$J$22),Anmeldung!$B$19&": "&Anmeldung!$D$19&", "&Anmeldung!$E$19&" / "&Anmeldung!$G$19&" / "&Anmeldung!$J$19,"") | AH6: =IF(AND(12<>15,Anmeldung!$D$19<>"",Anmeldung!$G$19=Anmeldung!$G$22,Anmeldung!$J$19=Anmeldung!$J$22,(Anmeldung!$B$19&": "&Anmeldung!$D$19&", "&Anmeldung!$E$19&" / "&Anmeldung!$G$19&" / "&Anmeldung!$J$19)<>Anmeldung!$P$22),Anmeldung!$B$19&": "&Anmeldung!$D$19&", "&Anmeldung!$E$19&" / "&Anmeldung!$G$19&" / "&Anmeldung!$J$19,"") | AI6: =IF(AND(12<>15,Anmeldung!$D$19<>"",Anmeldung!$G$19=Anmeldung!$G$22,Anmeldung!$J$19=Anmeldung!$J$22,(Anmeldung!$B$19&": "&Anmeldung!$D$19&", "&Anmeldung!$E$19&" / "&Anmeldung!$G$19&" / "&Anmeldung!$J$19)<>Anmeldung!$O$22),Anmeldung!$B$19&": "&Anmeldung!$D$19&", "&Anmeldung!$E$19&" / "&Anmeldung!$G$19&" / "&Anmeldung!$J$19,"") | AJ6: =IF(AND(12<>15,Anmeldung!$D$19<>"",Anmeldung!$G$19<>Anmeldung!$G$22,(Anmeldung!$B$19&": "&Anmeldung!$D$19&", "&Anmeldung!$E$19&" / "&Anmeldung!$G$19&" / "&Anmeldung!$J$19)<>Anmeldung!$S$22),Anmeldung!$B$19&": "&Anmeldung!$D$19&", "&Anmeldung!$E$19&" / "&Anmeldung!$G$19&" / "&Anmeldung!$J$19,"") | AK6: =IF(AND(12<>15,Anmeldung!$D$19<>"",(Anmeldung!$B$19&": "&Anmeldung!$D$19&", "&Anmeldung!$E$19&" / "&Anmeldung!$G$19&" / "&Anmeldung!$J$19)<>Anmeldung!$R$22),Anmeldung!$B$19&": "&Anmeldung!$D$19&", "&Anmeldung!$E$19&" / "&Anmeldung!$G$19&" / "&Anmeldung!$J$19,"") | AL6: =IF(AND(11<>14,Anmeldung!$D$19<>"",Anmeldung!$U$19="Ja",Anmeldung!$G$19=Anmeldung!$G$22,Anmeldung!$J$19=Anmeldung!$J$22),Anmeldung!$B$19&": "&Anmeldung!$D$19&", "&Anmeldung!$E$19&" / "&Anmeldung!$G$19&" / "&Anmeldung!$J$19,"") | AO6: =IF(AND(12<>16,Anmeldung!$D$19<>"",Anmeldung!$G$19=Anmeldung!$G$23,Anmeldung!$J$19=Anmeldung!$J$23),Anmeldung!$B$19&": "&Anmeldung!$D$19&", "&Anmeldung!$E$19&" / "&Anmeldung!$G$19&" / "&Anmeldung!$J$19,"") | AP6: =IF(AND(12<>16,Anmeldung!$D$19<>"",Anmeldung!$G$19=Anmeldung!$G$23,Anmeldung!$J$19=Anmeldung!$J$23,(Anmeldung!$B$19&": "&Anmeldung!$D$19&", "&Anmeldung!$E$19&" / "&Anmeldung!$G$19&" / "&Anmeldung!$J$19)<>Anmeldung!$P$23),Anmeldung!$B$19&": "&Anmeldung!$D$19&", "&Anmeldung!$E$19&" / "&Anmeldung!$G$19&" / "&Anmeldung!$J$19,"") | AQ6: =IF(AND(12<>16,Anmeldung!$D$19<>"",Anmeldung!$G$19=Anmeldung!$G$23,Anmeldung!$J$19=Anmeldung!$J$23,(Anmeldung!$B$19&": "&Anmeldung!$D$19&", "&Anmeldung!$E$19&" / "&Anmeldung!$G$19&" / "&Anmeldung!$J$19)<>Anmeldung!$O$23),Anmeldung!$B$19&": "&Anmeldung!$D$19&", "&Anmeldung!$E$19&" / "&Anmeldung!$G$19&" / "&Anmeldung!$J$19,"") | AR6: =IF(AND(12<>16,Anmeldung!$D$19<>"",Anmeldung!$G$19<>Anmeldung!$G$23,(Anmeldung!$B$19&": "&Anmeldung!$D$19&", "&Anmeldung!$E$19&" / "&Anmeldung!$G$19&" / "&Anmeldung!$J$19)<>Anmeldung!$S$23),Anmeldung!$B$19&": "&Anmeldung!$D$19&", "&Anmeldung!$E$19&" / "&Anmeldung!$G$19&" / "&Anmeldung!$J$19,"") | AS6: =IF(AND(12<>16,Anmeldung!$D$19<>"",(Anmeldung!$B$19&": "&Anmeldung!$D$19&", "&Anmeldung!$E$19&" / "&Anmeldung!$G$19&" / "&Anmeldung!$J$19)<>Anmeldung!$R$23),Anmeldung!$B$19&": "&Anmeldung!$D$19&", "&Anmeldung!$E$19&" / "&Anmeldung!$G$19&" / "&Anmeldung!$J$19,"") | AT6: =IF(AND(11<>15,Anmeldung!$D$19<>"",Anmeldung!$U$19="Ja",Anmeldung!$G$19=Anmeldung!$G$23,Anmeldung!$J$19=Anmeldung!$J$23),Anmeldung!$B$19&": "&Anmeldung!$D$19&", "&Anmeldung!$E$19&" / "&Anmeldung!$G$19&" / "&Anmeldung!$J$19,"") | AW6: =IF(AND(12<>17,Anmeldung!$D$19<>"",Anmeldung!$G$19=Anmeldung!$G$24,Anmeldung!$J$19=Anmeldung!$J$24),Anmeldung!$B$19&": "&Anmeldung!$D$19&", "&Anmeldung!$E$19&" / "&Anmeldung!$G$19&" / "&Anmeldung!$J$19,"") | AX6: =IF(AND(12<>17,Anmeldung!$D$19<>"",Anmeldung!$G$19=Anmeldung!$G$24,Anmeldung!$J$19=Anmeldung!$J$24,(Anmeldung!$B$19&": "&Anmeldung!$D$19&", "&Anmeldung!$E$19&" / "&Anmeldung!$G$19&" / "&Anmeldung!$J$19)<>Anmeldung!$P$24),Anmeldung!$B$19&": "&Anmeldung!$D$19&", "&Anmeldung!$E$19&" / "&Anmeldung!$G$19&" / "&Anmeldung!$J$19,"") | AY6: =IF(AND(12<>17,Anmeldung!$D$19<>"",Anmeldung!$G$19=Anmeldung!$G$24,Anmeldung!$J$19=Anmeldung!$J$24,(Anmeldung!$B$19&": "&Anmeldung!$D$19&", "&Anmeldung!$E$19&" / "&Anmeldung!$G$19&" / "&Anmeldung!$J$19)<>Anmeldung!$O$24),Anmeldung!$B$19&": "&Anmeldung!$D$19&", "&Anmeldung!$E$19&" / "&Anmeldung!$G$19&" / "&Anmeldung!$J$19,"") | AZ6: =IF(AND(12<>17,Anmeldung!$D$19<>"",Anmeldung!$G$19<>Anmeldung!$G$24,(Anmeldung!$B$19&": "&Anmeldung!$D$19&", "&Anmeldung!$E$19&" / "&Anmeldung!$G$19&" / "&Anmeldung!$J$19)<>Anmeldung!$S$24),Anmeldung!$B$19&": "&Anmeldung!$D$19&", "&Anmeldung!$E$19&" / "&Anmeldung!$G$19&" / "&Anmeldung!$J$19,"") | BA6: =IF(AND(12<>17,Anmeldung!$D$19<>"",(Anmeldung!$B$19&": "&Anmeldung!$D$19&", "&Anmeldung!$E$19&" / "&Anmeldung!$G$19&" / "&Anmeldung!$J$19)<>Anmeldung!$R$24),Anmeldung!$B$19&": "&Anmeldung!$D$19&", "&Anmeldung!$E$19&" / "&Anmeldung!$G$19&" / "&Anmeldung!$J$19,"") | BB6: =IF(AND(11<>16,Anmeldung!$D$19<>"",Anmeldung!$U$19="Ja",Anmeldung!$G$19=Anmeldung!$G$24,Anmeldung!$J$19=Anmeldung!$J$24),Anmeldung!$B$19&": "&Anmeldung!$D$19&", "&Anmeldung!$E$19&" / "&Anmeldung!$G$19&" / "&Anmeldung!$J$19,"") | BE6: =IF(AND(12<>18,Anmeldung!$D$19<>"",Anmeldung!$G$19=Anmeldung!$G$25,Anmeldung!$J$19=Anmeldung!$J$25),Anmeldung!$B$19&": "&Anmeldung!$D$19&", "&Anmeldung!$E$19&" / "&Anmeldung!$G$19&" / "&Anmeldung!$J$19,"") | BF6: =IF(AND(12<>18,Anmeldung!$D$19<>"",Anmeldung!$G$19=Anmeldung!$G$25,Anmeldung!$J$19=Anmeldung!$J$25,(Anmeldung!$B$19&": "&Anmeldung!$D$19&", "&Anmeldung!$E$19&" / "&Anmeldung!$G$19&" / "&Anmeldung!$J$19)<>Anmeldung!$P$25),Anmeldung!$B$19&": "&Anmeldung!$D$19&", "&Anmeldung!$E$19&" / "&Anmeldung!$G$19&" / "&Anmeldung!$J$19,"") | BG6: =IF(AND(12<>18,Anmeldung!$D$19<>"",Anmeldung!$G$19=Anmeldung!$G$25,Anmeldung!$J$19=Anmeldung!$J$25,(Anmeldung!$B$19&": "&Anmeldung!$D$19&", "&Anmeldung!$E$19&" / "&Anmeldung!$G$19&" / "&Anmeldung!$J$19)<>Anmeldung!$O$25),Anmeldung!$B$19&": "&Anmeldung!$D$19&", "&Anmeldung!$E$19&" / "&Anmeldung!$G$19&" / "&Anmeldung!$J$19,"") | BH6: =IF(AND(12<>18,Anmeldung!$D$19<>"",Anmeldung!$G$19<>Anmeldung!$G$25,(Anmeldung!$B$19&": "&Anmeldung!$D$19&", "&Anmeldung!$E$19&" / "&Anmeldung!$G$19&" / "&Anmeldung!$J$19)<>Anmeldung!$S$25),Anmeldung!$B$19&": "&Anmeldung!$D$19&", "&Anmeldung!$E$19&" / "&Anmeldung!$G$19&" / "&Anmeldung!$J$19,"") | BI6: =IF(AND(12<>18,Anmeldung!$D$19<>"",(Anmeldung!$B$19&": "&Anmeldung!$D$19&", "&Anmeldung!$E$19&" / "&Anmeldung!$G$19&" / "&Anmeldung!$J$19)<>Anmeldung!$R$25),Anmeldung!$B$19&": "&Anmeldung!$D$19&", "&Anmeldung!$E$19&" / "&Anmeldung!$G$19&" / "&Anmeldung!$J$19,"") | BJ6: =IF(AND(11<>17,Anmeldung!$D$19<>"",Anmeldung!$U$19="Ja",Anmeldung!$G$19=Anmeldung!$G$25,Anmeldung!$J$19=Anmeldung!$J$25),Anmeldung!$B$19&": "&Anmeldung!$D$19&", "&Anmeldung!$E$19&" / "&Anmeldung!$G$19&" / "&Anmeldung!$J$19,"") | BM6: =IF(AND(12<>19,Anmeldung!$D$19<>"",Anmeldung!$G$19=Anmeldung!$G$26,Anmeldung!$J$19=Anmeldung!$J$26),Anmeldung!$B$19&": "&Anmeldung!$D$19&", "&Anmeldung!$E$19&" / "&Anmeldung!$G$19&" / "&Anmeldung!$J$19,"") | BN6: =IF(AND(12<>19,Anmeldung!$D$19<>"",Anmeldung!$G$19=Anmeldung!$G$26,Anmeldung!$J$19=Anmeldung!$J$26,(Anmeldung!$B$19&": "&Anmeldung!$D$19&", "&Anmeldung!$E$19&" / "&Anmeldung!$G$19&" / "&Anmeldung!$J$19)<>Anmeldung!$P$26),Anmeldung!$B$19&": "&Anmeldung!$D$19&", "&Anmeldung!$E$19&" / "&Anmeldung!$G$19&" / "&Anmeldung!$J$19,"") | BO6: =IF(AND(12<>19,Anmeldung!$D$19<>"",Anmeldung!$G$19=Anmeldung!$G$26,Anmeldung!$J$19=Anmeldung!$J$26,(Anmeldung!$B$19&": "&Anmeldung!$D$19&", "&Anmeldung!$E$19&" / "&Anmeldung!$G$19&" / "&Anmeldung!$J$19)<>Anmeldung!$O$26),Anmeldung!$B$19&": "&Anmeldung!$D$19&", "&Anmeldung!$E$19&" / "&Anmeldung!$G$19&" / "&Anmeldung!$J$19,"") | BP6: =IF(AND(12<>19,Anmeldung!$D$19<>"",Anmeldung!$G$19<>Anmeldung!$G$26,(Anmeldung!$B$19&": "&Anmeldung!$D$19&", "&Anmeldung!$E$19&" / "&Anmeldung!$G$19&" / "&Anmeldung!$J$19)<>Anmeldung!$S$26),Anmeldung!$B$19&": "&Anmeldung!$D$19&", "&Anmeldung!$E$19&" / "&Anmeldung!$G$19&" / "&Anmeldung!$J$19,"") | BQ6: =IF(AND(12<>19,Anmeldung!$D$19<>"",(Anmeldung!$B$19&": "&Anmeldung!$D$19&", "&Anmeldung!$E$19&" / "&Anmeldung!$G$19&" / "&Anmeldung!$J$19)<>Anmeldung!$R$26),Anmeldung!$B$19&": "&Anmeldung!$D$19&", "&Anmeldung!$E$19&" / "&Anmeldung!$G$19&" / "&Anmeldung!$J$19,"") | BR6: =IF(AND(11<>18,Anmeldung!$D$19<>"",Anmeldung!$U$19="Ja",Anmeldung!$G$19=Anmeldung!$G$26,Anmeldung!$J$19=Anmeldung!$J$26),Anmeldung!$B$19&": "&Anmeldung!$D$19&", "&Anmeldung!$E$19&" / "&Anmeldung!$G$19&" / "&Anmeldung!$J$19,"") | BU6: =IF(AND(12<>20,Anmeldung!$D$19<>"",Anmeldung!$G$19=Anmeldung!$G$27,Anmeldung!$J$19=Anmeldung!$J$27),Anmeldung!$B$19&": "&Anmeldung!$D$19&", "&Anmeldung!$E$19&" / "&Anmeldung!$G$19&" / "&Anmeldung!$J$19,"") | BV6: =IF(AND(12<>20,Anmeldung!$D$19<>"",Anmeldung!$G$19=Anmeldung!$G$27,Anmeldung!$J$19=Anmeldung!$J$27,(Anmeldung!$B$19&": "&Anmeldung!$D$19&", "&Anmeldung!$E$19&" / "&Anmeldung!$G$19&" / "&Anmeldung!$J$19)<>Anmeldung!$P$27),Anmeldung!$B$19&": "&Anmeldung!$D$19&", "&Anmeldung!$E$19&" / "&Anmeldung!$G$19&" / "&Anmeldung!$J$19,"") | BW6: =IF(AND(12<>20,Anmeldung!$D$19<>"",Anmeldung!$G$19=Anmeldung!$G$27,Anmeldung!$J$19=Anmeldung!$J$27,(Anmeldung!$B$19&": "&Anmeldung!$D$19&", "&Anmeldung!$E$19&" / "&Anmeldung!$G$19&" / "&Anmeldung!$J$19)<>Anmeldung!$O$27),Anmeldung!$B$19&": "&Anmeldung!$D$19&", "&Anmeldung!$E$19&" / "&Anmeldung!$G$19&" / "&Anmeldung!$J$19,"") | BX6: =IF(AND(12<>20,Anmeldung!$D$19<>"",Anmeldung!$G$19<>Anmeldung!$G$27,(Anmeldung!$B$19&": "&Anmeldung!$D$19&", "&Anmeldung!$E$19&" / "&Anmeldung!$G$19&" / "&Anmeldung!$J$19)<>Anmeldung!$S$27),Anmeldung!$B$19&": "&Anmeldung!$D$19&", "&Anmeldung!$E$19&" / "&Anmeldung!$G$19&" / "&Anmeldung!$J$19,"") | BY6: =IF(AND(12<>20,Anmeldung!$D$19<>"",(Anmeldung!$B$19&": "&Anmeldung!$D$19&", "&Anmeldung!$E$19&" / "&Anmeldung!$G$19&" / "&Anmeldung!$J$19)<>Anmeldung!$R$27),Anmeldung!$B$19&": "&Anmeldung!$D$19&", "&Anmeldung!$E$19&" / "&Anmeldung!$G$19&" / "&Anmeldung!$J$19,"") | BZ6: =IF(AND(11<>19,Anmeldung!$D$19<>"",Anmeldung!$U$19="Ja",Anmeldung!$G$19=Anmeldung!$G$27,Anmeldung!$J$19=Anmeldung!$J$27),Anmeldung!$B$19&": "&Anmeldung!$D$19&", "&Anmeldung!$E$19&" / "&Anmeldung!$G$19&" / "&Anmeldung!$J$19,"") | CC6: =IF(AND(12<>21,Anmeldung!$D$19<>"",Anmeldung!$G$19=Anmeldung!$G$28,Anmeldung!$J$19=Anmeldung!$J$28),Anmeldung!$B$19&": "&Anmeldung!$D$19&", "&Anmeldung!$E$19&" / "&Anmeldung!$G$19&" / "&Anmeldung!$J$19,"") | CD6: =IF(AND(12<>21,Anmeldung!$D$19<>"",Anmeldung!$G$19=Anmeldung!$G$28,Anmeldung!$J$19=Anmeldung!$J$28,(Anmeldung!$B$19&": "&Anmeldung!$D$19&", "&Anmeldung!$E$19&" / "&Anmeldung!$G$19&" / "&Anmeldung!$J$19)<>Anmeldung!$P$28),Anmeldung!$B$19&": "&Anmeldung!$D$19&", "&Anmeldung!$E$19&" / "&Anmeldung!$G$19&" / "&Anmeldung!$J$19,"") | CE6: =IF(AND(12<>21,Anmeldung!$D$19<>"",Anmeldung!$G$19=Anmeldung!$G$28,Anmeldung!$J$19=Anmeldung!$J$28,(Anmeldung!$B$19&": "&Anmeldung!$D$19&", "&Anmeldung!$E$19&" / "&Anmeldung!$G$19&" / "&Anmeldung!$J$19)<>Anmeldung!$O$28),Anmeldung!$B$19&": "&Anmeldung!$D$19&", "&Anmeldung!$E$19&" / "&Anmeldung!$G$19&" / "&Anmeldung!$J$19,"") | CF6: =IF(AND(12<>21,Anmeldung!$D$19<>"",Anmeldung!$G$19<>Anmeldung!$G$28,(Anmeldung!$B$19&": "&Anmeldung!$D$19&", "&Anmeldung!$E$19&" / "&Anmeldung!$G$19&" / "&Anmeldung!$J$19)<>Anmeldung!$S$28),Anmeldung!$B$19&": "&Anmeldung!$D$19&", "&Anmeldung!$E$19&" / "&Anmeldung!$G$19&" / "&Anmeldung!$J$19,"") | CG6: =IF(AND(12<>21,Anmeldung!$D$19<>"",(Anmeldung!$B$19&": "&Anmeldung!$D$19&", "&Anmeldung!$E$19&" / "&Anmeldung!$G$19&" / "&Anmeldung!$J$19)<>Anmeldung!$R$28),Anmeldung!$B$19&": "&Anmeldung!$D$19&", "&Anmeldung!$E$19&" / "&Anmeldung!$G$19&" / "&Anmeldung!$J$19,"") | CH6: =IF(AND(11<>20,Anmeldung!$D$19<>"",Anmeldung!$U$19="Ja",Anmeldung!$G$19=Anmeldung!$G$28,Anmeldung!$J$19=Anmeldung!$J$28),Anmeldung!$B$19&": "&Anmeldung!$D$19&", "&Anmeldung!$E$19&" / "&Anmeldung!$G$19&" / "&Anmeldung!$J$19,"") | CK6: =IF(AND(12<>22,Anmeldung!$D$19<>"",Anmeldung!$G$19=Anmeldung!$G$29,Anmeldung!$J$19=Anmeldung!$J$29),Anmeldung!$B$19&": "&Anmeldung!$D$19&", "&Anmeldung!$E$19&" / "&Anmeldung!$G$19&" / "&Anmeldung!$J$19,"") | CL6: =IF(AND(12<>22,Anmeldung!$D$19<>"",Anmeldung!$G$19=Anmeldung!$G$29,Anmeldung!$J$19=Anmeldung!$J$29,(Anmeldung!$B$19&": "&Anmeldung!$D$19&", "&Anmeldung!$E$19&" / "&Anmeldung!$G$19&" / "&Anmeldung!$J$19)<>Anmeldung!$P$29),Anmeldung!$B$19&": "&Anmeldung!$D$19&", "&Anmeldung!$E$19&" / "&Anmeldung!$G$19&" / "&Anmeldung!$J$19,"") | CM6: =IF(AND(12<>22,Anmeldung!$D$19<>"",Anmeldung!$G$19=Anmeldung!$G$29,Anmeldung!$J$19=Anmeldung!$J$29,(Anmeldung!$B$19&": "&Anmeldung!$D$19&", "&Anmeldung!$E$19&" / "&Anmeldung!$G$19&" / "&Anmeldung!$J$19)<>Anmeldung!$O$29),Anmeldung!$B$19&": "&Anmeldung!$D$19&", "&Anmeldung!$E$19&" / "&Anmeldung!$G$19&" / "&Anmeldung!$J$19,"") | CN6: =IF(AND(12<>22,Anmeldung!$D$19<>"",Anmeldung!$G$19<>Anmeldung!$G$29,(Anmeldung!$B$19&": "&Anmeldung!$D$19&", "&Anmeldung!$E$19&" / "&Anmeldung!$G$19&" / "&Anmeldung!$J$19)<>Anmeldung!$S$29),Anmeldung!$B$19&": "&Anmeldung!$D$19&", "&Anmeldung!$E$19&" / "&Anmeldung!$G$19&" / "&Anmeldung!$J$19,"") | CO6: =IF(AND(12<>22,Anmeldung!$D$19<>"",(Anmeldung!$B$19&": "&Anmeldung!$D$19&", "&Anmeldung!$E$19&" / "&Anmeldung!$G$19&" / "&Anmeldung!$J$19)<>Anmeldung!$R$29),Anmeldung!$B$19&": "&Anmeldung!$D$19&", "&Anmeldung!$E$19&" / "&Anmeldung!$G$19&" / "&Anmeldung!$J$19,"") | CP6: =IF(AND(11<>21,Anmeldung!$D$19<>"",Anmeldung!$U$19="Ja",Anmeldung!$G$19=Anmeldung!$G$29,Anmeldung!$J$19=Anmeldung!$J$29),Anmeldung!$B$19&": "&Anmeldung!$D$19&", "&Anmeldung!$E$19&" / "&Anmeldung!$G$19&" / "&Anmeldung!$J$19,"") | CS6: =IF(AND(12<>23,Anmeldung!$D$19<>"",Anmeldung!$G$19=Anmeldung!$G$30,Anmeldung!$J$19=Anmeldung!$J$30),Anmeldung!$B$19&": "&Anmeldung!$D$19&", "&Anmeldung!$E$19&" / "&Anmeldung!$G$19&" / "&Anmeldung!$J$19,"") | CT6: =IF(AND(12<>23,Anmeldung!$D$19<>"",Anmeldung!$G$19=Anmeldung!$G$30,Anmeldung!$J$19=Anmeldung!$J$30,(Anmeldung!$B$19&": "&Anmeldung!$D$19&", "&Anmeldung!$E$19&" / "&Anmeldung!$G$19&" / "&Anmeldung!$J$19)<>Anmeldung!$P$30),Anmeldung!$B$19&": "&Anmeldung!$D$19&", "&Anmeldung!$E$19&" / "&Anmeldung!$G$19&" / "&Anmeldung!$J$19,"") | CU6: =IF(AND(12<>23,Anmeldung!$D$19<>"",Anmeldung!$G$19=Anmeldung!$G$30,Anmeldung!$J$19=Anmeldung!$J$30,(Anmeldung!$B$19&": "&Anmeldung!$D$19&", "&Anmeldung!$E$19&" / "&Anmeldung!$G$19&" / "&Anmeldung!$J$19)<>Anmeldung!$O$30),Anmeldung!$B$19&": "&Anmeldung!$D$19&", "&Anmeldung!$E$19&" / "&Anmeldung!$G$19&" / "&Anmeldung!$J$19,"") | CV6: =IF(AND(12<>23,Anmeldung!$D$19<>"",Anmeldung!$G$19<>Anmeldung!$G$30,(Anmeldung!$B$19&": "&Anmeldung!$D$19&", "&Anmeldung!$E$19&" / "&Anmeldung!$G$19&" / "&Anmeldung!$J$19)<>Anmeldung!$S$30),Anmeldung!$B$19&": "&Anmeldung!$D$19&", "&Anmeldung!$E$19&" / "&Anmeldung!$G$19&" / "&Anmeldung!$J$19,"") | CW6: =IF(AND(12<>23,Anmeldung!$D$19<>"",(Anmeldung!$B$19&": "&Anmeldung!$D$19&", "&Anmeldung!$E$19&" / "&Anmeldung!$G$19&" / "&Anmeldung!$J$19)<>Anmeldung!$R$30),Anmeldung!$B$19&": "&Anmeldung!$D$19&", "&Anmeldung!$E$19&" / "&Anmeldung!$G$19&" / "&Anmeldung!$J$19,"") | CX6: =IF(AND(11<>22,Anmeldung!$D$19<>"",Anmeldung!$U$19="Ja",Anmeldung!$G$19=Anmeldung!$G$30,Anmeldung!$J$19=Anmeldung!$J$30),Anmeldung!$B$19&": "&Anmeldung!$D$19&", "&Anmeldung!$E$19&" / "&Anmeldung!$G$19&" / "&Anmeldung!$J$19,"") | DA6: =IF(AND(12<>24,Anmeldung!$D$19<>"",Anmeldung!$G$19=Anmeldung!$G$31,Anmeldung!$J$19=Anmeldung!$J$31),Anmeldung!$B$19&": "&Anmeldung!$D$19&", "&Anmeldung!$E$19&" / "&Anmeldung!$G$19&" / "&Anmeldung!$J$19,"") | DB6: =IF(AND(12<>24,Anmeldung!$D$19<>"",Anmeldung!$G$19=Anmeldung!$G$31,Anmeldung!$J$19=Anmeldung!$J$31,(Anmeldung!$B$19&": "&Anmeldung!$D$19&", "&Anmeldung!$E$19&" / "&Anmeldung!$G$19&" / "&Anmeldung!$J$19)<>Anmeldung!$P$31),Anmeldung!$B$19&": "&Anmeldung!$D$19&", "&Anmeldung!$E$19&" / "&Anmeldung!$G$19&" / "&Anmeldung!$J$19,"") | DC6: =IF(AND(12<>24,Anmeldung!$D$19<>"",Anmeldung!$G$19=Anmeldung!$G$31,Anmeldung!$J$19=Anmeldung!$J$31,(Anmeldung!$B$19&": "&Anmeldung!$D$19&", "&Anmeldung!$E$19&" / "&Anmeldung!$G$19&" / "&Anmeldung!$J$19)<>Anmeldung!$O$31),Anmeldung!$B$19&": "&Anmeldung!$D$19&", "&Anmeldung!$E$19&" / "&Anmeldung!$G$19&" / "&Anmeldung!$J$19,"") | DD6: =IF(AND(12<>24,Anmeldung!$D$19<>"",Anmeldung!$G$19<>Anmeldung!$G$31,(Anmeldung!$B$19&": "&Anmeldung!$D$19&", "&Anmeldung!$E$19&" / "&Anmeldung!$G$19&" / "&Anmeldung!$J$19)<>Anmeldung!$S$31),Anmeldung!$B$19&": "&Anmeldung!$D$19&", "&Anmeldung!$E$19&" / "&Anmeldung!$G$19&" / "&Anmeldung!$J$19,"") | DE6: =IF(AND(12<>24,Anmeldung!$D$19<>"",(Anmeldung!$B$19&": "&Anmeldung!$D$19&", "&Anmeldung!$E$19&" / "&Anmeldung!$G$19&" / "&Anmeldung!$J$19)<>Anmeldung!$R$31),Anmeldung!$B$19&": "&Anmeldung!$D$19&", "&Anmeldung!$E$19&" / "&Anmeldung!$G$19&" / "&Anmeldung!$J$19,"") | DF6: =IF(AND(11<>23,Anmeldung!$D$19<>"",Anmeldung!$U$19="Ja",Anmeldung!$G$19=Anmeldung!$G$31,Anmeldung!$J$19=Anmeldung!$J$31),Anmeldung!$B$19&": "&Anmeldung!$D$19&", "&Anmeldung!$E$19&" / "&Anmeldung!$G$19&" / "&Anmeldung!$J$19,"") | DI6: =IF(AND(12<>25,Anmeldung!$D$19<>"",Anmeldung!$G$19=Anmeldung!$G$32,Anmeldung!$J$19=Anmeldung!$J$32),Anmeldung!$B$19&": "&Anmeldung!$D$19&", "&Anmeldung!$E$19&" / "&Anmeldung!$G$19&" / "&Anmeldung!$J$19,"") | DJ6: =IF(AND(12<>25,Anmeldung!$D$19<>"",Anmeldung!$G$19=Anmeldung!$G$32,Anmeldung!$J$19=Anmeldung!$J$32,(Anmeldung!$B$19&": "&Anmeldung!$D$19&", "&Anmeldung!$E$19&" / "&Anmeldung!$G$19&" / "&Anmeldung!$J$19)<>Anmeldung!$P$32),Anmeldung!$B$19&": "&Anmeldung!$D$19&", "&Anmeldung!$E$19&" / "&Anmeldung!$G$19&" / "&Anmeldung!$J$19,"") | DK6: =IF(AND(12<>25,Anmeldung!$D$19<>"",Anmeldung!$G$19=Anmeldung!$G$32,Anmeldung!$J$19=Anmeldung!$J$32,(Anmeldung!$B$19&": "&Anmeldung!$D$19&", "&Anmeldung!$E$19&" / "&Anmeldung!$G$19&" / "&Anmeldung!$J$19)<>Anmeldung!$O$32),Anmeldung!$B$19&": "&Anmeldung!$D$19&", "&Anmeldung!$E$19&" / "&Anmeldung!$G$19&" / "&Anmeldung!$J$19,"") | DL6: =IF(AND(12<>25,Anmeldung!$D$19<>"",Anmeldung!$G$19<>Anmeldung!$G$32,(Anmeldung!$B$19&": "&Anmeldung!$D$19&", "&Anmeldung!$E$19&" / "&Anmeldung!$G$19&" / "&Anmeldung!$J$19)<>Anmeldung!$S$32),Anmeldung!$B$19&": "&Anmeldung!$D$19&", "&Anmeldung!$E$19&" / "&Anmeldung!$G$19&" / "&Anmeldung!$J$19,"") | DM6: =IF(AND(12<>25,Anmeldung!$D$19<>"",(Anmeldung!$B$19&": "&Anmeldung!$D$19&", "&Anmeldung!$E$19&" / "&Anmeldung!$G$19&" / "&Anmeldung!$J$19)<>Anmeldung!$R$32),Anmeldung!$B$19&": "&Anmeldung!$D$19&", "&Anmeldung!$E$19&" / "&Anmeldung!$G$19&" / "&Anmeldung!$J$19,"") | DN6: =IF(AND(11<>24,Anmeldung!$D$19<>"",Anmeldung!$U$19="Ja",Anmeldung!$G$19=Anmeldung!$G$32,Anmeldung!$J$19=Anmeldung!$J$32),Anmeldung!$B$19&": "&Anmeldung!$D$19&", "&Anmeldung!$E$19&" / "&Anmeldung!$G$19&" / "&Anmeldung!$J$19,"") | DQ6: =IF(AND(12<>26,Anmeldung!$D$19<>"",Anmeldung!$G$19=Anmeldung!$G$33,Anmeldung!$J$19=Anmeldung!$J$33),Anmeldung!$B$19&": "&Anmeldung!$D$19&", "&Anmeldung!$E$19&" / "&Anmeldung!$G$19&" / "&Anmeldung!$J$19,"") | DR6: =IF(AND(12<>26,Anmeldung!$D$19<>"",Anmeldung!$G$19=Anmeldung!$G$33,Anmeldung!$J$19=Anmeldung!$J$33,(Anmeldung!$B$19&": "&Anmeldung!$D$19&", "&Anmeldung!$E$19&" / "&Anmeldung!$G$19&" / "&Anmeldung!$J$19)<>Anmeldung!$P$33),Anmeldung!$B$19&": "&Anmeldung!$D$19&", "&Anmeldung!$E$19&" / "&Anmeldung!$G$19&" / "&Anmeldung!$J$19,"") | DS6: =IF(AND(12<>26,Anmeldung!$D$19<>"",Anmeldung!$G$19=Anmeldung!$G$33,Anmeldung!$J$19=Anmeldung!$J$33,(Anmeldung!$B$19&": "&Anmeldung!$D$19&", "&Anmeldung!$E$19&" / "&Anmeldung!$G$19&" / "&Anmeldung!$J$19)<>Anmeldung!$O$33),Anmeldung!$B$19&": "&Anmeldung!$D$19&", "&Anmeldung!$E$19&" / "&Anmeldung!$G$19&" / "&Anmeldung!$J$19,"") | DT6: =IF(AND(12<>26,Anmeldung!$D$19<>"",Anmeldung!$G$19<>Anmeldung!$G$33,(Anmeldung!$B$19&": "&Anmeldung!$D$19&", "&Anmeldung!$E$19&" / "&Anmeldung!$G$19&" / "&Anmeldung!$J$19)<>Anmeldung!$S$33),Anmeldung!$B$19&": "&Anmeldung!$D$19&", "&Anmeldung!$E$19&" / "&Anmeldung!$G$19&" / "&Anmeldung!$J$19,"") | DU6: =IF(AND(12<>26,Anmeldung!$D$19<>"",(Anmeldung!$B$19&": "&Anmeldung!$D$19&", "&Anmeldung!$E$19&" / "&Anmeldung!$G$19&" / "&Anmeldung!$J$19)<>Anmeldung!$R$33),Anmeldung!$B$19&": "&Anmeldung!$D$19&", "&Anmeldung!$E$19&" / "&Anmeldung!$G$19&" / "&Anmeldung!$J$19,"") | DV6: =IF(AND(11<>25,Anmeldung!$D$19<>"",Anmeldung!$U$19="Ja",Anmeldung!$G$19=Anmeldung!$G$33,Anmeldung!$J$19=Anmeldung!$J$33),Anmeldung!$B$19&": "&Anmeldung!$D$19&", "&Anmeldung!$E$19&" / "&Anmeldung!$G$19&" / "&Anmeldung!$J$19,"") | DY6: =IF(AND(12<>27,Anmeldung!$D$19<>"",Anmeldung!$G$19=Anmeldung!$G$34,Anmeldung!$J$19=Anmeldung!$J$34),Anmeldung!$B$19&": "&Anmeldung!$D$19&", "&Anmeldung!$E$19&" / "&Anmeldung!$G$19&" / "&Anmeldung!$J$19,"") | DZ6: =IF(AND(12<>27,Anmeldung!$D$19<>"",Anmeldung!$G$19=Anmeldung!$G$34,Anmeldung!$J$19=Anmeldung!$J$34,(Anmeldung!$B$19&": "&Anmeldung!$D$19&", "&Anmeldung!$E$19&" / "&Anmeldung!$G$19&" / "&Anmeldung!$J$19)<>Anmeldung!$P$34),Anmeldung!$B$19&": "&Anmeldung!$D$19&", "&Anmeldung!$E$19&" / "&Anmeldung!$G$19&" / "&Anmeldung!$J$19,"") | EA6: =IF(AND(12<>27,Anmeldung!$D$19<>"",Anmeldung!$G$19=Anmeldung!$G$34,Anmeldung!$J$19=Anmeldung!$J$34,(Anmeldung!$B$19&": "&Anmeldung!$D$19&", "&Anmeldung!$E$19&" / "&Anmeldung!$G$19&" / "&Anmeldung!$J$19)<>Anmeldung!$O$34),Anmeldung!$B$19&": "&Anmeldung!$D$19&", "&Anmeldung!$E$19&" / "&Anmeldung!$G$19&" / "&Anmeldung!$J$19,"") | EB6: =IF(AND(12<>27,Anmeldung!$D$19<>"",Anmeldung!$G$19<>Anmeldung!$G$34,(Anmeldung!$B$19&": "&Anmeldung!$D$19&", "&Anmeldung!$E$19&" / "&Anmeldung!$G$19&" / "&Anmeldung!$J$19)<>Anmeldung!$S$34),Anmeldung!$B$19&": "&Anmeldung!$D$19&", "&Anmeldung!$E$19&" / "&Anmeldung!$G$19&" / "&Anmeldung!$J$19,"") | EC6: =IF(AND(12<>27,Anmeldung!$D$19<>"",(Anmeldung!$B$19&": "&Anmeldung!$D$19&", "&Anmeldung!$E$19&" / "&Anmeldung!$G$19&" / "&Anmeldung!$J$19)<>Anmeldung!$R$34),Anmeldung!$B$19&": "&Anmeldung!$D$19&", "&Anmeldung!$E$19&" / "&Anmeldung!$G$19&" / "&Anmeldung!$J$19,"") | ED6: =IF(AND(11<>26,Anmeldung!$D$19<>"",Anmeldung!$U$19="Ja",Anmeldung!$G$19=Anmeldung!$G$34,Anmeldung!$J$19=Anmeldung!$J$34),Anmeldung!$B$19&": "&Anmeldung!$D$19&", "&Anmeldung!$E$19&" / "&Anmeldung!$G$19&" / "&Anmeldung!$J$19,"") | EG6: =IF(AND(12<>28,Anmeldung!$D$19<>"",Anmeldung!$G$19=Anmeldung!$G$35,Anmeldung!$J$19=Anmeldung!$J$35),Anmeldung!$B$19&": "&Anmeldung!$D$19&", "&Anmeldung!$E$19&" / "&Anmeldung!$G$19&" / "&Anmeldung!$J$19,"") | EH6: =IF(AND(12<>28,Anmeldung!$D$19<>"",Anmeldung!$G$19=Anmeldung!$G$35,Anmeldung!$J$19=Anmeldung!$J$35,(Anmeldung!$B$19&": "&Anmeldung!$D$19&", "&Anmeldung!$E$19&" / "&Anmeldung!$G$19&" / "&Anmeldung!$J$19)<>Anmeldung!$P$35),Anmeldung!$B$19&": "&Anmeldung!$D$19&", "&Anmeldung!$E$19&" / "&Anmeldung!$G$19&" / "&Anmeldung!$J$19,"") | EI6: =IF(AND(12<>28,Anmeldung!$D$19<>"",Anmeldung!$G$19=Anmeldung!$G$35,Anmeldung!$J$19=Anmeldung!$J$35,(Anmeldung!$B$19&": "&Anmeldung!$D$19&", "&Anmeldung!$E$19&" / "&Anmeldung!$G$19&" / "&Anmeldung!$J$19)<>Anmeldung!$O$35),Anmeldung!$B$19&": "&Anmeldung!$D$19&", "&Anmeldung!$E$19&" / "&Anmeldung!$G$19&" / "&Anmeldung!$J$19,"") | EJ6: =IF(AND(12<>28,Anmeldung!$D$19<>"",Anmeldung!$G$19<>Anmeldung!$G$35,(Anmeldung!$B$19&": "&Anmeldung!$D$19&", "&Anmeldung!$E$19&" / "&Anmeldung!$G$19&" / "&Anmeldung!$J$19)<>Anmeldung!$S$35),Anmeldung!$B$19&": "&Anmeldung!$D$19&", "&Anmeldung!$E$19&" / "&Anmeldung!$G$19&" / "&Anmeldung!$J$19,"") | EK6: =IF(AND(12<>28,Anmeldung!$D$19<>"",(Anmeldung!$B$19&": "&Anmeldung!$D$19&", "&Anmeldung!$E$19&" / "&Anmeldung!$G$19&" / "&Anmeldung!$J$19)<>Anmeldung!$R$35),Anmeldung!$B$19&": "&Anmeldung!$D$19&", "&Anmeldung!$E$19&" / "&Anmeldung!$G$19&" / "&Anmeldung!$J$19,"") | EL6: =IF(AND(11<>27,Anmeldung!$D$19<>"",Anmeldung!$U$19="Ja",Anmeldung!$G$19=Anmeldung!$G$35,Anmeldung!$J$19=Anmeldung!$J$35),Anmeldung!$B$19&": "&Anmeldung!$D$19&", "&Anmeldung!$E$19&" / "&Anmeldung!$G$19&" / "&Anmeldung!$J$19,"") | EO6: =IF(AND(12<>29,Anmeldung!$D$19<>"",Anmeldung!$G$19=Anmeldung!$G$36,Anmeldung!$J$19=Anmeldung!$J$36),Anmeldung!$B$19&": "&Anmeldung!$D$19&", "&Anmeldung!$E$19&" / "&Anmeldung!$G$19&" / "&Anmeldung!$J$19,"") | EP6: =IF(AND(12<>29,Anmeldung!$D$19<>"",Anmeldung!$G$19=Anmeldung!$G$36,Anmeldung!$J$19=Anmeldung!$J$36,(Anmeldung!$B$19&": "&Anmeldung!$D$19&", "&Anmeldung!$E$19&" / "&Anmeldung!$G$19&" / "&Anmeldung!$J$19)<>Anmeldung!$P$36),Anmeldung!$B$19&": "&Anmeldung!$D$19&", "&Anmeldung!$E$19&" / "&Anmeldung!$G$19&" / "&Anmeldung!$J$19,"") | EQ6: =IF(AND(12<>29,Anmeldung!$D$19<>"",Anmeldung!$G$19=Anmeldung!$G$36,Anmeldung!$J$19=Anmeldung!$J$36,(Anmeldung!$B$19&": "&Anmeldung!$D$19&", "&Anmeldung!$E$19&" / "&Anmeldung!$G$19&" / "&Anmeldung!$J$19)<>Anmeldung!$O$36),Anmeldung!$B$19&": "&Anmeldung!$D$19&", "&Anmeldung!$E$19&" / "&Anmeldung!$G$19&" / "&Anmeldung!$J$19,"") | ER6: =IF(AND(12<>29,Anmeldung!$D$19<>"",Anmeldung!$G$19<>Anmeldung!$G$36,(Anmeldung!$B$19&": "&Anmeldung!$D$19&", "&Anmeldung!$E$19&" / "&Anmeldung!$G$19&" / "&Anmeldung!$J$19)<>Anmeldung!$S$36),Anmeldung!$B$19&": "&Anmeldung!$D$19&", "&Anmeldung!$E$19&" / "&Anmeldung!$G$19&" / "&Anmeldung!$J$19,"") | ES6: =IF(AND(12<>29,Anmeldung!$D$19<>"",(Anmeldung!$B$19&": "&Anmeldung!$D$19&", "&Anmeldung!$E$19&" / "&Anmeldung!$G$19&" / "&Anmeldung!$J$19)<>Anmeldung!$R$36),Anmeldung!$B$19&": "&Anmeldung!$D$19&", "&Anmeldung!$E$19&" / "&Anmeldung!$G$19&" / "&Anmeldung!$J$19,"") | ET6: =IF(AND(11<>28,Anmeldung!$D$19<>"",Anmeldung!$U$19="Ja",Anmeldung!$G$19=Anmeldung!$G$36,Anmeldung!$J$19=Anmeldung!$J$36),Anmeldung!$B$19&": "&Anmeldung!$D$19&", "&Anmeldung!$E$19&" / "&Anmeldung!$G$19&" / "&Anmeldung!$J$19,"") | EW6: =IF(AND(12<>30,Anmeldung!$D$19<>"",Anmeldung!$G$19=Anmeldung!$G$37,Anmeldung!$J$19=Anmeldung!$J$37),Anmeldung!$B$19&": "&Anmeldung!$D$19&", "&Anmeldung!$E$19&" / "&Anmeldung!$G$19&" / "&Anmeldung!$J$19,"") | EX6: =IF(AND(12<>30,Anmeldung!$D$19<>"",Anmeldung!$G$19=Anmeldung!$G$37,Anmeldung!$J$19=Anmeldung!$J$37,(Anmeldung!$B$19&": "&Anmeldung!$D$19&", "&Anmeldung!$E$19&" / "&Anmeldung!$G$19&" / "&Anmeldung!$J$19)<>Anmeldung!$P$37),Anmeldung!$B$19&": "&Anmeldung!$D$19&", "&Anmeldung!$E$19&" / "&Anmeldung!$G$19&" / "&Anmeldung!$J$19,"") | EY6: =IF(AND(12<>30,Anmeldung!$D$19<>"",Anmeldung!$G$19=Anmeldung!$G$37,Anmeldung!$J$19=Anmeldung!$J$37,(Anmeldung!$B$19&": "&Anmeldung!$D$19&", "&Anmeldung!$E$19&" / "&Anmeldung!$G$19&" / "&Anmeldung!$J$19)<>Anmeldung!$O$37),Anmeldung!$B$19&": "&Anmeldung!$D$19&", "&Anmeldung!$E$19&" / "&Anmeldung!$G$19&" / "&Anmeldung!$J$19,"") | EZ6: =IF(AND(12<>30,Anmeldung!$D$19<>"",Anmeldung!$G$19<>Anmeldung!$G$37,(Anmeldung!$B$19&": "&Anmeldung!$D$19&", "&Anmeldung!$E$19&" / "&Anmeldung!$G$19&" / "&Anmeldung!$J$19)<>Anmeldung!$S$37),Anmeldung!$B$19&": "&Anmeldung!$D$19&", "&Anmeldung!$E$19&" / "&Anmeldung!$G$19&" / "&Anmeldung!$J$19,"") | FA6: =IF(AND(12<>30,Anmeldung!$D$19<>"",(Anmeldung!$B$19&": "&Anmeldung!$D$19&", "&Anmeldung!$E$19&" / "&Anmeldung!$G$19&" / "&Anmeldung!$J$19)<>Anmeldung!$R$37),Anmeldung!$B$19&": "&Anmeldung!$D$19&", "&Anmeldung!$E$19&" / "&Anmeldung!$G$19&" / "&Anmeldung!$J$19,"") | FB6: =IF(AND(11<>29,Anmeldung!$D$19<>"",Anmeldung!$U$19="Ja",Anmeldung!$G$19=Anmeldung!$G$37,Anmeldung!$J$19=Anmeldung!$J$37),Anmeldung!$B$19&": "&Anmeldung!$D$19&", "&Anmeldung!$E$19&" / "&Anmeldung!$G$19&" / "&Anmeldung!$J$19,"") | FE6: =IF(AND(12<>31,Anmeldung!$D$19<>"",Anmeldung!$G$19=Anmeldung!$G$38,Anmeldung!$J$19=Anmeldung!$J$38),Anmeldung!$B$19&": "&Anmeldung!$D$19&", "&Anmeldung!$E$19&" / "&Anmeldung!$G$19&" / "&Anmeldung!$J$19,"") | FF6: =IF(AND(12<>31,Anmeldung!$D$19<>"",Anmeldung!$G$19=Anmeldung!$G$38,Anmeldung!$J$19=Anmeldung!$J$38,(Anmeldung!$B$19&": "&Anmeldung!$D$19&", "&Anmeldung!$E$19&" / "&Anmeldung!$G$19&" / "&Anmeldung!$J$19)<>Anmeldung!$P$38),Anmeldung!$B$19&": "&Anmeldung!$D$19&", "&Anmeldung!$E$19&" / "&Anmeldung!$G$19&" / "&Anmeldung!$J$19,"") | FG6: =IF(AND(12<>31,Anmeldung!$D$19<>"",Anmeldung!$G$19=Anmeldung!$G$38,Anmeldung!$J$19=Anmeldung!$J$38,(Anmeldung!$B$19&": "&Anmeldung!$D$19&", "&Anmeldung!$E$19&" / "&Anmeldung!$G$19&" / "&Anmeldung!$J$19)<>Anmeldung!$O$38),Anmeldung!$B$19&": "&Anmeldung!$D$19&", "&Anmeldung!$E$19&" / "&Anmeldung!$G$19&" / "&Anmeldung!$J$19,"") | FH6: =IF(AND(12<>31,Anmeldung!$D$19<>"",Anmeldung!$G$19<>Anmeldung!$G$38,(Anmeldung!$B$19&": "&Anmeldung!$D$19&", "&Anmeldung!$E$19&" / "&Anmeldung!$G$19&" / "&Anmeldung!$J$19)<>Anmeldung!$S$38),Anmeldung!$B$19&": "&Anmeldung!$D$19&", "&Anmeldung!$E$19&" / "&Anmeldung!$G$19&" / "&Anmeldung!$J$19,"") | FI6: =IF(AND(12<>31,Anmeldung!$D$19<>"",(Anmeldung!$B$19&": "&Anmeldung!$D$19&", "&Anmeldung!$E$19&" / "&Anmeldung!$G$19&" / "&Anmeldung!$J$19)<>Anmeldung!$R$38),Anmeldung!$B$19&": "&Anmeldung!$D$19&", "&Anmeldung!$E$19&" / "&Anmeldung!$G$19&" / "&Anmeldung!$J$19,"") | FJ6: =IF(AND(11<>30,Anmeldung!$D$19<>"",Anmeldung!$U$19="Ja",Anmeldung!$G$19=Anmeldung!$G$38,Anmeldung!$J$19=Anmeldung!$J$38),Anmeldung!$B$19&": "&Anmeldung!$D$19&", "&Anmeldung!$E$19&" / "&Anmeldung!$G$19&" / "&Anmeldung!$J$19,"") | FM6: =IF(AND(12<>32,Anmeldung!$D$19<>"",Anmeldung!$G$19=Anmeldung!$G$39,Anmeldung!$J$19=Anmeldung!$J$39),Anmeldung!$B$19&": "&Anmeldung!$D$19&", "&Anmeldung!$E$19&" / "&Anmeldung!$G$19&" / "&Anmeldung!$J$19,"") | FN6: =IF(AND(12<>32,Anmeldung!$D$19<>"",Anmeldung!$G$19=Anmeldung!$G$39,Anmeldung!$J$19=Anmeldung!$J$39,(Anmeldung!$B$19&": "&Anmeldung!$D$19&", "&Anmeldung!$E$19&" / "&Anmeldung!$G$19&" / "&Anmeldung!$J$19)<>Anmeldung!$P$39),Anmeldung!$B$19&": "&Anmeldung!$D$19&", "&Anmeldung!$E$19&" / "&Anmeldung!$G$19&" / "&Anmeldung!$J$19,"") | FO6: =IF(AND(12<>32,Anmeldung!$D$19<>"",Anmeldung!$G$19=Anmeldung!$G$39,Anmeldung!$J$19=Anmeldung!$J$39,(Anmeldung!$B$19&": "&Anmeldung!$D$19&", "&Anmeldung!$E$19&" / "&Anmeldung!$G$19&" / "&Anmeldung!$J$19)<>Anmeldung!$O$39),Anmeldung!$B$19&": "&Anmeldung!$D$19&", "&Anmeldung!$E$19&" / "&Anmeldung!$G$19&" / "&Anmeldung!$J$19,"") | FP6: =IF(AND(12<>32,Anmeldung!$D$19<>"",Anmeldung!$G$19<>Anmeldung!$G$39,(Anmeldung!$B$19&": "&Anmeldung!$D$19&", "&Anmeldung!$E$19&" / "&Anmeldung!$G$19&" / "&Anmeldung!$J$19)<>Anmeldung!$S$39),Anmeldung!$B$19&": "&Anmeldung!$D$19&", "&Anmeldung!$E$19&" / "&Anmeldung!$G$19&" / "&Anmeldung!$J$19,"") | FQ6: =IF(AND(12<>32,Anmeldung!$D$19<>"",(Anmeldung!$B$19&": "&Anmeldung!$D$19&", "&Anmeldung!$E$19&" / "&Anmeldung!$G$19&" / "&Anmeldung!$J$19)<>Anmeldung!$R$39),Anmeldung!$B$19&": "&Anmeldung!$D$19&", "&Anmeldung!$E$19&" / "&Anmeldung!$G$19&" / "&Anmeldung!$J$19,"") | FR6: =IF(AND(11<>31,Anmeldung!$D$19<>"",Anmeldung!$U$19="Ja",Anmeldung!$G$19=Anmeldung!$G$39,Anmeldung!$J$19=Anmeldung!$J$39),Anmeldung!$B$19&": "&Anmeldung!$D$19&", "&Anmeldung!$E$19&" / "&Anmeldung!$G$19&" / "&Anmeldung!$J$19,"") | FU6: =IF(AND(12<>33,Anmeldung!$D$19<>"",Anmeldung!$G$19=Anmeldung!$G$40,Anmeldung!$J$19=Anmeldung!$J$40),Anmeldung!$B$19&": "&Anmeldung!$D$19&", "&Anmeldung!$E$19&" / "&Anmeldung!$G$19&" / "&Anmeldung!$J$19,"") | FV6: =IF(AND(12<>33,Anmeldung!$D$19<>"",Anmeldung!$G$19=Anmeldung!$G$40,Anmeldung!$J$19=Anmeldung!$J$40,(Anmeldung!$B$19&": "&Anmeldung!$D$19&", "&Anmeldung!$E$19&" / "&Anmeldung!$G$19&" / "&Anmeldung!$J$19)<>Anmeldung!$P$40),Anmeldung!$B$19&": "&Anmeldung!$D$19&", "&Anmeldung!$E$19&" / "&Anmeldung!$G$19&" / "&Anmeldung!$J$19,"") | FW6: =IF(AND(12<>33,Anmeldung!$D$19<>"",Anmeldung!$G$19=Anmeldung!$G$40,Anmeldung!$J$19=Anmeldung!$J$40,(Anmeldung!$B$19&": "&Anmeldung!$D$19&", "&Anmeldung!$E$19&" / "&Anmeldung!$G$19&" / "&Anmeldung!$J$19)<>Anmeldung!$O$40),Anmeldung!$B$19&": "&Anmeldung!$D$19&", "&Anmeldung!$E$19&" / "&Anmeldung!$G$19&" / "&Anmeldung!$J$19,"") | FX6: =IF(AND(12<>33,Anmeldung!$D$19<>"",Anmeldung!$G$19<>Anmeldung!$G$40,(Anmeldung!$B$19&": "&Anmeldung!$D$19&", "&Anmeldung!$E$19&" / "&Anmeldung!$G$19&" / "&Anmeldung!$J$19)<>Anmeldung!$S$40),Anmeldung!$B$19&": "&Anmeldung!$D$19&", "&Anmeldung!$E$19&" / "&Anmeldung!$G$19&" / "&Anmeldung!$J$19,"") | FY6: =IF(AND(12<>33,Anmeldung!$D$19<>"",(Anmeldung!$B$19&": "&Anmeldung!$D$19&", "&Anmeldung!$E$19&" / "&Anmeldung!$G$19&" / "&Anmeldung!$J$19)<>Anmeldung!$R$40),Anmeldung!$B$19&": "&Anmeldung!$D$19&", "&Anmeldung!$E$19&" / "&Anmeldung!$G$19&" / "&Anmeldung!$J$19,"") | FZ6: =IF(AND(11<>32,Anmeldung!$D$19<>"",Anmeldung!$U$19="Ja",Anmeldung!$G$19=Anmeldung!$G$40,Anmeldung!$J$19=Anmeldung!$J$40),Anmeldung!$B$19&": "&Anmeldung!$D$19&", "&Anmeldung!$E$19&" / "&Anmeldung!$G$19&" / "&Anmeldung!$J$19,"") | GC6: =IF(AND(12<>34,Anmeldung!$D$19<>"",Anmeldung!$G$19=Anmeldung!$G$41,Anmeldung!$J$19=Anmeldung!$J$41),Anmeldung!$B$19&": "&Anmeldung!$D$19&", "&Anmeldung!$E$19&" / "&Anmeldung!$G$19&" / "&Anmeldung!$J$19,"") | GD6: =IF(AND(12<>34,Anmeldung!$D$19<>"",Anmeldung!$G$19=Anmeldung!$G$41,Anmeldung!$J$19=Anmeldung!$J$41,(Anmeldung!$B$19&": "&Anmeldung!$D$19&", "&Anmeldung!$E$19&" / "&Anmeldung!$G$19&" / "&Anmeldung!$J$19)<>Anmeldung!$P$41),Anmeldung!$B$19&": "&Anmeldung!$D$19&", "&Anmeldung!$E$19&" / "&Anmeldung!$G$19&" / "&Anmeldung!$J$19,"") | GE6: =IF(AND(12<>34,Anmeldung!$D$19<>"",Anmeldung!$G$19=Anmeldung!$G$41,Anmeldung!$J$19=Anmeldung!$J$41,(Anmeldung!$B$19&": "&Anmeldung!$D$19&", "&Anmeldung!$E$19&" / "&Anmeldung!$G$19&" / "&Anmeldung!$J$19)<>Anmeldung!$O$41),Anmeldung!$B$19&": "&Anmeldung!$D$19&", "&Anmeldung!$E$19&" / "&Anmeldung!$G$19&" / "&Anmeldung!$J$19,"") | GF6: =IF(AND(12<>34,Anmeldung!$D$19<>"",Anmeldung!$G$19<>Anmeldung!$G$41,(Anmeldung!$B$19&": "&Anmeldung!$D$19&", "&Anmeldung!$E$19&" / "&Anmeldung!$G$19&" / "&Anmeldung!$J$19)<>Anmeldung!$S$41),Anmeldung!$B$19&": "&Anmeldung!$D$19&", "&Anmeldung!$E$19&" / "&Anmeldung!$G$19&" / "&Anmeldung!$J$19,"") | GG6: =IF(AND(12<>34,Anmeldung!$D$19<>"",(Anmeldung!$B$19&": "&Anmeldung!$D$19&", "&Anmeldung!$E$19&" / "&Anmeldung!$G$19&" / "&Anmeldung!$J$19)<>Anmeldung!$R$41),Anmeldung!$B$19&": "&Anmeldung!$D$19&", "&Anmeldung!$E$19&" / "&Anmeldung!$G$19&" / "&Anmeldung!$J$19,"") | GH6: =IF(AND(11<>33,Anmeldung!$D$19<>"",Anmeldung!$U$19="Ja",Anmeldung!$G$19=Anmeldung!$G$41,Anmeldung!$J$19=Anmeldung!$J$41),Anmeldung!$B$19&": "&Anmeldung!$D$19&", "&Anmeldung!$E$19&" / "&Anmeldung!$G$19&" / "&Anmeldung!$J$19,"") | GK6: =IF(AND(12<>35,Anmeldung!$D$19<>"",Anmeldung!$G$19=Anmeldung!$G$42,Anmeldung!$J$19=Anmeldung!$J$42),Anmeldung!$B$19&": "&Anmeldung!$D$19&", "&Anmeldung!$E$19&" / "&Anmeldung!$G$19&" / "&Anmeldung!$J$19,"") | GL6: =IF(AND(12<>35,Anmeldung!$D$19<>"",Anmeldung!$G$19=Anmeldung!$G$42,Anmeldung!$J$19=Anmeldung!$J$42,(Anmeldung!$B$19&": "&Anmeldung!$D$19&", "&Anmeldung!$E$19&" / "&Anmeldung!$G$19&" / "&Anmeldung!$J$19)<>Anmeldung!$P$42),Anmeldung!$B$19&": "&Anmeldung!$D$19&", "&Anmeldung!$E$19&" / "&Anmeldung!$G$19&" / "&Anmeldung!$J$19,"") | GM6: =IF(AND(12<>35,Anmeldung!$D$19<>"",Anmeldung!$G$19=Anmeldung!$G$42,Anmeldung!$J$19=Anmeldung!$J$42,(Anmeldung!$B$19&": "&Anmeldung!$D$19&", "&Anmeldung!$E$19&" / "&Anmeldung!$G$19&" / "&Anmeldung!$J$19)<>Anmeldung!$O$42),Anmeldung!$B$19&": "&Anmeldung!$D$19&", "&Anmeldung!$E$19&" / "&Anmeldung!$G$19&" / "&Anmeldung!$J$19,"") | GN6: =IF(AND(12<>35,Anmeldung!$D$19<>"",Anmeldung!$G$19<>Anmeldung!$G$42,(Anmeldung!$B$19&": "&Anmeldung!$D$19&", "&Anmeldung!$E$19&" / "&Anmeldung!$G$19&" / "&Anmeldung!$J$19)<>Anmeldung!$S$42),Anmeldung!$B$19&": "&Anmeldung!$D$19&", "&Anmeldung!$E$19&" / "&Anmeldung!$G$19&" / "&Anmeldung!$J$19,"") | GO6: =IF(AND(12<>35,Anmeldung!$D$19<>"",(Anmeldung!$B$19&": "&Anmeldung!$D$19&", "&Anmeldung!$E$19&" / "&Anmeldung!$G$19&" / "&Anmeldung!$J$19)<>Anmeldung!$R$42),Anmeldung!$B$19&": "&Anmeldung!$D$19&", "&Anmeldung!$E$19&" / "&Anmeldung!$G$19&" / "&Anmeldung!$J$19,"") | GP6: =IF(AND(11<>34,Anmeldung!$D$19<>"",Anmeldung!$U$19="Ja",Anmeldung!$G$19=Anmeldung!$G$42,Anmeldung!$J$19=Anmeldung!$J$42),Anmeldung!$B$19&": "&Anmeldung!$D$19&", "&Anmeldung!$E$19&" / "&Anmeldung!$G$19&" / "&Anmeldung!$J$19,"") | GS6: =IF(AND(12<>36,Anmeldung!$D$19<>"",Anmeldung!$G$19=Anmeldung!$G$43,Anmeldung!$J$19=Anmeldung!$J$43),Anmeldung!$B$19&": "&Anmeldung!$D$19&", "&Anmeldung!$E$19&" / "&Anmeldung!$G$19&" / "&Anmeldung!$J$19,"") | GT6: =IF(AND(12<>36,Anmeldung!$D$19<>"",Anmeldung!$G$19=Anmeldung!$G$43,Anmeldung!$J$19=Anmeldung!$J$43,(Anmeldung!$B$19&": "&Anmeldung!$D$19&", "&Anmeldung!$E$19&" / "&Anmeldung!$G$19&" / "&Anmeldung!$J$19)<>Anmeldung!$P$43),Anmeldung!$B$19&": "&Anmeldung!$D$19&", "&Anmeldung!$E$19&" / "&Anmeldung!$G$19&" / "&Anmeldung!$J$19,"") | GU6: =IF(AND(12<>36,Anmeldung!$D$19<>"",Anmeldung!$G$19=Anmeldung!$G$43,Anmeldung!$J$19=Anmeldung!$J$43,(Anmeldung!$B$19&": "&Anmeldung!$D$19&", "&Anmeldung!$E$19&" / "&Anmeldung!$G$19&" / "&Anmeldung!$J$19)<>Anmeldung!$O$43),Anmeldung!$B$19&": "&Anmeldung!$D$19&", "&Anmeldung!$E$19&" / "&Anmeldung!$G$19&" / "&Anmeldung!$J$19,"") | GV6: =IF(AND(12<>36,Anmeldung!$D$19<>"",Anmeldung!$G$19<>Anmeldung!$G$43,(Anmeldung!$B$19&": "&Anmeldung!$D$19&", "&Anmeldung!$E$19&" / "&Anmeldung!$G$19&" / "&Anmeldung!$J$19)<>Anmeldung!$S$43),Anmeldung!$B$19&": "&Anmeldung!$D$19&", "&Anmeldung!$E$19&" / "&Anmeldung!$G$19&" / "&Anmeldung!$J$19,"") | GW6: =IF(AND(12<>36,Anmeldung!$D$19<>"",(Anmeldung!$B$19&": "&Anmeldung!$D$19&", "&Anmeldung!$E$19&" / "&Anmeldung!$G$19&" / "&Anmeldung!$J$19)<>Anmeldung!$R$43),Anmeldung!$B$19&": "&Anmeldung!$D$19&", "&Anmeldung!$E$19&" / "&Anmeldung!$G$19&" / "&Anmeldung!$J$19,"") | GX6: =IF(AND(11<>35,Anmeldung!$D$19<>"",Anmeldung!$U$19="Ja",Anmeldung!$G$19=Anmeldung!$G$43,Anmeldung!$J$19=Anmeldung!$J$43),Anmeldung!$B$19&": "&Anmeldung!$D$19&", "&Anmeldung!$E$19&" / "&Anmeldung!$G$19&" / "&Anmeldung!$J$19,"") | HA6: =IF(AND(12<>37,Anmeldung!$D$19<>"",Anmeldung!$G$19=Anmeldung!$G$44,Anmeldung!$J$19=Anmeldung!$J$44),Anmeldung!$B$19&": "&Anmeldung!$D$19&", "&Anmeldung!$E$19&" / "&Anmeldung!$G$19&" / "&Anmeldung!$J$19,"") | HB6: =IF(AND(12<>37,Anmeldung!$D$19<>"",Anmeldung!$G$19=Anmeldung!$G$44,Anmeldung!$J$19=Anmeldung!$J$44,(Anmeldung!$B$19&": "&Anmeldung!$D$19&", "&Anmeldung!$E$19&" / "&Anmeldung!$G$19&" / "&Anmeldung!$J$19)<>Anmeldung!$P$44),Anmeldung!$B$19&": "&Anmeldung!$D$19&", "&Anmeldung!$E$19&" / "&Anmeldung!$G$19&" / "&Anmeldung!$J$19,"") | HC6: =IF(AND(12<>37,Anmeldung!$D$19<>"",Anmeldung!$G$19=Anmeldung!$G$44,Anmeldung!$J$19=Anmeldung!$J$44,(Anmeldung!$B$19&": "&Anmeldung!$D$19&", "&Anmeldung!$E$19&" / "&Anmeldung!$G$19&" / "&Anmeldung!$J$19)<>Anmeldung!$O$44),Anmeldung!$B$19&": "&Anmeldung!$D$19&", "&Anmeldung!$E$19&" / "&Anmeldung!$G$19&" / "&Anmeldung!$J$19,"") | HD6: =IF(AND(12<>37,Anmeldung!$D$19<>"",Anmeldung!$G$19<>Anmeldung!$G$44,(Anmeldung!$B$19&": "&Anmeldung!$D$19&", "&Anmeldung!$E$19&" / "&Anmeldung!$G$19&" / "&Anmeldung!$J$19)<>Anmeldung!$S$44),Anmeldung!$B$19&": "&Anmeldung!$D$19&", "&Anmeldung!$E$19&" / "&Anmeldung!$G$19&" / "&Anmeldung!$J$19,"") | HE6: =IF(AND(12<>37,Anmeldung!$D$19<>"",(Anmeldung!$B$19&": "&Anmeldung!$D$19&", "&Anmeldung!$E$19&" / "&Anmeldung!$G$19&" / "&Anmeldung!$J$19)<>Anmeldung!$R$44),Anmeldung!$B$19&": "&Anmeldung!$D$19&", "&Anmeldung!$E$19&" / "&Anmeldung!$G$19&" / "&Anmeldung!$J$19,"") | HF6: =IF(AND(11<>36,Anmeldung!$D$19<>"",Anmeldung!$U$19="Ja",Anmeldung!$G$19=Anmeldung!$G$44,Anmeldung!$J$19=Anmeldung!$J$44),Anmeldung!$B$19&": "&Anmeldung!$D$19&", "&Anmeldung!$E$19&" / "&Anmeldung!$G$19&" / "&Anmeldung!$J$19,"") | HI6: =IF(AND(12<>38,Anmeldung!$D$19<>"",Anmeldung!$G$19=Anmeldung!$G$45,Anmeldung!$J$19=Anmeldung!$J$45),Anmeldung!$B$19&": "&Anmeldung!$D$19&", "&Anmeldung!$E$19&" / "&Anmeldung!$G$19&" / "&Anmeldung!$J$19,"") | HJ6: =IF(AND(12<>38,Anmeldung!$D$19<>"",Anmeldung!$G$19=Anmeldung!$G$45,Anmeldung!$J$19=Anmeldung!$J$45,(Anmeldung!$B$19&": "&Anmeldung!$D$19&", "&Anmeldung!$E$19&" / "&Anmeldung!$G$19&" / "&Anmeldung!$J$19)<>Anmeldung!$P$45),Anmeldung!$B$19&": "&Anmeldung!$D$19&", "&Anmeldung!$E$19&" / "&Anmeldung!$G$19&" / "&Anmeldung!$J$19,"") | HK6: =IF(AND(12<>38,Anmeldung!$D$19<>"",Anmeldung!$G$19=Anmeldung!$G$45,Anmeldung!$J$19=Anmeldung!$J$45,(Anmeldung!$B$19&": "&Anmeldung!$D$19&", "&Anmeldung!$E$19&" / "&Anmeldung!$G$19&" / "&Anmeldung!$J$19)<>Anmeldung!$O$45),Anmeldung!$B$19&": "&Anmeldung!$D$19&", "&Anmeldung!$E$19&" / "&Anmeldung!$G$19&" / "&Anmeldung!$J$19,"") | HL6: =IF(AND(12<>38,Anmeldung!$D$19<>"",Anmeldung!$G$19<>Anmeldung!$G$45,(Anmeldung!$B$19&": "&Anmeldung!$D$19&", "&Anmeldung!$E$19&" / "&Anmeldung!$G$19&" / "&Anmeldung!$J$19)<>Anmeldung!$S$45),Anmeldung!$B$19&": "&Anmeldung!$D$19&", "&Anmeldung!$E$19&" / "&Anmeldung!$G$19&" / "&Anmeldung!$J$19,"") | HM6: =IF(AND(12<>38,Anmeldung!$D$19<>"",(Anmeldung!$B$19&": "&Anmeldung!$D$19&", "&Anmeldung!$E$19&" / "&Anmeldung!$G$19&" / "&Anmeldung!$J$19)<>Anmeldung!$R$45),Anmeldung!$B$19&": "&Anmeldung!$D$19&", "&Anmeldung!$E$19&" / "&Anmeldung!$G$19&" / "&Anmeldung!$J$19,"") | HN6: =IF(AND(11<>37,Anmeldung!$D$19<>"",Anmeldung!$U$19="Ja",Anmeldung!$G$19=Anmeldung!$G$45,Anmeldung!$J$19=Anmeldung!$J$45),Anmeldung!$B$19&": "&Anmeldung!$D$19&", "&Anmeldung!$E$19&" / "&Anmeldung!$G$19&" / "&Anmeldung!$J$19,"") | HQ6: =IF(AND(12<>39,Anmeldung!$D$19<>"",Anmeldung!$G$19=Anmeldung!$G$46,Anmeldung!$J$19=Anmeldung!$J$46),Anmeldung!$B$19&": "&Anmeldung!$D$19&", "&Anmeldung!$E$19&" / "&Anmeldung!$G$19&" / "&Anmeldung!$J$19,"") | HR6: =IF(AND(12<>39,Anmeldung!$D$19<>"",Anmeldung!$G$19=Anmeldung!$G$46,Anmeldung!$J$19=Anmeldung!$J$46,(Anmeldung!$B$19&": "&Anmeldung!$D$19&", "&Anmeldung!$E$19&" / "&Anmeldung!$G$19&" / "&Anmeldung!$J$19)<>Anmeldung!$P$46),Anmeldung!$B$19&": "&Anmeldung!$D$19&", "&Anmeldung!$E$19&" / "&Anmeldung!$G$19&" / "&Anmeldung!$J$19,"") | HS6: =IF(AND(12<>39,Anmeldung!$D$19<>"",Anmeldung!$G$19=Anmeldung!$G$46,Anmeldung!$J$19=Anmeldung!$J$46,(Anmeldung!$B$19&": "&Anmeldung!$D$19&", "&Anmeldung!$E$19&" / "&Anmeldung!$G$19&" / "&Anmeldung!$J$19)<>Anmeldung!$O$46),Anmeldung!$B$19&": "&Anmeldung!$D$19&", "&Anmeldung!$E$19&" / "&Anmeldung!$G$19&" / "&Anmeldung!$J$19,"") | HT6: =IF(AND(12<>39,Anmeldung!$D$19<>"",Anmeldung!$G$19<>Anmeldung!$G$46,(Anmeldung!$B$19&": "&Anmeldung!$D$19&", "&Anmeldung!$E$19&" / "&Anmeldung!$G$19&" / "&Anmeldung!$J$19)<>Anmeldung!$S$46),Anmeldung!$B$19&": "&Anmeldung!$D$19&", "&Anmeldung!$E$19&" / "&Anmeldung!$G$19&" / "&Anmeldung!$J$19,"") | HU6: =IF(AND(12<>39,Anmeldung!$D$19<>"",(Anmeldung!$B$19&": "&Anmeldung!$D$19&", "&Anmeldung!$E$19&" / "&Anmeldung!$G$19&" / "&Anmeldung!$J$19)<>Anmeldung!$R$46),Anmeldung!$B$19&": "&Anmeldung!$D$19&", "&Anmeldung!$E$19&" / "&Anmeldung!$G$19&" / "&Anmeldung!$J$19,"") | HV6: =IF(AND(11<>38,Anmeldung!$D$19<>"",Anmeldung!$U$19="Ja",Anmeldung!$G$19=Anmeldung!$G$46,Anmeldung!$J$19=Anmeldung!$J$46),Anmeldung!$B$19&": "&Anmeldung!$D$19&", "&Anmeldung!$E$19&" / "&Anmeldung!$G$19&" / "&Anmeldung!$J$19,"") | HY6: =IF(AND(12<>40,Anmeldung!$D$19<>"",Anmeldung!$G$19=Anmeldung!$G$47,Anmeldung!$J$19=Anmeldung!$J$47),Anmeldung!$B$19&": "&Anmeldung!$D$19&", "&Anmeldung!$E$19&" / "&Anmeldung!$G$19&" / "&Anmeldung!$J$19,"") | HZ6: =IF(AND(12<>40,Anmeldung!$D$19<>"",Anmeldung!$G$19=Anmeldung!$G$47,Anmeldung!$J$19=Anmeldung!$J$47,(Anmeldung!$B$19&": "&Anmeldung!$D$19&", "&Anmeldung!$E$19&" / "&Anmeldung!$G$19&" / "&Anmeldung!$J$19)<>Anmeldung!$P$47),Anmeldung!$B$19&": "&Anmeldung!$D$19&", "&Anmeldung!$E$19&" / "&Anmeldung!$G$19&" / "&Anmeldung!$J$19,"") | IA6: =IF(AND(12<>40,Anmeldung!$D$19<>"",Anmeldung!$G$19=Anmeldung!$G$47,Anmeldung!$J$19=Anmeldung!$J$47,(Anmeldung!$B$19&": "&Anmeldung!$D$19&", "&Anmeldung!$E$19&" / "&Anmeldung!$G$19&" / "&Anmeldung!$J$19)<>Anmeldung!$O$47),Anmeldung!$B$19&": "&Anmeldung!$D$19&", "&Anmeldung!$E$19&" / "&Anmeldung!$G$19&" / "&Anmeldung!$J$19,"") | IB6: =IF(AND(12<>40,Anmeldung!$D$19<>"",Anmeldung!$G$19<>Anmeldung!$G$47,(Anmeldung!$B$19&": "&Anmeldung!$D$19&", "&Anmeldung!$E$19&" / "&Anmeldung!$G$19&" / "&Anmeldung!$J$19)<>Anmeldung!$S$47),Anmeldung!$B$19&": "&Anmeldung!$D$19&", "&Anmeldung!$E$19&" / "&Anmeldung!$G$19&" / "&Anmeldung!$J$19,"") | IC6: =IF(AND(12<>40,Anmeldung!$D$19<>"",(Anmeldung!$B$19&": "&Anmeldung!$D$19&", "&Anmeldung!$E$19&" / "&Anmeldung!$G$19&" / "&Anmeldung!$J$19)<>Anmeldung!$R$47),Anmeldung!$B$19&": "&Anmeldung!$D$19&", "&Anmeldung!$E$19&" / "&Anmeldung!$G$19&" / "&Anmeldung!$J$19,"") | ID6: =IF(AND(11<>39,Anmeldung!$D$19<>"",Anmeldung!$U$19="Ja",Anmeldung!$G$19=Anmeldung!$G$47,Anmeldung!$J$19=Anmeldung!$J$47),Anmeldung!$B$19&": "&Anmeldung!$D$19&", "&Anmeldung!$E$19&" / "&Anmeldung!$G$19&" / "&Anmeldung!$J$19,"")
